{"text_format":"1","workbook":"xlsx","n_sheets":5,"sheets":["Simulador de Fatura","Tarifas","Faixas","TarifasVelhas","DBresultados"],"not_rendered":{"charts":0,"images":0,"macros":1,"external_links":0,"defined_names":2,"comments":0,"pivot_tables":0},"unopened":[],"bounds":{"document_bytes":16777216,"sheet_cells":100000,"rows_first":2000,"rows_last":500,"rows_between":2000,"halvings":0,"cell_chars":16384,"cell_head_chars":4096},"cells_cut":0,"cells_raw":0,"read":"whole","date_system":"1900"}

{"sheet":"Simulador de Fatura","index":0,"n_rows":6,"n_cols":1,"rows_kept":6,"cut":false,"hidden":false,"merged":[]}
[]
[]
[]
[]
[]
[3]

{"sheet":"Tarifas","index":1,"n_rows":673,"n_cols":14,"rows_kept":673,"cut":false,"hidden":true,"merged":[]}
["Descrip.","Tarifa",null,null,null,null,2022,{"$f":"1.130946673","v":1.130946673},null,1.013721718,null,null,null,"CHECK"]
["Agua - Residencial - 1 - Fixo",{"$f":"E2*$D$2","v":22.005036522141058},null,{"$f":"J1","v":1.013721718},{"$f":"G2*$H$1","v":21.707176764009173},null,19.193811063104985,null,null,null,null,null,19.193811063104985,{"$f":"G2-M2","v":0}]
["Agua - Residencial - 2 - Fixo",{"$f":"E3*$D$2","v":26.185993461347859},null,null,{"$f":"G3*$H$1","v":25.831540349170915},null,22.84063516509493,null,null,null,null,null,22.84063516509493,{"$f":"G3-M3","v":0}]
["Agua - Residencial - 3 - Fixo",31.161332219003953,null,null,30.739533015513388,null,27.180355846462966,null,null,null,null,null,27.180355846462966,0]
["Agua - Residencial - 4 - Fixo",37.0819853406147,null,null,36.580044288460932,null,32.344623457290929,null,null,null,{"$f":"10*B338+B2","v":42.702593762325563},null,32.344623457290929,0]
["Agua - Residencial - 5 - Fixo",44.127562555331494,null,null,43.530252703268509,null,38.490101914176208,null,null,null,42.702593754175304,null,38.490101914176208,0]
["Agua - Residencial - 6 - Fixo",52.511799440844484,null,null,51.801000716889526,null,45.803221277869682,null,null,null,{"$f":"K5-K6","v":8.1502591342541564E-9},null,45.803221277869682,0]
["Agua - Residencial Coletivo 1 - 1 - Fixo",44.010073044282116,null,null,43.414353528018346,null,38.387622126209969,null,null,null,null,null,38.39,-2.377873790031515E-3]
["Agua - Residencial Coletivo 1 - 2 - Fixo",52.371986922695719,null,null,51.66308069834183,null,45.681270330189861,null,null,null,null,null,45.68,1.270330189861113E-3]
["Agua - Residencial Coletivo 1 - 3 - Fixo",62.322664438007905,null,null,61.479066031026775,null,54.360711692925932,null,null,null,null,null,54.36,7.1169292593253886E-4]
["Agua - Residencial Coletivo 1 - 4 - Fixo",74.163970681229401,null,null,73.160088576921865,null,64.689246914581858,null,null,null,null,null,64.69,-7.5308541813967622E-4]
["Agua - Residencial Coletivo 1 - 5 - Fixo",88.255125110662988,null,null,87.060505406537018,null,76.980203828352415,null,null,null,null,null,76.98,2.0382835241150588E-4]
["Agua - Residencial Coletivo 1 - 6 - Fixo",105.02359888168897,null,null,103.60200143377905,null,91.606442555739363,null,null,null,null,null,91.61,-3.557444260636089E-3]
["Agua - Residencial Coletivo 2 - 1 - Fixo",660.15109566423178,null,null,651.21530292027524,null,575.81433189314953,null,null,null,null,null,575.80999999999995,4.3318931495832658E-3]
["Agua - Residencial Coletivo 2 - 2 - Fixo",785.57980384043572,null,null,774.94621047512737,null,685.21905495284784,null,null,null,null,null,685.22,-9.4504715218590718E-4]
["Agua - Residencial Coletivo 2 - 3 - Fixo",934.83996657011835,null,null,922.18599046540146,null,815.41067539388882,null,null,null,null,null,815.41,6.7539388885506924E-4]
["Agua - Residencial Coletivo 2 - 4 - Fixo",1112.4595602184409,null,null,1097.4013286538277,null,970.33870371872763,null,null,null,null,null,970.34,-1.2962812724026662E-3]
["Agua - Residencial Coletivo 2 - 5 - Fixo",1323.8268766599444,null,null,1305.9075810980548,null,1154.7030574252858,null,null,null,null,null,1154.7,3.0574252857604733E-3]
["Agua - Residencial Coletivo 2 - 6 - Fixo",1575.3539832253339,null,null,1554.0300215066852,null,1374.0966383360901,null,null,null,null,null,1374.1,-3.3616639097999723E-3]
["Agua - Residencial Coletivo 3 - 1 - Fixo",1738.3978852491441,null,null,1714.866964356725,null,1516.3110739852939,null,null,null,null,null,1516.31,1.0739852939423145E-3]
["Agua - Residencial Coletivo 3 - 2 - Fixo",2068.693483446481,null,null,2040.6916875845022,null,1804.4101780424994,null,null,null,null,null,1804.41,1.7804249932851235E-4]
["Agua - Residencial Coletivo 3 - 3 - Fixo",2461.745245301312,null,null,2428.4231082255574,null,2147.2481118705741,null,null,null,null,null,2147.25,-1.8881294258790149E-3]
["Agua - Residencial Coletivo 3 - 4 - Fixo",2929.4768419085617,null,null,2889.8234987884139,null,2555.2252531259837,null,null,null,null,null,2555.23,-4.7468740162912582E-3]
["Agua - Residencial Coletivo 3 - 5 - Fixo",3486.077441871189,null,null,3438.8899635582129,null,3040.7180512199207,null,null,null,null,null,3040.72,-1.9487800791466725E-3]
["Agua - Residencial Coletivo 3 - 6 - Fixo",4148.4321558267138,null,null,4092.2790566342719,null,3618.4544809517047,null,null,null,null,null,3618.45,4.4809517048634007E-3]
["Agua - Residencial Coletivo 4 - 1 - Fixo",7855.7980384043576,null,null,7749.4621047512746,null,6852.1905495284791,null,null,null,null,null,6852.19,5.4952847949607531E-4]
["Agua - Residencial Coletivo 4 - 2 - Fixo",9348.3996657011867,null,null,9221.8599046540166,null,8154.1067539388905,null,null,null,null,null,8154.11,-3.2460611091664759E-3]
["Agua - Residencial Coletivo 4 - 3 - Fixo",11124.595602184412,null,null,10974.01328653828,null,9703.3870371872799,null,null,null,null,null,9703.39,-2.9628127194882836E-3]
["Agua - Residencial Coletivo 4 - 4 - Fixo",13238.268766599447,null,null,13059.07581098055,null,11547.03057425286,null,null,null,null,null,11547.03,5.74252859223634E-4]
["Agua - Residencial Coletivo 4 - 5 - Fixo",15753.539832253342,null,null,15540.300215066854,null,13740.966383360903,null,null,null,null,null,13740.97,-3.6166390964353923E-3]
["Agua - Residencial Coletivo 4 - 6 - Fixo",18746.712400381475,null,null,18492.957255929556,null,16351.749996199473,null,null,null,null,null,16351.75,-3.8005273381713778E-6]
["Agua - Social II - 1 - Fixo",8.8020146088564246,null,null,8.6828707056036709,null,7.6775244252419945,null,null,null,null,null,7.68,-2.4755747580051946E-3]
["Agua - Social II - 2 - Fixo",10.474397384539145,null,null,10.332616139668367,null,9.1362540660379725,null,null,null,null,null,9.14,-3.7459339620280474E-3]
["Agua - Social II - 3 - Fixo",12.464532887601582,null,null,12.295813206205356,null,10.872142338585187,null,null,null,null,null,10.87,2.142338585187531E-3]
["Agua - Social II - 4 - Fixo",14.832794136245882,null,null,14.632017715384373,null,12.937849382916372,null,null,null,null,null,12.94,-2.1506170836271821E-3]
["Agua - Social II - 5 - Fixo",17.6510250221326,null,null,17.412101081307405,null,15.396040765670485,null,null,null,null,null,15.4,-3.9592343295158372E-3]
["Agua - Social II - 6 - Fixo",21.004719776337797,null,null,20.720400286755815,null,18.321288511147877,null,null,null,null,null,18.32,1.2885111478766476E-3]
["Agua - Social I - 1 - Fixo",5.5012591305352645,null,null,5.4267941910022932,null,4.7984527657762461,null,null,null,null,null,4.8,-1.5472342237536907E-3]
["Agua - Social I - 2 - Fixo",6.5464983653369648,null,null,6.4578850872927287,null,5.7101587912737326,null,null,null,null,null,5.71,1.5879127373263913E-4]
["Agua - Social I - 3 - Fixo",7.7903330547509881,null,null,7.6848832538783469,null,6.7950889616157415,null,null,null,null,null,6.8,-4.9110383842583261E-3]
["Agua - Social I - 4 - Fixo",9.2704963351536751,null,null,9.1450110721152331,null,8.0861558643227323,null,null,null,null,null,8.09,-3.8441356772676016E-3]
["Agua - Social I - 5 - Fixo",11.031890638832873,null,null,10.882563175817127,null,9.6225254785440519,null,null,null,null,null,9.6199999999999992,2.5254785440527172E-3]
["Agua - Social I - 6 - Fixo",13.127949860211121,null,null,12.950250179222381,null,11.45080531946742,null,null,null,null,null,11.45,8.0531946742112837E-4]
["Agua - Comercial e Serviços - 1 - Fixo",22.005036522141058,null,null,21.707176764009173,null,19.193811063104985,null,null,null,null,null,19.190000000000001,3.8110631049832477E-3]
["Agua - Comercial e Serviços - 2 - Fixo",26.40604382656927,null,null,26.048612116811007,null,23.03257327572598,null,null,null,null,null,23.03,2.5732757259788741E-3]
["Agua - Comercial e Serviços - 3 - Fixo",33.007554783211596,null,null,32.560765146013765,null,28.790716594657479,null,null,null,null,null,28.79,7.1659465747941908E-4]
["Agua - Comercial e Serviços - 4 - Fixo",39.609065739853911,null,null,39.072918175216515,null,34.54885991358897,null,null,null,null,null,34.549999999999997,-1.1400864110271414E-3]
["Agua - Comercial e Serviços - 5 - Fixo",47.530878887824684,null,null,46.887501810259813,null,41.458631896306763,null,null,null,null,null,41.46,-1.368103693238254E-3]
["Agua - Comercial e Serviços - 6 - Fixo",57.037054665389618,null,null,56.265002172311767,null,49.750358275568111,null,null,null,null,null,49.75,3.5827556811085515E-4]
["Agua - Comercial Coletivo 1 - 1 - Fixo",44.010073044282116,null,null,43.414353528018346,null,38.387622126209969,null,null,null,null,null,38.39,-2.377873790031515E-3]
["Agua - Comercial Coletivo 1 - 2 - Fixo",52.812087653138541,null,null,52.097224233622015,null,46.06514655145196,null,null,null,null,null,46.07,-4.8534485480402623E-3]
["Agua - Comercial Coletivo 1 - 3 - Fixo",66.015109566423192,null,null,65.121530292027529,null,57.581433189314957,null,null,null,null,null,57.58,1.4331893149588382E-3]
["Agua - Comercial Coletivo 1 - 4 - Fixo",79.218131479707822,null,null,78.145836350433029,null,69.09771982717794,null,null,null,null,null,69.099999999999994,-2.2801728220542827E-3]
["Agua - Comercial Coletivo 1 - 5 - Fixo",95.061757775649369,null,null,93.775003620519627,null,82.917263792613525,null,null,null,null,null,82.92,-2.736207386476508E-3]
["Agua - Comercial Coletivo 1 - 6 - Fixo",114.07410933077924,null,null,112.53000434462353,null,99.500716551136222,null,null,null,null,null,99.5,7.1655113622171029E-4]
["Agua - Comercial Coletivo 2 - 1 - Fixo",242.0554017435517,null,null,238.77894440410094,null,211.13192169415484,null,null,null,null,null,211.13,1.9216941548449995E-3]
["Agua - Comercial Coletivo 2 - 2 - Fixo",290.46648209226203,null,null,286.53473328492112,null,253.35830603298581,null,null,null,null,null,253.36,-1.6939670142051E-3]
["Agua - Comercial Coletivo 2 - 3 - Fixo",363.0831026153275,null,null,358.16841660615137,null,316.69788254123222,null,null,null,null,null,316.7,-2.1174587677705858E-3]
["Agua - Comercial Coletivo 2 - 4 - Fixo",435.6997231383931,null,null,429.80209992738173,null,380.03745904947874,null,null,null,null,null,380.04,-2.5409505212792283E-3]
["Agua - Comercial Coletivo 2 - 5 - Fixo",522.83966776607167,null,null,515.76251991285801,null,456.04495085937447,null,null,null,null,null,456.04,4.9508593744462814E-3]
["Agua - Comercial Coletivo 2 - 6 - Fixo",627.40760131928596,null,null,618.91502389542961,null,547.25394103124938,null,null,null,null,null,547.25,3.9410312493828314E-3]
["Agua - Comercial Coletivo 3 - 1 - Fixo",2640.6043826569271,null,null,2604.8612116811009,null,2303.2573275725981,null,null,null,null,null,2303.2600000000002,-2.6724274021034944E-3]
["Agua - Comercial Coletivo 3 - 2 - Fixo",3168.725259188313,null,null,3125.8334540173214,null,2763.9087930871178,null,null,null,null,null,2763.91,-1.2069128820257902E-3]
["Agua - Comercial Coletivo 3 - 3 - Fixo",3960.9065739853909,null,null,3907.2918175216514,null,3454.8859913588972,null,null,null,null,null,3454.89,-4.0086411027004942E-3]
["Agua - Comercial Coletivo 3 - 4 - Fixo",4753.0878887824692,null,null,4688.7501810259819,null,4145.863189630677,null,null,null,null,null,4145.8599999999997,3.1896306772978278E-3]
["Agua - Comercial Coletivo 3 - 5 - Fixo",5703.7054665389642,null,null,5626.5002172311788,null,4975.0358275568124,null,null,null,null,null,4975.04,-4.1724431875991286E-3]
["Agua - Comercial Coletivo 3 - 6 - Fixo",{"$f":"E67*$D$2","v":6844.446559846755},null,null,{"$f":"G67*$H$1","v":6751.8002606774135},null,5970.0429930681739,null,null,null,null,null,5970.04,{"$f":"G67-M67","v":2.993068173964275E-3}]
["Agua - Comercial Coletivo 4 - 1 - Fixo",6249.4303722880604,null,null,6164.8382009786046,null,5451.042341921815,null,null,null,null,null,5451.04,2.3419218150593224E-3]
["Agua - Comercial Coletivo 4 - 2 - Fixo",7499.3164467456736,null,null,7397.8058411743268,null,6541.2508103061791,null,null,null,null,null,6541.25,8.1030617911892477E-4]
["Agua - Comercial Coletivo 4 - 3 - Fixo",9374.145558432092,null,null,9247.2573014679092,null,8176.5635128827244,null,null,null,null,null,8176.56,3.5128827239532256E-3]
["Agua - Comercial Coletivo 4 - 4 - Fixo",11248.974670118509,null,null,11096.708761761489,null,9811.8762154592678,null,null,null,null,null,9811.8799999999992,-3.7845407314307522E-3]
["Agua - Comercial Coletivo 4 - 5 - Fixo",13498.76960414221,null,null,13316.050514113786,null,11774.25145855112,null,null,null,null,null,11774.25,1.4585511198674794E-3]
["Agua - Comercial Coletivo 4 - 6 - Fixo",16198.523524970653,null,null,15979.260616936544,null,14129.101750261345,null,null,null,null,null,14129.1,1.7502613445685711E-3]
["Agua - Industrial - 1 - Fixo",48.411080348710335,null,null,47.755788880820184,null,42.226384338830968,null,null,null,null,null,42.23,-3.6156611690287832E-3]
["Agua - Industrial - 2 - Fixo",58.093296418452397,null,null,57.306946656984216,null,50.671661206597157,null,null,null,null,null,50.67,1.6612065971557399E-3]
["Agua - Industrial - 3 - Fixo",69.711955702142888,null,null,68.768335988381068,null,60.805993447916592,null,null,null,null,null,60.81,-4.0065520834104973E-3]
["Agua - Industrial - 4 - Fixo",83.654346842571456,null,null,82.522003186057276,null,72.967192137499907,null,null,null,null,null,72.97,-2.8078625000915736E-3]
["Agua - Industrial - 5 - Fixo",96.202498868957179,null,null,94.900303663965872,null,83.912270958124893,null,null,null,null,null,83.91,2.2709581248960831E-3]
["Agua - Industrial - 6 - Fixo",110.63287369930075,null,null,109.13534921356074,null,96.499111601843623,null,null,null,null,null,96.5,-8.8839815637697939E-4]
["Agua - Poder Público - 1 - Fixo",24.205540174355168,null,null,23.877894440410092,null,21.113192169415484,null,null,null,null,null,21.11,3.1921694154846136E-3]
["Agua - Poder Público - 2 - Fixo",29.046648209226198,null,null,28.653473328492108,null,25.335830603298579,null,null,null,null,null,25.34,-4.1693967014211353E-3]
["Agua - Poder Público - 3 - Fixo",36.30831026153276,null,null,35.816841660615147,null,31.66978825412323,null,null,null,null,null,31.67,-2.1174587677208478E-4]
["Agua - Poder Público - 4 - Fixo",43.569972313839301,null,null,42.980209992738168,null,38.00374590494787,null,null,null,null,null,38,3.7459049478698603E-3]
["Agua - Poder Público - 5 - Fixo",50.105468160915194,null,null,49.427241491648886,null,43.704307790690045,null,null,null,null,null,43.7,4.3077906900421681E-3]
["Agua - Poder Público - 6 - Fixo",57.621288385052466,null,null,56.841327715396218,null,50.259953959293554,null,null,null,null,null,50.26,-4.6040706443761792E-5]
["CAT - Residencial - 1 - Fixo",17.607763412178159,null,null,17.369425059687,null,15.358305987683824,null,null,null,null,null,15.358305987683824,0]
["CAT - Residencial - 2 - Fixo",20.944365847275087,null,null,20.660863307335283,null,18.268645021545844,null,null,null,null,null,18.268645021545844,0]
["CAT - Residencial - 3 - Fixo",24.930793475724219,null,null,24.593330726810194,null,21.745791657508324,null,null,null,null,null,21.745791657508324,0]
["CAT - Residencial - 4 - Fixo",29.667019404195134,null,null,29.265447190700449,null,25.876947065125194,null,null,null,null,null,25.876947065125194,0]
["CAT - Residencial - 5 - Fixo",35.303003292692196,null,null,34.825142507889126,null,30.792912998727328,null,null,null,null,null,30.792912998727328,0]
["CAT - Residencial - 6 - Fixo",42.013698077887135,null,null,41.445001455406455,null,36.646291505034078,null,null,null,null,null,36.646291505034078,0]
["CAT - Residencial Coletivo 1 - 1 - Fixo",35.203030186022623,null,null,34.726522635300412,null,30.70571182917341,null,null,null,null,null,30.71,-4.2881708265909424E-3]
["CAT - Residencial Coletivo 1 - 2 - Fixo",41.901228332883861,null,null,41.334054098744147,null,36.548190189285918,null,null,null,null,null,36.549999999999997,-1.8098107140787079E-3]
["CAT - Residencial Coletivo 1 - 3 - Fixo",49.861586951448437,null,null,49.186661453620388,null,43.491583315016648,null,null,null,null,null,43.49,1.5833150166457699E-3]
["CAT - Residencial Coletivo 1 - 4 - Fixo",59.334038808390268,null,null,58.530894381400898,null,51.753894130250387,null,null,null,null,null,51.75,3.8941302503872066E-3]
["CAT - Residencial Coletivo 1 - 5 - Fixo",70.606006585384392,null,null,69.650285015778252,null,61.585825997454656,null,null,null,null,null,61.59,-4.1740025453478324E-3]
["CAT - Residencial Coletivo 1 - 6 - Fixo",84.014899517440583,null,null,82.87767542673933,null,73.281682863873925,null,null,null,null,null,73.28,1.6828638739241342E-3]
["CAT - Residencial Coletivo 2 - 1 - Fixo",528.12043262034149,null,null,520.97180443394768,null,460.65107831476655,null,null,null,null,null,460.65,1.078314766573385E-3]
["CAT - Residencial Coletivo 2 - 2 - Fixo",628.46843843992315,null,null,619.96150154486793,null,548.17925225451188,null,null,null,null,null,548.17999999999995,-7.4774548806999519E-4]
["CAT - Residencial Coletivo 2 - 3 - Fixo",747.87381771839182,null,null,737.75061186801156,null,652.33014914047283,null,null,null,null,null,652.33000000000004,1.4914047278580256E-4]
["CAT - Residencial Coletivo 2 - 4 - Fixo",889.97309221085288,null,null,877.92643326879272,null,776.27571151517304,null,null,null,null,null,776.28,-4.2884848269295617E-3]
["CAT - Residencial Coletivo 2 - 5 - Fixo",1059.065105504098,null,null,1044.7296202685263,null,923.76558966943128,null,null,null,null,null,923.77,-4.4103305687031025E-3]
["CAT - Residencial Coletivo 2 - 6 - Fixo",1260.2859759532769,null,null,1243.2267688214577,null,1099.2797436890799,null,null,null,null,null,1099.28,-2.5631092012190493E-4]
["CAT - Residencial Coletivo 3 - 1 - Fixo",1390.7133902420655,null,null,1371.8887200975066,null,1213.0445695183603,null,null,null,null,null,1213.04,4.5695183603129408E-3]
["CAT - Residencial Coletivo 3 - 2 - Fixo",1654.954807808075,null,null,1632.5533708335477,null,1443.5281607955601,null,null,null,null,null,1443.53,-1.839204439875175E-3]
["CAT - Residencial Coletivo 3 - 3 - Fixo",1969.3952215605427,null,null,1942.7375250931959,null,1717.7976393350211,null,null,null,null,null,1717.8,-2.360664978823479E-3]
["CAT - Residencial Coletivo 3 - 4 - Fixo",2343.5820631864121,null,null,2311.8593807086731,null,2044.1807168291421,null,null,null,null,null,2044.18,7.1682914199300285E-4]
["CAT - Residencial Coletivo 3 - 5 - Fixo",2788.8622802926807,null,null,2751.1122932187991,null,2432.5747260222934,null,null,null,null,null,2432.5700000000002,4.7260222931981843E-3]
["CAT - Residencial Coletivo 3 - 6 - Fixo",3318.7447389180734,null,null,3273.8222729071226,null,2894.7627249504476,null,null,null,null,null,2894.76,2.7249504473729758E-3]
["CAT - Residencial Coletivo 4 - 1 - Fixo",6284.6343978458972,null,null,6199.5657055123856,null,5481.7489219603422,null,null,null,null,null,5481.75,-1.0780396578411455E-3]
["CAT - Residencial Coletivo 4 - 2 - Fixo",7478.7256805455845,null,null,7377.4937911960415,null,6523.2905912585338,null,null,null,null,null,6523.29,5.9125853385921801E-4]
["CAT - Residencial Coletivo 4 - 3 - Fixo",8899.6809355551941,null,null,8779.2150227516322,null,7762.7135145669536,null,null,null,null,null,7762.71,3.5145669535268098E-3]
["CAT - Residencial Coletivo 4 - 4 - Fixo",10590.613565125981,null,null,10447.259220233043,null,9237.6231962557304,null,null,null,null,null,9237.6200000000008,3.1962557295628358E-3]
["CAT - Residencial Coletivo 4 - 5 - Fixo",12602.834766256101,null,null,12432.243033246428,null,10992.77563659841,null,null,null,null,null,10992.78,-4.3634015910356538E-3]
["CAT - Residencial Coletivo 4 - 6 - Fixo",14997.365623928996,null,null,14794.361566523126,null,13081.39624946147,null,null,null,null,null,13081.4,-3.7505385298572946E-3]
["CAT - Social II - 1 - Fixo",7.0356073818710447,null,null,6.9403735334306456,null,6.1367823073569854,null,null,null,null,null,6.14,-3.2176926430143027E-3]
["CAT - Social II - 2 - Fixo",8.3852443219102515,null,null,8.2717418133782665,null,7.3139980963348803,null,null,null,null,null,7.31,3.9980963348806853E-3]
["CAT - Social II - 3 - Fixo",9.9723173902896889,null,null,9.8373322907240794,null,8.6983166630033306,null,null,null,null,null,8.6999999999999993,-1.6833369966686718E-3]
["CAT - Social II - 4 - Fixo",11.871806417011532,null,null,11.711109869909617,null,10.355138884527774,null,null,null,null,null,10.36,-4.8611154722255634E-3]
["CAT - Social II - 5 - Fixo",14.121201317076876,null,null,13.93005700315565,null,12.317165199490931,null,null,null,null,null,12.32,-2.8348005090688133E-3]
["CAT - Social II - 6 - Fixo",16.807978558821588,null,null,16.580466078977295,null,14.660696631252478,null,null,null,null,null,14.66,6.9663125247743096E-4]
["CAT - Social I - 1 - Fixo",4.3988166934611153,null,null,4.3392743939033522,null,3.836851460372396,null,null,null,null,null,3.84,-3.1485396276038635E-3]
["CAT - Social I - 2 - Fixo",5.2360914618187717,null,null,5.1652158268338209,null,4.5671612553864609,null,null,null,null,null,4.57,-2.8387446135393901E-3]
["CAT - Social I - 3 - Fixo",6.235822528514479,null,null,6.1514145527209463,null,5.4391729509256415,null,null,null,null,null,5.44,-8.2704907435893205E-4]
["CAT - Social I - 4 - Fixo",7.4105065318819348,null,null,7.3101980556383177,null,6.4637866931841783,null,null,null,null,null,6.46,3.7866931841783469E-3]
["CAT - Social I - 5 - Fixo",8.822626663589622,null,null,8.7032037559538828,null,7.6955032131332715,null,null,null,null,null,7.7,-4.4967868667287192E-3]
["CAT - Social I - 6 - Fixo",10.497176200304935,null,null,10.35508662181482,null,9.1561228031614004,null,null,null,null,null,9.16,-3.8771968385997724E-3]
["CAT - Comercial e Serviços - 1 - Fixo",22.005036522141058,null,null,21.707176764009173,null,19.193811063104985,null,null,null,null,null,19.190000000000001,3.8110631049832477E-3]
["CAT - Comercial e Serviços - 2 - Fixo",26.40604382656927,null,null,26.048612116811007,null,23.03257327572598,null,null,null,null,null,23.03,2.5732757259788741E-3]
["CAT - Comercial e Serviços - 3 - Fixo",33.007554783211596,null,null,32.560765146013765,null,28.790716594657479,null,null,null,null,null,28.79,7.1659465747941908E-4]
["CAT - Comercial e Serviços - 4 - Fixo",{"$f":"E131*$D$2","v":39.609065739853911},null,null,{"$f":"G131*$H$1","v":39.072918175216515},null,34.54885991358897,null,null,null,null,null,34.549999999999997,{"$f":"G131-M131","v":-1.1400864110271414E-3}]
["CAT - Comercial e Serviços - 5 - Fixo",47.530878887824684,null,null,46.887501810259813,null,41.458631896306763,null,null,null,null,null,41.46,-1.368103693238254E-3]
["CAT - Comercial e Serviços - 6 - Fixo",57.037054665389618,null,null,56.265002172311767,null,49.750358275568111,null,null,null,null,null,49.75,3.5827556811085515E-4]
["CAT - Comercial Coletivo 1 - 1 - Fixo",44.010073044282116,null,null,43.414353528018346,null,38.387622126209969,null,null,null,null,null,38.39,-2.377873790031515E-3]
["CAT - Comercial Coletivo 1 - 2 - Fixo",52.812087653138541,null,null,52.097224233622015,null,46.06514655145196,null,null,null,null,null,46.07,-4.8534485480402623E-3]
["CAT - Comercial Coletivo 1 - 3 - Fixo",66.015109566423192,null,null,65.121530292027529,null,57.581433189314957,null,null,null,null,null,57.58,1.4331893149588382E-3]
["CAT - Comercial Coletivo 1 - 4 - Fixo",79.218131479707822,null,null,78.145836350433029,null,69.09771982717794,null,null,null,null,null,69.099999999999994,-2.2801728220542827E-3]
["CAT - Comercial Coletivo 1 - 5 - Fixo",95.061757775649369,null,null,93.775003620519627,null,82.917263792613525,null,null,null,null,null,82.92,-2.736207386476508E-3]
["CAT - Comercial Coletivo 1 - 6 - Fixo",114.07410933077924,null,null,112.53000434462353,null,99.500716551136222,null,null,null,null,null,99.5,7.1655113622171029E-4]
["CAT - Comercial Coletivo 2 - 1 - Fixo",242.0554017435517,null,null,238.77894440410094,null,211.13192169415484,null,null,null,null,null,211.13,1.9216941548449995E-3]
["CAT - Comercial Coletivo 2 - 2 - Fixo",290.46648209226203,null,null,286.53473328492112,null,253.35830603298581,null,null,null,null,null,253.36,-1.6939670142051E-3]
["CAT - Comercial Coletivo 2 - 3 - Fixo",363.0831026153275,null,null,358.16841660615137,null,316.69788254123222,null,null,null,null,null,316.7,-2.1174587677705858E-3]
["CAT - Comercial Coletivo 2 - 4 - Fixo",435.6997231383931,null,null,429.80209992738173,null,380.03745904947874,null,null,null,null,null,380.04,-2.5409505212792283E-3]
["CAT - Comercial Coletivo 2 - 5 - Fixo",522.83966776607167,null,null,515.76251991285801,null,456.04495085937447,null,null,null,null,null,456.04,4.9508593744462814E-3]
["CAT - Comercial Coletivo 2 - 6 - Fixo",627.40760131928596,null,null,618.91502389542961,null,547.25394103124938,null,null,null,null,null,547.25,3.9410312493828314E-3]
["CAT - Comercial Coletivo 3 - 1 - Fixo",2640.6043826569271,null,null,2604.8612116811009,null,2303.2573275725981,null,null,null,null,null,2303.2600000000002,-2.6724274021034944E-3]
["CAT - Comercial Coletivo 3 - 2 - Fixo",3168.725259188313,null,null,3125.8334540173214,null,2763.9087930871178,null,null,null,null,null,2763.91,-1.2069128820257902E-3]
["CAT - Comercial Coletivo 3 - 3 - Fixo",3960.9065739853909,null,null,3907.2918175216514,null,3454.8859913588972,null,null,null,null,null,3454.89,-4.0086411027004942E-3]
["CAT - Comercial Coletivo 3 - 4 - Fixo",4753.0878887824692,null,null,4688.7501810259819,null,4145.863189630677,null,null,null,null,null,4145.8599999999997,3.1896306772978278E-3]
["CAT - Comercial Coletivo 3 - 5 - Fixo",5703.7054665389642,null,null,5626.5002172311788,null,4975.0358275568124,null,null,null,null,null,4975.04,-4.1724431875991286E-3]
["CAT - Comercial Coletivo 3 - 6 - Fixo",6844.446559846755,null,null,6751.8002606774135,null,5970.0429930681739,null,null,null,null,null,5970.04,2.993068173964275E-3]
["CAT - Comercial Coletivo 4 - 1 - Fixo",6249.4303722880604,null,null,6164.8382009786046,null,5451.042341921815,null,null,null,null,null,5451.04,2.3419218150593224E-3]
["CAT - Comercial Coletivo 4 - 2 - Fixo",7499.3164467456736,null,null,7397.8058411743268,null,6541.2508103061791,null,null,null,null,null,6541.25,8.1030617911892477E-4]
["CAT - Comercial Coletivo 4 - 3 - Fixo",9374.145558432092,null,null,9247.2573014679092,null,8176.5635128827244,null,null,null,null,null,8176.56,3.5128827239532256E-3]
["CAT - Comercial Coletivo 4 - 4 - Fixo",11248.974670118509,null,null,11096.708761761489,null,9811.8762154592678,null,null,null,null,null,9811.8799999999992,-3.7845407314307522E-3]
["CAT - Comercial Coletivo 4 - 5 - Fixo",13498.76960414221,null,null,13316.050514113786,null,11774.25145855112,null,null,null,null,null,11774.25,1.4585511198674794E-3]
["CAT - Comercial Coletivo 4 - 6 - Fixo",16198.523524970653,null,null,15979.260616936544,null,14129.101750261345,null,null,null,null,null,14129.1,1.7502613445685711E-3]
["CAT - Industrial - 1 - Fixo",48.411080348710335,null,null,47.755788880820184,null,42.226384338830968,null,null,null,null,null,42.23,-3.6156611690287832E-3]
["CAT - Industrial - 2 - Fixo",58.093296418452397,null,null,57.306946656984216,null,50.671661206597157,null,null,null,null,null,50.67,1.6612065971557399E-3]
["CAT - Industrial - 3 - Fixo",69.711955702142888,null,null,68.768335988381068,null,60.805993447916592,null,null,null,null,null,60.81,-4.0065520834104973E-3]
["CAT - Industrial - 4 - Fixo",83.654346842571456,null,null,82.522003186057276,null,72.967192137499907,null,null,null,null,null,72.97,-2.8078625000915736E-3]
["CAT - Industrial - 5 - Fixo",96.202498868957179,null,null,94.900303663965872,null,83.912270958124893,null,null,null,null,null,83.91,2.2709581248960831E-3]
["CAT - Industrial - 6 - Fixo",110.63287369930075,null,null,109.13534921356074,null,96.499111601843623,null,null,null,null,null,96.5,-8.8839815637697939E-4]
["CAT - Poder Público - 1 - Fixo",24.205540174355168,null,null,23.877894440410092,null,21.113192169415484,null,null,null,null,null,21.11,3.1921694154846136E-3]
["CAT - Poder Público - 2 - Fixo",29.046648209226198,null,null,28.653473328492108,null,25.335830603298579,null,null,null,null,null,25.34,-4.1693967014211353E-3]
["CAT - Poder Público - 3 - Fixo",36.30831026153276,null,null,35.816841660615147,null,31.66978825412323,null,null,null,null,null,31.67,-2.1174587677208478E-4]
["CAT - Poder Público - 4 - Fixo",43.569972313839301,null,null,42.980209992738168,null,38.00374590494787,null,null,null,null,null,38,3.7459049478698603E-3]
["CAT - Poder Público - 5 - Fixo",50.105468160915194,null,null,49.427241491648886,null,43.704307790690045,null,null,null,null,null,43.7,4.3077906900421681E-3]
["CAT - Poder Público - 6 - Fixo",57.621288385052466,null,null,56.841327715396218,null,50.259953959293554,null,null,null,null,null,50.26,-4.6040706443761792E-5]
["CA - Residencial - 1 - Fixo",13.421389570389881,null,null,13.239717895034662,null,11.706757012613505,null,null,null,null,null,11.71,-3.2429873864963099E-3]
["CA - Residencial - 2 - Fixo",15.970703790463935,null,null,15.75452464604683,null,13.930386836238414,null,null,null,null,null,13.93,3.8683623841428982E-4]
["CA - Residencial - 3 - Fixo",19.007386905552149,null,null,18.750103275928975,null,16.579122361438678,null,null,null,null,null,16.579999999999998,-8.7763856132028195E-4]
["CA - Residencial - 4 - Fixo",22.618915383990394,null,null,22.312746173196217,null,19.729264611573971,null,null,null,null,null,19.73,-7.3538842602971499E-4]
["CA - Residencial - 5 - Fixo",26.917758970781939,null,null,26.553400694510856,null,23.478914902392447,null,null,null,null,null,23.48,-1.0850976075538199E-3]
["CA - Residencial - 6 - Fixo",32.028884049263745,null,null,31.595341680608783,null,27.937074695836507,null,null,null,null,null,27.94,-2.9253041634937915E-3]
["CA - Residencial Coletivo 1 - 1 - Fixo",26.842779140779761,null,null,26.479435790069324,null,23.413514025227009,null,null,null,null,null,23.41,3.5140252270089434E-3]
["CA - Residencial Coletivo 1 - 2 - Fixo",31.941407580927869,null,null,31.50904929209366,null,27.860773672476828,null,null,null,null,null,27.86,7.7367247682857965E-4]
["CA - Residencial Coletivo 1 - 3 - Fixo",38.014773811104298,null,null,37.50020655185795,null,33.158244722877356,null,null,null,null,null,33.159999999999997,-1.7552771226405639E-3]
["CA - Residencial Coletivo 1 - 4 - Fixo",45.237830767980789,null,null,44.625492346392434,null,39.458529223147941,null,null,null,null,null,39.46,-1.47077685205943E-3]
["CA - Residencial Coletivo 1 - 5 - Fixo",53.835517941563879,null,null,53.106801389021712,null,46.957829804784893,null,null,null,null,null,46.96,-2.1701952151076398E-3]
["CA - Residencial Coletivo 1 - 6 - Fixo",64.070264736861191,null,null,63.203010845291161,null,55.88504953786726,null,null,null,null,null,55.89,-4.9504621327400855E-3]
["CA - Residencial Coletivo 2 - 1 - Fixo",402.6916736650312,null,null,397.24084678733419,null,351.24631096318211,null,null,null,null,null,351.25,-3.6890368178887911E-3]
["CA - Residencial Coletivo 2 - 2 - Fixo",479.20859018225394,null,null,472.72203176992008,null,417.98790611051214,null,null,null,null,null,417.99,-2.0938894878668179E-3]
["CA - Residencial Coletivo 2 - 3 - Fixo",570.24660044323184,null,null,562.52775324601646,null,497.3954711355488,null,null,null,null,null,497.4,-4.5288644511742859E-3]
["CA - Residencial Coletivo 2 - 4 - Fixo",678.60495143471292,null,null,669.41936764810725,null,591.91063878580178,null,null,null,null,null,591.91,6.3878580181153666E-4]
["CA - Residencial Coletivo 2 - 5 - Fixo",807.53276912345814,null,null,796.60202083532567,null,704.36744707177343,null,null,null,null,null,704.37,-2.5529282265779329E-3]
["CA - Residencial Coletivo 2 - 6 - Fixo",960.96649458458205,null,null,947.95887029085236,null,838.19944204464923,null,null,null,null,null,838.2,-5.5795535081415437E-4]
["CA - Residencial Coletivo 3 - 1 - Fixo",1060.427239082471,null,null,1046.0733160325476,null,924.95370560460344,null,null,null,null,null,924.95,3.7056046033967505E-3]
["CA - Residencial Coletivo 3 - 2 - Fixo",1261.8980422983236,null,null,1244.8170142669505,null,1100.6858625481368,null,null,null,null,null,1100.69,-4.1374518632437685E-3]
["CA - Residencial Coletivo 3 - 3 - Fixo",1501.6585453686218,null,null,1481.3321237028306,null,1309.816067430821,null,null,null,null,null,1309.82,-3.9325691789144912E-3]
["CA - Residencial Coletivo 3 - 4 - Fixo",1786.9817918035772,null,null,1762.7932400710163,null,1558.6882053377033,null,null,null,null,null,1558.69,-1.7946622967883741E-3]
["CA - Residencial Coletivo 3 - 5 - Fixo",2126.5029586917731,null,null,2097.7186548663576,null,1854.8342772890032,null,null,null,null,null,1854.83,4.2772890033120348E-3]
["CA - Residencial Coletivo 3 - 6 - Fixo",2530.5442692968436,null,null,2496.2908699336394,null,2207.2578040411631,null,null,null,null,null,2207.2600000000002,-2.1959588370918937E-3]
["CA - Residencial Coletivo 4 - 1 - Fixo",4792.0359152692045,null,null,4727.1710077629059,null,4179.835460520344,null,null,null,null,null,4179.84,-4.5394796561595285E-3]
["CA - Residencial Coletivo 4 - 2 - Fixo",{"$f":"E195*$D$2","v":5702.5284876239875},null,null,{"$f":"G195*$H$1","v":5625.3391698805326},null,4974.0092120864592,null,null,null,null,null,4974.01,{"$f":"G195-M195","v":-7.8791354098939337E-4}]
["CA - Residencial Coletivo 4 - 3 - Fixo",6785.9995277937951,null,null,6694.1443665447787,null,5919.0627872732412,null,null,null,null,null,5919.06,2.7872732407558942E-3]
["CA - Residencial Coletivo 4 - 4 - Fixo",8075.3401878729146,null,null,7966.0325358373302,null,7043.6853708639283,null,null,null,null,null,7043.69,-4.6291360713439644E-3]
["CA - Residencial Coletivo 4 - 5 - Fixo",9609.6649458458196,null,null,9479.5887029085225,null,8381.9944204464919,null,null,null,null,null,8381.99,4.420446492076735E-3]
["CA - Residencial Coletivo 4 - 6 - Fixo",11435.49878622886,null,null,11280.708090964328,null,9974.5711803020877,null,null,null,null,null,9974.57,1.180302087959717E-3]
["CA - Social II - 1 - Fixo",5.3735544834894311,null,null,5.3008181516433002,null,4.6870628635230975,null,null,null,null,null,4.6900000000000004,-2.9371364769028574E-3]
["CA - Social II - 2 - Fixo",6.3857821885188351,null,null,6.2993443616040148,null,5.5699747052565183,null,null,null,null,null,5.57,-2.529474348200722E-5]
["CA - Social II - 3 - Fixo",7.5979561068873807,null,null,7.4951103167421538,null,6.6272888860977748,null,null,null,null,null,6.63,-2.7111139022251152E-3]
["CA - Social II - 4 - Fixo",9.0475661535961578,null,null,8.9250984692784865,null,7.8917058446295876,null,null,null,null,null,7.89,1.7058446295878937E-3]
["CA - Social II - 5 - Fixo",10.772102243646252,null,null,10.626291271433777,null,9.3959260194346736,null,null,null,null,null,9.4,-4.0739805653267069E-3]
["CA - Social II - 6 - Fixo",12.809054292038757,null,null,12.635671175428795,null,11.172649849095755,null,null,null,null,null,11.17,2.6498490957553855E-3]
["CA - Social I - 1 - Fixo",3.361595711764318,null,null,3.3160932157954597,null,2.9321393262504958,null,null,null,null,null,2.93,2.1393262504956212E-3]
["CA - Social I - 2 - Fixo",3.9989242667828324,null,null,3.9447949035485026,null,3.488046782156724,null,null,null,null,null,3.49,-1.9532178432761782E-3]
["CA - Social I - 3 - Fixo",4.7487225668046129,null,null,4.684443947963846,null,4.142055553811109,null,null,null,null,null,4.1399999999999997,2.0555538111093341E-3]
["CA - Social I - 4 - Fixo",5.6609771651644456,null,null,5.584350285335848,null,4.9377662259906119,null,null,null,null,null,4.9400000000000004,-2.2337740093885117E-3]
["CA - Social I - 5 - Fixo",6.7356880618623318,null,null,6.6445139156645077,null,5.8751787986952309,null,null,null,null,null,5.88,-4.8212013047690405E-3]
["CA - Social I - 6 - Fixo",8.0103451718993597,null,null,7.9019172911705935,null,6.9869937105076874,null,null,null,null,null,6.99,-3.0062894923128525E-3]
["CA - Comercial e Serviços - 1 - Fixo",13.421389570389881,null,null,13.239717895034662,null,11.706757012613505,null,null,null,null,null,11.71,-3.2429873864963099E-3]
["CA - Comercial e Serviços - 2 - Fixo",16.108166812134595,null,null,15.890126970856311,null,14.050288444375052,null,null,null,null,null,14.05,2.8844437505171072E-4]
["CA - Comercial e Serviços - 3 - Fixo",20.132084355584819,null,null,19.859576842551991,null,17.560135518920255,null,null,null,null,null,17.559999999999999,1.3551892025631673E-4]
["CA - Comercial e Serviços - 4 - Fixo",24.156001899035044,null,null,23.829026714247671,null,21.069982593465458,null,null,null,null,null,21.07,-1.740653454262997E-5]
["CA - Comercial e Serviços - 5 - Fixo",28.992200934175532,null,null,28.59976305072664,null,25.288339170636245,null,null,null,null,null,25.29,-1.6608293637538907E-3]
["CA - Comercial e Serviços - 6 - Fixo",34.790641121010637,null,null,34.319715660871971,null,30.346007004763496,null,null,null,null,null,30.35,-3.9929952365049814E-3]
["CA - Comercial Coletivo 1 - 1 - Fixo",26.842779140779761,null,null,26.479435790069324,null,23.413514025227009,null,null,null,null,null,23.41,3.5140252270089434E-3]
["CA - Comercial Coletivo 1 - 2 - Fixo",32.21633362426919,null,null,31.780253941712623,null,28.100576888750105,null,null,null,null,null,28.1,5.7688875010342144E-4]
["CA - Comercial Coletivo 1 - 3 - Fixo",40.264168711169638,null,null,39.719153685103983,null,35.12027103784051,null,null,null,null,null,35.119999999999997,2.7103784051263347E-4]
["CA - Comercial Coletivo 1 - 4 - Fixo",48.324500436403788,null,null,47.670380912568938,null,42.150865333125161,null,null,null,null,null,42.15,8.6533312516223759E-4]
["CA - Comercial Coletivo 1 - 5 - Fixo",57.984401868351064,null,null,57.19952610145328,null,50.576678341272491,null,null,null,null,null,50.58,-3.3216587275077814E-3]
["CA - Comercial Coletivo 1 - 6 - Fixo",69.581282242021274,null,null,68.639431321743942,null,60.692014009526993,null,null,null,null,null,60.69,2.014009526995153E-3]
["CA - Comercial Coletivo 2 - 1 - Fixo",147.64778191262238,null,null,145.64922432945485,null,128.78522728494278,null,null,null,null,null,128.79,-4.7727150572143273E-3]
["CA - Comercial Coletivo 2 - 2 - Fixo",177.18983493348054,null,null,174.79139667941942,null,154.55317288812557,null,null,null,null,null,154.55000000000001,3.1728881255617125E-3]
["CA - Comercial Coletivo 2 - 3 - Fixo",221.4779211881004,null,null,218.48000023621907,null,193.18329100051128,null,null,null,null,null,193.18,3.2910005112682938E-3]
["CA - Comercial Coletivo 2 - 4 - Fixo",265.77850408105394,null,null,262.18093127709233,null,231.82430925909125,null,null,null,null,null,231.82,4.3092590912578999E-3]
["CA - Comercial Coletivo 2 - 5 - Fixo",318.92670691426457,null,null,314.60972104206667,null,278.18263102319298,null,null,null,null,null,278.18,2.6310231929755901E-3]
["CA - Comercial Coletivo 2 - 6 - Fixo",382.72204560778442,null,null,377.54152723773888,null,333.82787734478694,null,null,null,null,null,333.83,-2.12265521304289E-3]
["CA - Comercial Coletivo 3 - 1 - Fixo",1610.7666946601248,null,null,1588.9633871493368,null,1404.9852438527284,null,null,null,null,null,1404.99,-4.7561472715642594E-3]
["CA - Comercial Coletivo 3 - 2 - Fixo",1932.9175342644828,null,null,1906.7535990823892,null,1685.9801125940351,null,null,null,null,null,1685.98,1.1259403504482179E-4]
["CA - Comercial Coletivo 3 - 3 - Fixo",2416.1500419901872,null,null,2383.445080724005,null,2107.4778657790926,null,null,null,null,null,2107.48,-2.1342209074646235E-3]
["CA - Comercial Coletivo 3 - 4 - Fixo",2899.3825497158909,null,null,2860.1365623656206,null,2528.9756189641498,null,null,null,null,null,2528.98,-4.3810358502014424E-3]
["CA - Comercial Coletivo 3 - 5 - Fixo",3479.2640583144025,null,null,3432.1688058323739,null,3034.7751028154571,null,null,null,null,null,3034.78,-4.8971845430969552E-3]
["CA - Comercial Coletivo 3 - 6 - Fixo",4175.1143706496168,null,null,4118.6001015020347,null,3641.72794334931,null,null,null,null,null,3641.73,-2.0566506900649983E-3]
["CA - Comercial Coletivo 4 - 1 - Fixo",3812.1495102474064,null,null,3760.5483265846401,null,3325.1331971376162,null,null,null,null,null,3325.13,3.197137616098189E-3]
["CA - Comercial Coletivo 4 - 2 - Fixo",4574.5819116245539,null,null,4512.6604573983823,null,3990.1620165943782,null,null,null,null,null,3990.16,2.016594378346781E-3]
["CA - Comercial Coletivo 4 - 3 - Fixo",5718.2242653711101,null,null,5640.8224898769604,null,4987.699795706425,null,null,null,null,null,4987.7,-2.0429357482498745E-4]
["CA - Comercial Coletivo 4 - 4 - Fixo",6861.8791157559972,null,null,6768.9968498396101,null,5985.2484749646637,null,null,null,null,null,5985.25,-1.5250353362716851E-3]
["CA - Comercial Coletivo 4 - 5 - Fixo",8234.2474409241986,null,null,8122.7888233170888,null,7182.291629869881,null,null,null,null,null,7182.29,1.6298698810714995E-3]
["CA - Comercial Coletivo 4 - 6 - Fixo",9881.1044270920374,null,null,9747.3539844709503,null,8618.7564959315732,null,null,null,null,null,8618.76,-3.5040684269915801E-3]
["CA - Industrial - 1 - Fixo",29.529556382524476,null,null,29.129844865890973,null,25.757045456988557,null,null,null,null,null,25.76,-2.9545430114445992E-3]
["CA - Industrial - 2 - Fixo",35.440466314362851,null,null,34.960744832698602,null,30.912814606863964,null,null,null,null,null,30.91,2.8146068639642863E-3]
["CA - Industrial - 3 - Fixo",42.52606024956868,null,null,41.950428302423603,null,37.09319749899791,null,null,null,null,null,37.090000000000003,3.1974989979062229E-3]
["CA - Industrial - 4 - Fixo",51.023774316482204,null,null,50.333117472464174,null,44.505296911080947,null,null,null,null,null,44.51,-4.7030889190509129E-3]
["CA - Industrial - 5 - Fixo",58.684213615038054,null,null,57.889865209574268,null,51.187086528149919,null,null,null,null,null,51.19,-2.9134718500785084E-3]
["CA - Industrial - 6 - Fixo",67.48184700196029,null,null,66.568413997380972,null,58.860789448894714,null,null,null,null,null,58.86,7.8944889471443958E-4]
["CA - Poder Público - 1 - Fixo",14.771026510429087,null,null,14.57108617498228,null,12.883972801591398,null,null,null,null,null,12.88,3.9728015913969017E-3]
["CA - Poder Público - 2 - Fixo",17.720233157181426,null,null,17.480372416349301,null,15.456407303431982,null,null,null,null,null,15.46,-3.5926965680186385E-3]
["CA - Poder Público - 3 - Fixo",22.144043127309928,null,null,21.844301778399828,null,19.315059056192855,null,null,null,null,null,19.32,-4.9409438071457146E-3]
["CA - Poder Público - 4 - Fixo",26.580349735772135,null,null,26.220558624523949,null,23.184610955147971,null,null,null,null,null,23.18,4.610955147970941E-3]
["CA - Poder Público - 5 - Fixo",30.566777364221274,null,null,30.153026043998867,null,26.661757591110458,null,null,null,null,null,26.66,1.7575911104579234E-3]
["CA - Poder Público - 6 - Fixo",35.153043632687833,null,null,34.677212699006056,null,30.662111244396449,null,null,null,null,null,30.66,2.1112443964490524E-3]
["Disp - Residencial - 1 - Fixo",17.607763412178159,null,null,17.369425059687,null,15.358305987683824,null,null,null,null,null,15.36,-1.6940123161752751E-3]
["Disp - Residencial - 2 - Fixo",20.944365847275087,null,null,20.660863307335283,null,18.268645021545844,null,null,null,null,null,18.27,-1.3549784541559973E-3]
["Disp - Residencial - 3 - Fixo",24.930793475724219,null,null,24.593330726810194,null,21.745791657508324,null,null,null,null,null,21.75,-4.2083424916761203E-3]
["Disp - Residencial - 4 - Fixo",29.667019404195134,null,null,29.265447190700449,null,25.876947065125194,null,null,null,null,null,25.88,-3.0529348748054019E-3]
["Disp - Residencial - 5 - Fixo",35.303003292692196,null,null,34.825142507889126,null,30.792912998727328,null,null,null,null,null,30.79,2.9129987273286417E-3]
["Disp - Residencial - 6 - Fixo",{"$f":"E259*$D$2","v":42.013698077887135},null,null,{"$f":"G259*$H$1","v":41.445001455406455},null,36.646291505034078,null,null,null,null,null,36.65,{"$f":"G259-M259","v":-3.7084949659202948E-3}]
["Disp - Residencial Coletivo 1 - 1 - Fixo",35.203030186022623,null,null,34.726522635300412,null,30.70571182917341,null,null,null,null,null,30.71,-4.2881708265909424E-3]
["Disp - Residencial Coletivo 1 - 2 - Fixo",41.901228332883861,null,null,41.334054098744147,null,36.548190189285918,null,null,null,null,null,36.549999999999997,-1.8098107140787079E-3]
["Disp - Residencial Coletivo 1 - 3 - Fixo",49.861586951448437,null,null,49.186661453620388,null,43.491583315016648,null,null,null,null,null,43.49,1.5833150166457699E-3]
["Disp - Residencial Coletivo 1 - 4 - Fixo",59.334038808390268,null,null,58.530894381400898,null,51.753894130250387,null,null,null,null,null,51.75,3.8941302503872066E-3]
["Disp - Residencial Coletivo 1 - 5 - Fixo",70.606006585384392,null,null,69.650285015778252,null,61.585825997454656,null,null,null,null,null,61.59,-4.1740025453478324E-3]
["Disp - Residencial Coletivo 1 - 6 - Fixo",84.014899517440583,null,null,82.87767542673933,null,73.281682863873925,null,null,null,null,null,73.28,1.6828638739241342E-3]
["Disp - Residencial Coletivo 2 - 1 - Fixo",528.12043262034149,null,null,520.97180443394768,null,460.65107831476655,null,null,null,null,null,460.65,1.078314766573385E-3]
["Disp - Residencial Coletivo 2 - 2 - Fixo",628.46843843992315,null,null,619.96150154486793,null,548.17925225451188,null,null,null,null,null,548.17999999999995,-7.4774548806999519E-4]
["Disp - Residencial Coletivo 2 - 3 - Fixo",747.87381771839182,null,null,737.75061186801156,null,652.33014914047283,null,null,null,null,null,652.33000000000004,1.4914047278580256E-4]
["Disp - Residencial Coletivo 2 - 4 - Fixo",889.97309221085288,null,null,877.92643326879272,null,776.27571151517304,null,null,null,null,null,776.28,-4.2884848269295617E-3]
["Disp - Residencial Coletivo 2 - 5 - Fixo",1059.065105504098,null,null,1044.7296202685263,null,923.76558966943128,null,null,null,null,null,923.77,-4.4103305687031025E-3]
["Disp - Residencial Coletivo 2 - 6 - Fixo",1260.2859759532769,null,null,1243.2267688214577,null,1099.2797436890799,null,null,null,null,null,1099.28,-2.5631092012190493E-4]
["Disp - Residencial Coletivo 3 - 1 - Fixo",1390.7133902420655,null,null,1371.8887200975066,null,1213.0445695183603,null,null,null,null,null,1213.04,4.5695183603129408E-3]
["Disp - Residencial Coletivo 3 - 2 - Fixo",1654.954807808075,null,null,1632.5533708335477,null,1443.5281607955601,null,null,null,null,null,1443.53,-1.839204439875175E-3]
["Disp - Residencial Coletivo 3 - 3 - Fixo",1969.3952215605427,null,null,1942.7375250931959,null,1717.7976393350211,null,null,null,null,null,1717.8,-2.360664978823479E-3]
["Disp - Residencial Coletivo 3 - 4 - Fixo",2343.5820631864121,null,null,2311.8593807086731,null,2044.1807168291421,null,null,null,null,null,2044.18,7.1682914199300285E-4]
["Disp - Residencial Coletivo 3 - 5 - Fixo",2788.8622802926807,null,null,2751.1122932187991,null,2432.5747260222934,null,null,null,null,null,2432.5700000000002,4.7260222931981843E-3]
["Disp - Residencial Coletivo 3 - 6 - Fixo",3318.7447389180734,null,null,3273.8222729071226,null,2894.7627249504476,null,null,null,null,null,2894.76,2.7249504473729758E-3]
["Disp - Residencial Coletivo 4 - 1 - Fixo",6284.6343978458972,null,null,6199.5657055123856,null,5481.7489219603422,null,null,null,null,null,5481.75,-1.0780396578411455E-3]
["Disp - Residencial Coletivo 4 - 2 - Fixo",7478.7256805455845,null,null,7377.4937911960415,null,6523.2905912585338,null,null,null,null,null,6523.29,5.9125853385921801E-4]
["Disp - Residencial Coletivo 4 - 3 - Fixo",8899.6809355551941,null,null,8779.2150227516322,null,7762.7135145669536,null,null,null,null,null,7762.71,3.5145669535268098E-3]
["Disp - Residencial Coletivo 4 - 4 - Fixo",10590.613565125981,null,null,10447.259220233043,null,9237.6231962557304,null,null,null,null,null,9237.6200000000008,3.1962557295628358E-3]
["Disp - Residencial Coletivo 4 - 5 - Fixo",12602.834766256101,null,null,12432.243033246428,null,10992.77563659841,null,null,null,null,null,10992.78,-4.3634015910356538E-3]
["Disp - Residencial Coletivo 4 - 6 - Fixo",14997.365623928996,null,null,14794.361566523126,null,13081.39624946147,null,null,null,null,null,13081.4,-3.7505385298572946E-3]
["Disp - Social II - 1 - Fixo",7.0356073818710447,null,null,6.9403735334306456,null,6.1367823073569854,null,null,null,null,null,6.14,-3.2176926430143027E-3]
["Disp - Social II - 2 - Fixo",8.3852443219102515,null,null,8.2717418133782665,null,7.3139980963348803,null,null,null,null,null,7.31,3.9980963348806853E-3]
["Disp - Social II - 3 - Fixo",9.9723173902896889,null,null,9.8373322907240794,null,8.6983166630033306,null,null,null,null,null,8.6999999999999993,-1.6833369966686718E-3]
["Disp - Social II - 4 - Fixo",11.871806417011532,null,null,11.711109869909617,null,10.355138884527774,null,null,null,null,null,10.36,-4.8611154722255634E-3]
["Disp - Social II - 5 - Fixo",14.121201317076876,null,null,13.93005700315565,null,12.317165199490931,null,null,null,null,null,12.32,-2.8348005090688133E-3]
["Disp - Social II - 6 - Fixo",16.807978558821588,null,null,16.580466078977295,null,14.660696631252478,null,null,null,null,null,14.66,6.9663125247743096E-4]
["Disp - Social I - 1 - Fixo",4.3988166934611153,null,null,4.3392743939033522,null,3.836851460372396,null,null,null,null,null,3.84,-3.1485396276038635E-3]
["Disp - Social I - 2 - Fixo",5.2360914618187717,null,null,5.1652158268338209,null,4.5671612553864609,null,null,null,null,null,4.57,-2.8387446135393901E-3]
["Disp - Social I - 3 - Fixo",6.235822528514479,null,null,6.1514145527209463,null,5.4391729509256415,null,null,null,null,null,5.44,-8.2704907435893205E-4]
["Disp - Social I - 4 - Fixo",7.4105065318819348,null,null,7.3101980556383177,null,6.4637866931841783,null,null,null,null,null,6.46,3.7866931841783469E-3]
["Disp - Social I - 5 - Fixo",8.822626663589622,null,null,8.7032037559538828,null,7.6955032131332715,null,null,null,null,null,7.7,-4.4967868667287192E-3]
["Disp - Social I - 6 - Fixo",10.497176200304935,null,null,10.35508662181482,null,9.1561228031614004,null,null,null,null,null,9.16,-3.8771968385997724E-3]
["Disp - Comercial e Serviços - 1 - Fixo",22.005036522141058,null,null,21.707176764009173,null,19.193811063104985,null,null,null,null,null,19.190000000000001,3.8110631049832477E-3]
["Disp - Comercial e Serviços - 2 - Fixo",26.40604382656927,null,null,26.048612116811007,null,23.03257327572598,null,null,null,null,null,23.03,2.5732757259788741E-3]
["Disp - Comercial e Serviços - 3 - Fixo",33.007554783211596,null,null,32.560765146013765,null,28.790716594657479,null,null,null,null,null,28.79,7.1659465747941908E-4]
["Disp - Comercial e Serviços - 4 - Fixo",39.609065739853911,null,null,39.072918175216515,null,34.54885991358897,null,null,null,null,null,34.549999999999997,-1.1400864110271414E-3]
["Disp - Comercial e Serviços - 5 - Fixo",47.530878887824684,null,null,46.887501810259813,null,41.458631896306763,null,null,null,null,null,41.46,-1.368103693238254E-3]
["Disp - Comercial e Serviços - 6 - Fixo",57.037054665389618,null,null,56.265002172311767,null,49.750358275568111,null,null,null,null,null,49.75,3.5827556811085515E-4]
["Disp - Comercial Coletivo 1 - 1 - Fixo",44.010073044282116,null,null,43.414353528018346,null,38.387622126209969,null,null,null,null,null,38.39,-2.377873790031515E-3]
["Disp - Comercial Coletivo 1 - 2 - Fixo",52.812087653138541,null,null,52.097224233622015,null,46.06514655145196,null,null,null,null,null,46.07,-4.8534485480402623E-3]
["Disp - Comercial Coletivo 1 - 3 - Fixo",66.015109566423192,null,null,65.121530292027529,null,57.581433189314957,null,null,null,null,null,57.58,1.4331893149588382E-3]
["Disp - Comercial Coletivo 1 - 4 - Fixo",79.218131479707822,null,null,78.145836350433029,null,69.09771982717794,null,null,null,null,null,69.099999999999994,-2.2801728220542827E-3]
["Disp - Comercial Coletivo 1 - 5 - Fixo",95.061757775649369,null,null,93.775003620519627,null,82.917263792613525,null,null,null,null,null,82.92,-2.736207386476508E-3]
["Disp - Comercial Coletivo 1 - 6 - Fixo",114.07410933077924,null,null,112.53000434462353,null,99.500716551136222,null,null,null,null,null,99.5,7.1655113622171029E-4]
["Disp - Comercial Coletivo 2 - 1 - Fixo",242.0554017435517,null,null,238.77894440410094,null,211.13192169415484,null,null,null,null,null,211.13,1.9216941548449995E-3]
["Disp - Comercial Coletivo 2 - 2 - Fixo",290.46648209226203,null,null,286.53473328492112,null,253.35830603298581,null,null,null,null,null,253.36,-1.6939670142051E-3]
["Disp - Comercial Coletivo 2 - 3 - Fixo",363.0831026153275,null,null,358.16841660615137,null,316.69788254123222,null,null,null,null,null,316.7,-2.1174587677705858E-3]
["Disp - Comercial Coletivo 2 - 4 - Fixo",435.6997231383931,null,null,429.80209992738173,null,380.03745904947874,null,null,null,null,null,380.04,-2.5409505212792283E-3]
["Disp - Comercial Coletivo 2 - 5 - Fixo",522.83966776607167,null,null,515.76251991285801,null,456.04495085937447,null,null,null,null,null,456.04,4.9508593744462814E-3]
["Disp - Comercial Coletivo 2 - 6 - Fixo",627.40760131928596,null,null,618.91502389542961,null,547.25394103124938,null,null,null,null,null,547.25,3.9410312493828314E-3]
["Disp - Comercial Coletivo 3 - 1 - Fixo",2640.6043826569271,null,null,2604.8612116811009,null,2303.2573275725981,null,null,null,null,null,2303.2600000000002,-2.6724274021034944E-3]
["Disp - Comercial Coletivo 3 - 2 - Fixo",3168.725259188313,null,null,3125.8334540173214,null,2763.9087930871178,null,null,null,null,null,2763.91,-1.2069128820257902E-3]
["Disp - Comercial Coletivo 3 - 3 - Fixo",3960.9065739853909,null,null,3907.2918175216514,null,3454.8859913588972,null,null,null,null,null,3454.89,-4.0086411027004942E-3]
["Disp - Comercial Coletivo 3 - 4 - Fixo",4753.0878887824692,null,null,4688.7501810259819,null,4145.863189630677,null,null,null,null,null,4145.8599999999997,3.1896306772978278E-3]
["Disp - Comercial Coletivo 3 - 5 - Fixo",5703.7054665389642,null,null,5626.5002172311788,null,4975.0358275568124,null,null,null,null,null,4975.04,-4.1724431875991286E-3]
["Disp - Comercial Coletivo 3 - 6 - Fixo",6844.446559846755,null,null,6751.8002606774135,null,5970.0429930681739,null,null,null,null,null,5970.04,2.993068173964275E-3]
["Disp - Comercial Coletivo 4 - 1 - Fixo",6249.4303722880604,null,null,6164.8382009786046,null,5451.042341921815,null,null,null,null,null,5451.04,2.3419218150593224E-3]
["Disp - Comercial Coletivo 4 - 2 - Fixo",7499.3164467456736,null,null,7397.8058411743268,null,6541.2508103061791,null,null,null,null,null,6541.25,8.1030617911892477E-4]
["Disp - Comercial Coletivo 4 - 3 - Fixo",9374.145558432092,null,null,9247.2573014679092,null,8176.5635128827244,null,null,null,null,null,8176.56,3.5128827239532256E-3]
["Disp - Comercial Coletivo 4 - 4 - Fixo",{"$f":"E323*$D$2","v":11248.974670118509},null,null,{"$f":"G323*$H$1","v":11096.708761761489},null,9811.8762154592678,null,null,null,null,null,9811.8799999999992,{"$f":"G323-M323","v":-3.7845407314307522E-3}]
["Disp - Comercial Coletivo 4 - 5 - Fixo",13498.76960414221,null,null,13316.050514113786,null,11774.25145855112,null,null,null,null,null,11774.25,1.4585511198674794E-3]
["Disp - Comercial Coletivo 4 - 6 - Fixo",16198.523524970653,null,null,15979.260616936544,null,14129.101750261345,null,null,null,null,null,14129.1,1.7502613445685711E-3]
["Disp - Industrial - 1 - Fixo",48.411080348710335,null,null,47.755788880820184,null,42.226384338830968,null,null,null,null,null,42.23,-3.6156611690287832E-3]
["Disp - Industrial - 2 - Fixo",58.093296418452397,null,null,57.306946656984216,null,50.671661206597157,null,null,null,null,null,50.67,1.6612065971557399E-3]
["Disp - Industrial - 3 - Fixo",69.711955702142888,null,null,68.768335988381068,null,60.805993447916592,null,null,null,null,null,60.81,-4.0065520834104973E-3]
["Disp - Industrial - 4 - Fixo",83.654346842571456,null,null,82.522003186057276,null,72.967192137499907,null,null,null,null,null,72.97,-2.8078625000915736E-3]
["Disp - Industrial - 5 - Fixo",96.202498868957179,null,null,94.900303663965872,null,83.912270958124893,null,null,null,null,null,83.91,2.2709581248960831E-3]
["Disp - Industrial - 6 - Fixo",110.63287369930075,null,null,109.13534921356074,null,96.499111601843623,null,null,null,null,null,96.5,-8.8839815637697939E-4]
["Disp - Poder Público - 1 - Fixo",24.205540174355168,null,null,23.877894440410092,null,21.113192169415484,null,null,null,null,null,21.11,3.1921694154846136E-3]
["Disp - Poder Público - 2 - Fixo",29.046648209226198,null,null,28.653473328492108,null,25.335830603298579,null,null,null,null,null,25.34,-4.1693967014211353E-3]
["Disp - Poder Público - 3 - Fixo",36.30831026153276,null,null,35.816841660615147,null,31.66978825412323,null,null,null,null,null,31.67,-2.1174587677208478E-4]
["Disp - Poder Público - 4 - Fixo",43.569972313839301,null,null,42.980209992738168,null,38.00374590494787,null,null,null,null,null,38,3.7459049478698603E-3]
["Disp - Poder Público - 5 - Fixo",50.105468160915194,null,null,49.427241491648886,null,43.704307790690045,null,null,null,null,null,43.7,4.3077906900421681E-3]
["Disp - Poder Público - 6 - Fixo",57.621288385052466,null,null,56.841327715396218,null,50.259953959293554,null,null,null,null,null,50.26,-4.6040706443761792E-5]
["Agua - Residencial - 1 - Variavel",2.0697557240184503,null,null,2.0417395496881823,null,1.8053367134209541,null,null,null,null,null,1.81,-4.663286579045911E-3]
["Agua - Residencial - 2 - Variavel",4.1395114480369006,null,null,4.0834790993763646,null,3.6106734268419083,null,null,null,null,null,3.61,6.7342684190840885E-4]
["Agua - Residencial - 3 - Variavel",7.4511206064664233,null,null,7.3502623788774573,null,6.4992121683154354,null,null,null,null,null,6.5,-7.8783168456464381E-4]
["Agua - Residencial - 4 - Variavel",8.9413447277597076,null,null,8.8203148546529491,null,7.7990546019785221,null,null,null,null,null,7.8,-9.4539802147775021E-4]
["Agua - Residencial - 5 - Variavel",10.282546436923662,null,null,10.143362082850889,null,8.9689127922752991,null,null,null,null,null,8.9700000000000006,-1.0872077247015E-3]
["Agua - Residencial - 6 - Variavel",11.310801080616031,null,null,11.157698291135981,null,9.865804071502831,null,null,null,null,null,9.8699999999999992,-4.1959284971682109E-3]
["Agua - Residencial Coletivo 1 - 1 - Variavel",1.9662679378175283,null,null,1.9396525722037734,null,1.7150698777499065,null,null,null,null,null,1.72,-4.9301222500934827E-3]
["Agua - Residencial Coletivo 1 - 2 - Variavel",3.7255603032332116,null,null,3.6751311894387286,null,3.2496060841577177,null,null,null,null,null,3.25,-3.939158422823219E-4]
["Agua - Residencial Coletivo 1 - 3 - Variavel",4.4706723638798538,null,null,4.4101574273264745,null,3.899527300989261,null,null,null,null,null,3.9,-4.726990107388751E-4]
["Agua - Residencial Coletivo 1 - 4 - Variavel",5.3648068366558253,null,null,5.2921889127917696,null,4.6794327611871136,null,null,null,null,null,4.68,-5.6723881288611722E-4]
["Agua - Residencial Coletivo 1 - 5 - Variavel",5.6554005403080154,null,null,5.5788491455679905,null,4.9329020357514155,null,null,null,null,null,4.93,2.902035751415788E-3]
["Agua - Residencial Coletivo 1 - 6 - Variavel",6.2209405943388179,null,null,6.1367340601247902,null,5.426192239326558,null,null,null,null,null,5.43,-3.8077606734416847E-3]
["Agua - Residencial Coletivo 2 - 1 - Variavel",1.9662679378175283,null,null,1.9396525722037734,null,1.7150698777499065,null,null,null,null,null,1.72,-4.9301222500934827E-3]
["Agua - Residencial Coletivo 2 - 2 - Variavel",3.7255603032332116,null,null,3.6751311894387286,null,3.2496060841577177,null,null,null,null,null,3.25,-3.939158422823219E-4]
["Agua - Residencial Coletivo 2 - 3 - Variavel",4.4706723638798538,null,null,4.4101574273264745,null,3.899527300989261,null,null,null,null,null,3.9,-4.726990107388751E-4]
["Agua - Residencial Coletivo 2 - 4 - Variavel",5.3648068366558253,null,null,5.2921889127917696,null,4.6794327611871136,null,null,null,null,null,4.68,-5.6723881288611722E-4]
["Agua - Residencial Coletivo 2 - 5 - Variavel",5.6554005403080154,null,null,5.5788491455679905,null,4.9329020357514155,null,null,null,null,null,4.93,2.902035751415788E-3]
["Agua - Residencial Coletivo 2 - 6 - Variavel",6.2209405943388179,null,null,6.1367340601247902,null,5.426192239326558,null,null,null,null,null,5.43,-3.8077606734416847E-3]
["Agua - Residencial Coletivo 3 - 1 - Variavel",1.9662679378175283,null,null,1.9396525722037734,null,1.7150698777499065,null,null,null,null,null,1.72,-4.9301222500934827E-3]
["Agua - Residencial Coletivo 3 - 2 - Variavel",3.7255603032332116,null,null,3.6751311894387286,null,3.2496060841577177,null,null,null,null,null,3.25,-3.939158422823219E-4]
["Agua - Residencial Coletivo 3 - 3 - Variavel",4.4706723638798538,null,null,4.4101574273264745,null,3.899527300989261,null,null,null,null,null,3.9,-4.726990107388751E-4]
["Agua - Residencial Coletivo 3 - 4 - Variavel",5.3648068366558253,null,null,5.2921889127917696,null,4.6794327611871136,null,null,null,null,null,4.68,-5.6723881288611722E-4]
["Agua - Residencial Coletivo 3 - 5 - Variavel",5.6554005403080154,null,null,5.5788491455679905,null,4.9329020357514155,null,null,null,null,null,4.93,2.902035751415788E-3]
["Agua - Residencial Coletivo 3 - 6 - Variavel",6.2209405943388179,null,null,6.1367340601247902,null,5.426192239326558,null,null,null,null,null,5.43,-3.8077606734416847E-3]
["Agua - Residencial Coletivo 4 - 1 - Variavel",1.9662679378175283,null,null,1.9396525722037734,null,1.7150698777499065,null,null,null,null,null,1.72,-4.9301222500934827E-3]
["Agua - Residencial Coletivo 4 - 2 - Variavel",3.7255603032332116,null,null,3.6751311894387286,null,3.2496060841577177,null,null,null,null,null,3.25,-3.939158422823219E-4]
["Agua - Residencial Coletivo 4 - 3 - Variavel",4.4706723638798538,null,null,4.4101574273264745,null,3.899527300989261,null,null,null,null,null,3.9,-4.726990107388751E-4]
["Agua - Residencial Coletivo 4 - 4 - Variavel",5.3648068366558253,null,null,5.2921889127917696,null,4.6794327611871136,null,null,null,null,null,4.68,-5.6723881288611722E-4]
["Agua - Residencial Coletivo 4 - 5 - Variavel",5.6554005403080154,null,null,5.5788491455679905,null,4.9329020357514155,null,null,null,null,null,4.93,2.902035751415788E-3]
["Agua - Residencial Coletivo 4 - 6 - Variavel",6.2209405943388179,null,null,6.1367340601247902,null,5.426192239326558,null,null,null,null,null,5.43,-3.8077606734416847E-3]
["Agua - Social II - 1 - Variavel",0.82790228960738033,null,null,0.81669581987527307,null,0.72213468536838177,null,null,null,null,null,0.72,2.1346853683817946E-3]
["Agua - Social II - 2 - Variavel",1.6558045792147607,null,null,1.6333916397505461,null,1.4442693707367635,null,null,null,null,null,1.44,4.2693707367635891E-3]
["Agua - Social II - 3 - Variavel",5.2157844245264959,null,null,5.14518366521422,null,4.5494485178208048,null,null,null,null,null,4.55,-5.5148217919498421E-4]
["Agua - Social II - 4 - Variavel",8.9413447277597076,null,null,8.8203148546529491,null,7.7990546019785221,null,null,null,null,null,7.8,-9.4539802147775021E-4]
["Agua - Social II - 5 - Variavel",10.282546436923662,null,null,10.143362082850889,null,8.9689127922752991,null,null,null,null,null,8.9700000000000006,-1.0872077247015E-3]
["Agua - Social II - 6 - Variavel",11.310801080616031,null,null,11.157698291135981,null,9.865804071502831,null,null,null,null,null,9.8699999999999992,-4.1959284971682109E-3]
["Agua - Social I - 1 - Variavel",0.51743893100461258,null,null,0.51043488742204557,null,0.45133417835523854,null,null,null,null,null,0.45,1.3341783552385245E-3]
["Agua - Social I - 2 - Variavel",1.0348778620092252,null,null,1.0208697748440911,null,0.90266835671047707,null,null,null,null,null,0.9,2.6683567104770489E-3]
["Agua - Social I - 3 - Variavel",3.7255603032332116,null,null,3.6751311894387286,null,3.2496060841577177,null,null,null,null,null,3.25,-3.939158422823219E-4]
["Agua - Social I - 4 - Variavel",8.9413447277597076,null,null,8.8203148546529491,null,7.7990546019785221,null,null,null,null,null,7.8,-9.4539802147775021E-4]
["Agua - Social I - 5 - Variavel",10.282546436923662,null,null,10.143362082850889,null,8.9689127922752991,null,null,null,null,null,8.9700000000000006,-1.0872077247015E-3]
["Agua - Social I - 6 - Variavel",11.310801080616031,null,null,11.157698291135981,null,9.865804071502831,null,null,null,null,null,9.8699999999999992,-4.1959284971682109E-3]
["Agua - Comercial e Serviços - 1 - Variavel",4.5224162569803141,null,null,4.4612009160686785,null,3.9446607188247844,null,null,null,null,null,3.94,4.6607188247844711E-3]
["Agua - Comercial e Serviços - 2 - Variavel",6.7836243854704712,null,null,6.6918013741030169,null,5.9169910782371762,null,null,null,null,null,5.92,-3.0089217628237463E-3]
["Agua - Comercial e Serviços - 3 - Variavel",8.8187117011116136,null,null,8.6993417863339229,null,7.6920884017083306,null,null,null,null,null,7.69,2.0884017083302453E-3]
["Agua - Comercial e Serviços - 4 - Variavel",10.582454041333936,null,null,10.439210143600707,null,9.2305060820499953,null,null,null,null,null,9.23,5.0608204999491591E-4]
["Agua - Comercial e Serviços - 5 - Variavel",11.64069944546733,null,null,11.483131157960779,null,10.153556690254996,null,null,null,null,null,10.15,3.5566902549959423E-3]
["Agua - Comercial e Serviços - 6 - Variavel",12.804769390014066,null,null,12.631444273756859,null,11.168912359280498,null,null,null,null,null,11.17,-1.0876407195024029E-3]
["Agua - Comercial Coletivo 1 - 1 - Variavel",4.2962954441312977,null,null,4.2381408702652434,null,3.7474276828835444,null,null,null,null,null,3.75,-2.5723171164555581E-3]
["Agua - Comercial Coletivo 1 - 2 - Variavel",{"$f":"E387*$D$2","v":6.1052619469234237},null,null,{"$f":"G387*$H$1","v":6.0226212366927152},null,5.3252919704134589,null,null,null,null,null,5.33,{"$f":"G387-M387","v":-4.7080295865411514E-3}]
["Agua - Comercial Coletivo 1 - 3 - Variavel",5.2912270206669678,null,null,5.2196050718003537,null,4.6152530410249977,null,null,null,null,null,4.62,-4.7469589750024355E-3]
["Agua - Comercial Coletivo 1 - 4 - Variavel",6.3494724248003616,null,null,6.2635260861604243,null,5.5383036492299977,null,null,null,null,null,5.54,-1.6963507700022973E-3]
["Agua - Comercial Coletivo 1 - 5 - Variavel",6.4023846950070329,null,null,6.3157221368784295,null,5.5844561796402488,null,null,null,null,null,5.58,4.456179640248692E-3]
["Agua - Comercial Coletivo 1 - 6 - Variavel",7.0426231645077371,null,null,6.9472943505662732,null,6.1429017976042743,null,null,null,null,null,6.14,2.9017976042746696E-3]
["Agua - Comercial Coletivo 2 - 1 - Variavel",4.2962954441312977,null,null,4.2381408702652434,null,3.7474276828835444,null,null,null,null,null,3.75,-2.5723171164555581E-3]
["Agua - Comercial Coletivo 2 - 2 - Variavel",6.1052619469234237,null,null,6.0226212366927152,null,5.3252919704134589,null,null,null,null,null,5.33,-4.7080295865411514E-3]
["Agua - Comercial Coletivo 2 - 3 - Variavel",5.2912270206669678,null,null,5.2196050718003537,null,4.6152530410249977,null,null,null,null,null,4.62,-4.7469589750024355E-3]
["Agua - Comercial Coletivo 2 - 4 - Variavel",6.3494724248003616,null,null,6.2635260861604243,null,5.5383036492299977,null,null,null,null,null,5.54,-1.6963507700022973E-3]
["Agua - Comercial Coletivo 2 - 5 - Variavel",6.4023846950070329,null,null,6.3157221368784295,null,5.5844561796402488,null,null,null,null,null,5.58,4.456179640248692E-3]
["Agua - Comercial Coletivo 2 - 6 - Variavel",7.0426231645077371,null,null,6.9472943505662732,null,6.1429017976042743,null,null,null,null,null,6.14,2.9017976042746696E-3]
["Agua - Comercial Coletivo 3 - 1 - Variavel",4.2962954441312977,null,null,4.2381408702652434,null,3.7474276828835444,null,null,null,null,null,3.75,-2.5723171164555581E-3]
["Agua - Comercial Coletivo 3 - 2 - Variavel",6.1052619469234237,null,null,6.0226212366927152,null,5.3252919704134589,null,null,null,null,null,5.33,-4.7080295865411514E-3]
["Agua - Comercial Coletivo 3 - 3 - Variavel",5.2912270206669678,null,null,5.2196050718003537,null,4.6152530410249977,null,null,null,null,null,4.62,-4.7469589750024355E-3]
["Agua - Comercial Coletivo 3 - 4 - Variavel",6.3494724248003616,null,null,6.2635260861604243,null,5.5383036492299977,null,null,null,null,null,5.54,-1.6963507700022973E-3]
["Agua - Comercial Coletivo 3 - 5 - Variavel",6.4023846950070329,null,null,6.3157221368784295,null,5.5844561796402488,null,null,null,null,null,5.58,4.456179640248692E-3]
["Agua - Comercial Coletivo 3 - 6 - Variavel",7.0426231645077371,null,null,6.9472943505662732,null,6.1429017976042743,null,null,null,null,null,6.14,2.9017976042746696E-3]
["Agua - Comercial Coletivo 4 - 1 - Variavel",4.2962954441312977,null,null,4.2381408702652434,null,3.7474276828835444,null,null,null,null,null,3.75,-2.5723171164555581E-3]
["Agua - Comercial Coletivo 4 - 2 - Variavel",6.1052619469234237,null,null,6.0226212366927152,null,5.3252919704134589,null,null,null,null,null,5.33,-4.7080295865411514E-3]
["Agua - Comercial Coletivo 4 - 3 - Variavel",5.2912270206669678,null,null,5.2196050718003537,null,4.6152530410249977,null,null,null,null,null,4.62,-4.7469589750024355E-3]
["Agua - Comercial Coletivo 4 - 4 - Variavel",6.3494724248003616,null,null,6.2635260861604243,null,5.5383036492299977,null,null,null,null,null,5.54,-1.6963507700022973E-3]
["Agua - Comercial Coletivo 4 - 5 - Variavel",6.4023846950070329,null,null,6.3157221368784295,null,5.5844561796402488,null,null,null,null,null,5.58,4.456179640248692E-3]
["Agua - Comercial Coletivo 4 - 6 - Variavel",7.0426231645077371,null,null,6.9472943505662732,null,6.1429017976042743,null,null,null,null,null,6.14,2.9017976042746696E-3]
["Agua - Industrial - 1 - Variavel",5.702177019670831,null,null,5.6249924593909419,null,4.9737026454747282,null,null,null,null,null,4.97,3.7026454747284276E-3]
["Agua - Industrial - 2 - Variavel",8.5532655295062483,null,null,8.4374886890864147,null,7.4605539682120936,null,null,null,null,null,7.46,5.5396821209363623E-4]
["Agua - Industrial - 3 - Variavel",10.263918635407498,null,null,10.124986426903698,null,8.9526647618545123,null,null,null,null,null,8.9499999999999993,2.6647618545130314E-3]
["Agua - Industrial - 4 - Variavel",11.29031049894825,null,null,11.137485069594069,null,9.8479312380399655,null,null,null,null,null,9.85,-2.0687619600341378E-3]
["Agua - Industrial - 5 - Variavel",12.419341548843075,null,null,12.251233576553478,null,10.832724361843963,null,null,null,null,null,10.83,2.7243618439634076E-3]
["Agua - Industrial - 6 - Variavel",13.350792165006306,null,null,13.170076094794988,null,11.645178688982259,null,null,null,null,null,11.65,-4.8213110177410812E-3]
["Agua - Poder Público - 1 - Variavel",4.6207296538711908,null,null,4.558183544678867,null,4.0304142127122802,null,null,null,null,null,4.03,4.1421271227992662E-4]
["Agua - Poder Público - 2 - Variavel",6.4690215154196666,null,null,6.3814569625504136,null,5.6425798977971917,null,null,null,null,null,5.64,2.5798977971920323E-3]
["Agua - Poder Público - 3 - Variavel",8.4097279700455658,null,null,8.2958940513155373,null,7.335353867136349,null,null,null,null,null,7.34,-4.6461328636508981E-3]
["Agua - Poder Público - 4 - Variavel",10.091673564054679,null,null,9.9550728615786443,null,8.8024246405636184,null,null,null,null,null,8.8000000000000007,2.424640563617686E-3]
["Agua - Poder Público - 5 - Variavel",11.100840920460149,null,null,10.95058014773651,null,9.6826671046199806,null,null,null,null,null,9.68,2.6671046199808757E-3]
["Agua - Poder Público - 6 - Variavel",11.655882966483155,null,null,11.498109155123334,null,10.166800459850979,null,null,null,null,null,10.17,-3.1995401490210185E-3]
["CAT - Residencial - 1 - Variavel",1.6620528983816145,null,null,1.6395553817873463,null,1.4497194438338883,null,null,null,null,null,1.45,-2.8055616611166734E-4]
["CAT - Residencial - 2 - Variavel",3.3116091584295329,null,null,3.2667832795011034,null,2.8885387414735368,null,null,null,null,null,2.89,-1.4612585264632827E-3]
["CAT - Residencial - 3 - Variavel",5.9608964851731576,null,null,5.880209903101985,null,5.1993697346523655,null,null,null,null,null,5.2,-6.3026534763466202E-4]
["CAT - Residencial - 4 - Variavel",7.1480771268743117,null,null,7.0513208900929474,null,6.2348836231051434,null,null,null,null,null,6.23,4.883623105143009E-3]
["CAT - Residencial - 5 - Variavel",8.2227880235721997,null,null,8.1114845204216088,null,7.1722961958097633,null,null,null,null,null,7.17,2.2961958097633683E-3]
["CAT - Residencial - 6 - Variavel",9.0475661535961578,null,null,8.9250984692784865,null,7.8917058446295876,null,null,null,null,null,7.89,1.7058446295878937E-3]
["CAT - Residencial Coletivo 1 - 1 - Variavel",1.5745764300457401,null,null,1.5532629932722228,null,1.3734184204742099,null,null,null,null,null,1.37,3.4184204742098157E-3]
["CAT - Residencial Coletivo 1 - 2 - Variavel",2.9741999234197309,null,null,2.9339412095141983,null,2.5942347942290631,null,null,null,null,null,2.59,4.2347942290632545E-3]
["CAT - Residencial Coletivo 1 - 3 - Variavel",3.5740385634371559,null,null,3.5256604450464737,null,3.1174418115525717,null,null,null,null,null,3.12,-2.5581884474283889E-3]
["CAT - Residencial Coletivo 1 - 4 - Variavel",4.2863469484578482,null,null,4.2283270372410513,null,3.7387501446242384,null,null,null,null,null,3.74,-1.2498553757618325E-3]
["CAT - Residencial Coletivo 1 - 5 - Variavel",4.5237830767980789,null,null,4.4625492346392432,null,3.9458529223147938,null,null,null,null,null,3.95,-4.1470776852063906E-3]
["CAT - Residencial Coletivo 1 - 6 - Variavel",4.9736620568111469,null,null,4.9063386612884496,null,4.3382581853074251,null,null,null,null,null,4.34,-1.741814692574728E-3]
["CAT - Residencial Coletivo 2 - 1 - Variavel",1.5745764300457401,null,null,1.5532629932722228,null,1.3734184204742099,null,null,null,null,null,1.37,3.4184204742098157E-3]
["CAT - Residencial Coletivo 2 - 2 - Variavel",2.9741999234197309,null,null,2.9339412095141983,null,2.5942347942290631,null,null,null,null,null,2.59,4.2347942290632545E-3]
["CAT - Residencial Coletivo 2 - 3 - Variavel",3.5740385634371559,null,null,3.5256604450464737,null,3.1174418115525717,null,null,null,null,null,3.12,-2.5581884474283889E-3]
["CAT - Residencial Coletivo 2 - 4 - Variavel",4.2863469484578482,null,null,4.2283270372410513,null,3.7387501446242384,null,null,null,null,null,3.74,-1.2498553757618325E-3]
["CAT - Residencial Coletivo 2 - 5 - Variavel",4.5237830767980789,null,null,4.4625492346392432,null,3.9458529223147938,null,null,null,null,null,3.95,-4.1470776852063906E-3]
["CAT - Residencial Coletivo 2 - 6 - Variavel",4.9736620568111469,null,null,4.9063386612884496,null,4.3382581853074251,null,null,null,null,null,4.34,-1.741814692574728E-3]
["CAT - Residencial Coletivo 3 - 1 - Variavel",1.5745764300457401,null,null,1.5532629932722228,null,1.3734184204742099,null,null,null,null,null,1.37,3.4184204742098157E-3]
["CAT - Residencial Coletivo 3 - 2 - Variavel",2.9741999234197309,null,null,2.9339412095141983,null,2.5942347942290631,null,null,null,null,null,2.59,4.2347942290632545E-3]
["CAT - Residencial Coletivo 3 - 3 - Variavel",3.5740385634371559,null,null,3.5256604450464737,null,3.1174418115525717,null,null,null,null,null,3.12,-2.5581884474283889E-3]
["CAT - Residencial Coletivo 3 - 4 - Variavel",4.2863469484578482,null,null,4.2283270372410513,null,3.7387501446242384,null,null,null,null,null,3.74,-1.2498553757618325E-3]
["CAT - Residencial Coletivo 3 - 5 - Variavel",4.5237830767980789,null,null,4.4625492346392432,null,3.9458529223147938,null,null,null,null,null,3.95,-4.1470776852063906E-3]
["CAT - Residencial Coletivo 3 - 6 - Variavel",4.9736620568111469,null,null,4.9063386612884496,null,4.3382581853074251,null,null,null,null,null,4.34,-1.741814692574728E-3]
["CAT - Residencial Coletivo 4 - 1 - Variavel",1.5745764300457401,null,null,1.5532629932722228,null,1.3734184204742099,null,null,null,null,null,1.37,3.4184204742098157E-3]
["CAT - Residencial Coletivo 4 - 2 - Variavel",2.9741999234197309,null,null,2.9339412095141983,null,2.5942347942290631,null,null,null,null,null,2.59,4.2347942290632545E-3]
["CAT - Residencial Coletivo 4 - 3 - Variavel",3.5740385634371559,null,null,3.5256604450464737,null,3.1174418115525717,null,null,null,null,null,3.12,-2.5581884474283889E-3]
["CAT - Residencial Coletivo 4 - 4 - Variavel",4.2863469484578482,null,null,4.2283270372410513,null,3.7387501446242384,null,null,null,null,null,3.74,-1.2498553757618325E-3]
["CAT - Residencial Coletivo 4 - 5 - Variavel",4.5237830767980789,null,null,4.4625492346392432,null,3.9458529223147938,null,null,null,null,null,3.95,-4.1470776852063906E-3]
["CAT - Residencial Coletivo 4 - 6 - Variavel",{"$f":"E451*$D$2","v":4.9736620568111469},null,null,{"$f":"G451*$H$1","v":4.9063386612884496},null,4.3382581853074251,null,null,null,null,null,4.34,{"$f":"G451-M451","v":-1.741814692574728E-3}]
["CAT - Social II - 1 - Variavel",0.66232183168590664,null,null,0.65335665590022074,null,0.57770774829470739,null,null,null,null,null,0.57999999999999996,-2.2922517052925695E-3]
["CAT - Social II - 2 - Variavel",1.3246436633718133,null,null,1.3067133118004415,null,1.1554154965894148,null,null,null,null,null,1.1599999999999999,-4.584503410585139E-3]
["CAT - Social II - 3 - Variavel",4.1738772034545812,null,null,4.1173796805787495,null,3.6406488288760803,null,null,null,null,null,3.64,6.4882887608019857E-4]
["CAT - Social II - 4 - Variavel",7.1480771268743117,null,null,7.0513208900929474,null,6.2348836231051434,null,null,null,null,null,6.23,4.883623105143009E-3]
["CAT - Social II - 5 - Variavel",8.2227880235721997,null,null,8.1114845204216088,null,7.1722961958097633,null,null,null,null,null,7.17,2.2961958097633683E-3]
["CAT - Social II - 6 - Variavel",9.0475661535961578,null,null,8.9250984692784865,null,7.8917058446295876,null,null,null,null,null,7.89,1.7058446295878937E-3]
["CAT - Social I - 1 - Variavel",0.41238906501197958,null,null,0.40680697442843933,null,0.35970482440991214,null,null,null,null,null,0.36,-2.9517559008784833E-4]
["CAT - Social I - 2 - Variavel",0.82477813002395917,null,null,0.81361394885687865,null,0.71940964881982428,null,null,null,null,null,0.72,-5.9035118017569665E-4]
["CAT - Social I - 3 - Variavel",2.9741999234197309,null,null,2.9339412095141983,null,2.5942347942290631,null,null,null,null,null,2.59,4.2347942290632545E-3]
["CAT - Social I - 4 - Variavel",7.1480771268743117,null,null,7.0513208900929474,null,6.2348836231051434,null,null,null,null,null,6.23,4.883623105143009E-3]
["CAT - Social I - 5 - Variavel",8.2227880235721997,null,null,8.1114845204216088,null,7.1722961958097633,null,null,null,null,null,7.17,2.2961958097633683E-3]
["CAT - Social I - 6 - Variavel",9.0475661535961578,null,null,8.9250984692784865,null,7.8917058446295876,null,null,null,null,null,7.89,1.7058446295878937E-3]
["CAT - Comercial e Serviços - 1 - Variavel",4.5224162569803141,null,null,4.4612009160686785,null,3.9446607188247844,null,null,null,null,null,3.94,4.6607188247844711E-3]
["CAT - Comercial e Serviços - 2 - Variavel",6.7836243854704712,null,null,6.6918013741030169,null,5.9169910782371762,null,null,null,null,null,5.92,-3.0089217628237463E-3]
["CAT - Comercial e Serviços - 3 - Variavel",8.8187117011116136,null,null,8.6993417863339229,null,7.6920884017083306,null,null,null,null,null,7.69,2.0884017083302453E-3]
["CAT - Comercial e Serviços - 4 - Variavel",10.582454041333936,null,null,10.439210143600707,null,9.2305060820499953,null,null,null,null,null,9.23,5.0608204999491591E-4]
["CAT - Comercial e Serviços - 5 - Variavel",11.64069944546733,null,null,11.483131157960779,null,10.153556690254996,null,null,null,null,null,10.15,3.5566902549959423E-3]
["CAT - Comercial e Serviços - 6 - Variavel",12.804769390014066,null,null,12.631444273756859,null,11.168912359280498,null,null,null,null,null,11.17,-1.0876407195024029E-3]
["CAT - Comercial Coletivo 1 - 1 - Variavel",4.2962954441312977,null,null,4.2381408702652434,null,3.7474276828835444,null,null,null,null,null,3.75,-2.5723171164555581E-3]
["CAT - Comercial Coletivo 1 - 2 - Variavel",6.1052619469234237,null,null,6.0226212366927152,null,5.3252919704134589,null,null,null,null,null,5.33,-4.7080295865411514E-3]
["CAT - Comercial Coletivo 1 - 3 - Variavel",5.2912270206669678,null,null,5.2196050718003537,null,4.6152530410249977,null,null,null,null,null,4.62,-4.7469589750024355E-3]
["CAT - Comercial Coletivo 1 - 4 - Variavel",6.3494724248003616,null,null,6.2635260861604243,null,5.5383036492299977,null,null,null,null,null,5.54,-1.6963507700022973E-3]
["CAT - Comercial Coletivo 1 - 5 - Variavel",6.4023846950070329,null,null,6.3157221368784295,null,5.5844561796402488,null,null,null,null,null,5.58,4.456179640248692E-3]
["CAT - Comercial Coletivo 1 - 6 - Variavel",7.0426231645077371,null,null,6.9472943505662732,null,6.1429017976042743,null,null,null,null,null,6.14,2.9017976042746696E-3]
["CAT - Comercial Coletivo 2 - 1 - Variavel",4.2962954441312977,null,null,4.2381408702652434,null,3.7474276828835444,null,null,null,null,null,3.75,-2.5723171164555581E-3]
["CAT - Comercial Coletivo 2 - 2 - Variavel",6.1052619469234237,null,null,6.0226212366927152,null,5.3252919704134589,null,null,null,null,null,5.33,-4.7080295865411514E-3]
["CAT - Comercial Coletivo 2 - 3 - Variavel",5.2912270206669678,null,null,5.2196050718003537,null,4.6152530410249977,null,null,null,null,null,4.62,-4.7469589750024355E-3]
["CAT - Comercial Coletivo 2 - 4 - Variavel",6.3494724248003616,null,null,6.2635260861604243,null,5.5383036492299977,null,null,null,null,null,5.54,-1.6963507700022973E-3]
["CAT - Comercial Coletivo 2 - 5 - Variavel",6.4023846950070329,null,null,6.3157221368784295,null,5.5844561796402488,null,null,null,null,null,5.58,4.456179640248692E-3]
["CAT - Comercial Coletivo 2 - 6 - Variavel",7.0426231645077371,null,null,6.9472943505662732,null,6.1429017976042743,null,null,null,null,null,6.14,2.9017976042746696E-3]
["CAT - Comercial Coletivo 3 - 1 - Variavel",4.2962954441312977,null,null,4.2381408702652434,null,3.7474276828835444,null,null,null,null,null,3.75,-2.5723171164555581E-3]
["CAT - Comercial Coletivo 3 - 2 - Variavel",6.1052619469234237,null,null,6.0226212366927152,null,5.3252919704134589,null,null,null,null,null,5.33,-4.7080295865411514E-3]
["CAT - Comercial Coletivo 3 - 3 - Variavel",5.2912270206669678,null,null,5.2196050718003537,null,4.6152530410249977,null,null,null,null,null,4.62,-4.7469589750024355E-3]
["CAT - Comercial Coletivo 3 - 4 - Variavel",6.3494724248003616,null,null,6.2635260861604243,null,5.5383036492299977,null,null,null,null,null,5.54,-1.6963507700022973E-3]
["CAT - Comercial Coletivo 3 - 5 - Variavel",6.4023846950070329,null,null,6.3157221368784295,null,5.5844561796402488,null,null,null,null,null,5.58,4.456179640248692E-3]
["CAT - Comercial Coletivo 3 - 6 - Variavel",7.0426231645077371,null,null,6.9472943505662732,null,6.1429017976042743,null,null,null,null,null,6.14,2.9017976042746696E-3]
["CAT - Comercial Coletivo 4 - 1 - Variavel",4.2962954441312977,null,null,4.2381408702652434,null,3.7474276828835444,null,null,null,null,null,3.75,-2.5723171164555581E-3]
["CAT - Comercial Coletivo 4 - 2 - Variavel",6.1052619469234237,null,null,6.0226212366927152,null,5.3252919704134589,null,null,null,null,null,5.33,-4.7080295865411514E-3]
["CAT - Comercial Coletivo 4 - 3 - Variavel",5.2912270206669678,null,null,5.2196050718003537,null,4.6152530410249977,null,null,null,null,null,4.62,-4.7469589750024355E-3]
["CAT - Comercial Coletivo 4 - 4 - Variavel",6.3494724248003616,null,null,6.2635260861604243,null,5.5383036492299977,null,null,null,null,null,5.54,-1.6963507700022973E-3]
["CAT - Comercial Coletivo 4 - 5 - Variavel",6.4023846950070329,null,null,6.3157221368784295,null,5.5844561796402488,null,null,null,null,null,5.58,4.456179640248692E-3]
["CAT - Comercial Coletivo 4 - 6 - Variavel",7.0426231645077371,null,null,6.9472943505662732,null,6.1429017976042743,null,null,null,null,null,6.14,2.9017976042746696E-3]
["CAT - Industrial - 1 - Variavel",5.702177019670831,null,null,5.6249924593909419,null,4.9737026454747282,null,null,null,null,null,4.97,3.7026454747284276E-3]
["CAT - Industrial - 2 - Variavel",8.5532655295062483,null,null,8.4374886890864147,null,7.4605539682120936,null,null,null,null,null,7.46,5.5396821209363623E-4]
["CAT - Industrial - 3 - Variavel",10.263918635407498,null,null,10.124986426903698,null,8.9526647618545123,null,null,null,null,null,8.9499999999999993,2.6647618545130314E-3]
["CAT - Industrial - 4 - Variavel",11.29031049894825,null,null,11.137485069594069,null,9.8479312380399655,null,null,null,null,null,9.85,-2.0687619600341378E-3]
["CAT - Industrial - 5 - Variavel",12.419341548843075,null,null,12.251233576553478,null,10.832724361843963,null,null,null,null,null,10.83,2.7243618439634076E-3]
["CAT - Industrial - 6 - Variavel",13.350792165006306,null,null,13.170076094794988,null,11.645178688982259,null,null,null,null,null,11.65,-4.8213110177410812E-3]
["CAT - Poder Público - 1 - Variavel",4.6207296538711908,null,null,4.558183544678867,null,4.0304142127122802,null,null,null,null,null,4.03,4.1421271227992662E-4]
["CAT - Poder Público - 2 - Variavel",6.4690215154196666,null,null,6.3814569625504136,null,5.6425798977971917,null,null,null,null,null,5.64,2.5798977971920323E-3]
["CAT - Poder Público - 3 - Variavel",8.4097279700455658,null,null,8.2958940513155373,null,7.335353867136349,null,null,null,null,null,7.34,-4.6461328636508981E-3]
["CAT - Poder Público - 4 - Variavel",10.091673564054679,null,null,9.9550728615786443,null,8.8024246405636184,null,null,null,null,null,8.8000000000000007,2.424640563617686E-3]
["CAT - Poder Público - 5 - Variavel",11.100840920460149,null,null,10.95058014773651,null,9.6826671046199806,null,null,null,null,null,9.68,2.6671046199808757E-3]
["CAT - Poder Público - 6 - Variavel",11.655882966483155,null,null,11.498109155123334,null,10.166800459850979,null,null,null,null,null,10.17,-3.1995401490210185E-3]
["CA - Residencial - 1 - Variavel",1.2621604717033312,null,null,1.245075891432496,null,1.1009147656182159,null,null,null,null,null,1.1000000000000001,9.1476561821579594E-4]
["CA - Residencial - 2 - Variavel",2.5243209434066625,null,null,2.4901517828649919,null,2.2018295312364318,null,null,null,null,null,2.2000000000000002,1.8295312364315919E-3]
["CA - Residencial - 3 - Variavel",4.5487763534654713,null,null,4.4872042027864216,null,3.9676532147032733,null,null,null,null,null,3.97,-2.3467852967269387E-3]
["CA - Residencial - 4 - Variavel",5.4485343134916091,null,null,5.3747830560848344,null,4.7524637406885359,null,null,null,null,null,4.75,2.4637406885359425E-3]
["CA - Residencial - 5 - Variavel",6.273312443515568,null,null,6.188397004941713,null,5.4718733895083602,null,null,null,null,null,5.47,1.8733895083604679E-3]
["CA - Residencial - 6 - Variavel",6.8981443602003853,null,null,6.8047712086211662,null,6.0168806992203479,null,null,null,null,null,6.02,-3.1193007796517236E-3]
["CA - Residencial Coletivo 1 - 1 - Variavel",1.1996772800348494,null,null,1.1834384710645505,null,1.046414034647017,null,null,null,null,null,1.05,-3.585965352983056E-3]
["CA - Residencial Coletivo 1 - 2 - Variavel",2.2743881767327356,null,null,2.2436021013932108,null,1.9838266073516366,null,null,null,null,null,1.98,3.8266073516366461E-3]
["CA - Residencial Coletivo 1 - 3 - Variavel",2.7242671567458046,null,null,2.6873915280424172,null,2.376231870344268,null,null,null,null,null,2.38,-3.7681296557319222E-3]
["CA - Residencial Coletivo 1 - 4 - Variavel",{"$f":"E515*$D$2","v":3.2741192434284438},null,null,{"$f":"G515*$H$1","v":3.2298008272803362},null,2.8558383028908176,null,null,null,null,null,2.86,{"$f":"G515-M515","v":-4.1616971091822386E-3}]
["CA - Residencial Coletivo 1 - 5 - Variavel",3.4490721801001927,null,null,3.4023856043105831,null,3.0084403496101739,null,null,null,null,null,3.01,-1.5596503898258618E-3]
["CA - Residencial Coletivo 1 - 6 - Variavel",3.7989780534436903,null,null,3.7475551583710769,null,3.3136444430488874,null,null,null,null,null,3.31,3.6444430488873358E-3]
["CA - Residencial Coletivo 2 - 1 - Variavel",1.1996772800348494,null,null,1.1834384710645505,null,1.046414034647017,null,null,null,null,null,1.05,-3.585965352983056E-3]
["CA - Residencial Coletivo 2 - 2 - Variavel",2.2743881767327356,null,null,2.2436021013932108,null,1.9838266073516366,null,null,null,null,null,1.98,3.8266073516366461E-3]
["CA - Residencial Coletivo 2 - 3 - Variavel",2.7242671567458046,null,null,2.6873915280424172,null,2.376231870344268,null,null,null,null,null,2.38,-3.7681296557319222E-3]
["CA - Residencial Coletivo 2 - 4 - Variavel",3.2741192434284438,null,null,3.2298008272803362,null,2.8558383028908176,null,null,null,null,null,2.86,-4.1616971091822386E-3]
["CA - Residencial Coletivo 2 - 5 - Variavel",3.4490721801001927,null,null,3.4023856043105831,null,3.0084403496101739,null,null,null,null,null,3.01,-1.5596503898258618E-3]
["CA - Residencial Coletivo 2 - 6 - Variavel",3.7989780534436903,null,null,3.7475551583710769,null,3.3136444430488874,null,null,null,null,null,3.31,3.6444430488873358E-3]
["CA - Residencial Coletivo 3 - 1 - Variavel",1.1996772800348494,null,null,1.1834384710645505,null,1.046414034647017,null,null,null,null,null,1.05,-3.585965352983056E-3]
["CA - Residencial Coletivo 3 - 2 - Variavel",2.2743881767327356,null,null,2.2436021013932108,null,1.9838266073516366,null,null,null,null,null,1.98,3.8266073516366461E-3]
["CA - Residencial Coletivo 3 - 3 - Variavel",2.7242671567458046,null,null,2.6873915280424172,null,2.376231870344268,null,null,null,null,null,2.38,-3.7681296557319222E-3]
["CA - Residencial Coletivo 3 - 4 - Variavel",3.2741192434284438,null,null,3.2298008272803362,null,2.8558383028908176,null,null,null,null,null,2.86,-4.1616971091822386E-3]
["CA - Residencial Coletivo 3 - 5 - Variavel",3.4490721801001927,null,null,3.4023856043105831,null,3.0084403496101739,null,null,null,null,null,3.01,-1.5596503898258618E-3]
["CA - Residencial Coletivo 3 - 6 - Variavel",3.7989780534436903,null,null,3.7475551583710769,null,3.3136444430488874,null,null,null,null,null,3.31,3.6444430488873358E-3]
["CA - Residencial Coletivo 4 - 1 - Variavel",1.1996772800348494,null,null,1.1834384710645505,null,1.046414034647017,null,null,null,null,null,1.05,-3.585965352983056E-3]
["CA - Residencial Coletivo 4 - 2 - Variavel",2.2743881767327356,null,null,2.2436021013932108,null,1.9838266073516366,null,null,null,null,null,1.98,3.8266073516366461E-3]
["CA - Residencial Coletivo 4 - 3 - Variavel",2.7242671567458046,null,null,2.6873915280424172,null,2.376231870344268,null,null,null,null,null,2.38,-3.7681296557319222E-3]
["CA - Residencial Coletivo 4 - 4 - Variavel",3.2741192434284438,null,null,3.2298008272803362,null,2.8558383028908176,null,null,null,null,null,2.86,-4.1616971091822386E-3]
["CA - Residencial Coletivo 4 - 5 - Variavel",3.4490721801001927,null,null,3.4023856043105831,null,3.0084403496101739,null,null,null,null,null,3.01,-1.5596503898258618E-3]
["CA - Residencial Coletivo 4 - 6 - Variavel",3.7989780534436903,null,null,3.7475551583710769,null,3.3136444430488874,null,null,null,null,null,3.31,3.6444430488873358E-3]
["CA - Social II - 1 - Variavel",0.49986553334785405,null,null,0.49309936294356282,null,0.4360058477695905,null,null,null,null,null,0.44,-3.9941522304094979E-3]
["CA - Social II - 2 - Variavel",1.0122277050294044,null,null,0.99852620996071473,null,0.88291184173342074,null,null,null,null,null,0.88,2.9118417334207392E-3]
["CA - Social II - 3 - Variavel",3.1866427750925692,null,null,3.1435084387652128,null,2.779537279531139,null,null,null,null,null,2.78,-4.6272046886075557E-4]
["CA - Social II - 4 - Variavel",5.4485343134916091,null,null,5.3747830560848344,null,4.7524637406885359,null,null,null,null,null,4.75,2.4637406885359425E-3]
["CA - Social II - 5 - Variavel",6.273312443515568,null,null,6.188397004941713,null,5.4718733895083602,null,null,null,null,null,5.47,1.8733895083604679E-3]
["CA - Social II - 6 - Variavel",6.8981443602003853,null,null,6.8047712086211662,null,6.0168806992203479,null,null,null,null,null,6.02,-3.1193007796517236E-3]
["CA - Social I - 1 - Variavel",0.31241595834240876,null,null,0.30818710183972675,null,0.27250365485599404,null,null,null,null,null,0.27,2.5036548559940197E-3]
["CA - Social I - 2 - Variavel",0.63732855501851382,null,null,0.62870168775304247,null,0.55590745590622781,null,null,null,null,null,0.56000000000000005,-4.0925440937722435E-3]
["CA - Social I - 3 - Variavel",2.2743881767327356,null,null,2.2436021013932108,null,1.9838266073516366,null,null,null,null,null,1.98,3.8266073516366461E-3]
["CA - Social I - 4 - Variavel",5.4485343134916091,null,null,5.3747830560848344,null,4.7524637406885359,null,null,null,null,null,4.75,2.4637406885359425E-3]
["CA - Social I - 5 - Variavel",6.273312443515568,null,null,6.188397004941713,null,5.4718733895083602,null,null,null,null,null,5.47,1.8733895083604679E-3]
["CA - Social I - 6 - Variavel",6.8981443602003853,null,null,6.8047712086211662,null,6.0168806992203479,null,null,null,null,null,6.02,-3.1193007796517236E-3]
["CA - Comercial e Serviços - 1 - Variavel",2.7617570717468931,null,null,2.7243739802631843,null,2.4089323089269872,null,null,null,null,null,2.41,-1.0676910730129663E-3]
["CA - Comercial e Serviços - 2 - Variavel",4.1363872884534914,null,null,4.0803972283579819,null,3.6079483902933611,null,null,null,null,null,3.61,-2.0516097066387573E-3]
["CA - Comercial e Serviços - 3 - Variavel",5.3735544834894311,null,null,5.3008181516433002,null,4.6870628635230975,null,null,null,null,null,4.6900000000000004,-2.9371364769028574E-3]
["CA - Comercial e Serviços - 4 - Variavel",6.4607620185210131,null,null,6.373309266045549,null,5.6353755824219567,null,null,null,null,null,5.64,-4.6244175780429941E-3]
["CA - Comercial e Serviços - 5 - Variavel",7.098090573539527,null,null,7.0020109537985915,null,6.1912830383281845,null,null,null,null,null,6.19,1.2830383281841051E-3]
["CA - Comercial e Serviços - 6 - Variavel",7.810398958560218,null,null,7.7046775459931682,null,6.8125913713998507,null,null,null,null,null,6.81,2.5913713998511057E-3]
["CA - Comercial Coletivo 1 - 1 - Variavel",2.6242940500762337,null,null,2.588771655453705,null,2.2890307007903501,null,null,null,null,null,2.29,-9.6929920964994309E-4]
["CA - Comercial Coletivo 1 - 2 - Variavel",3.7239982234415123,null,null,3.6735902539295426,null,3.248243565883449,null,null,null,null,null,3.25,-1.75643411655102E-3]
["CA - Comercial Coletivo 1 - 3 - Variavel",3.2241326900936587,null,null,3.1804908909859804,null,2.8122377181138587,null,null,null,null,null,2.81,2.2377181138586444E-3]
["CA - Comercial Coletivo 1 - 4 - Variavel",3.8739578834458683,null,null,3.8215200628126116,null,3.3790453202143262,null,null,null,null,null,3.38,-9.5467978567365108E-4]
["CA - Comercial Coletivo 1 - 5 - Variavel",3.9114477984469573,null,null,3.8585025150333787,null,3.4117457587970454,null,null,null,null,null,3.41,1.7457587970453048E-3]
["CA - Comercial Coletivo 1 - 6 - Variavel",4.2988435867915449,null,null,4.2406545213146405,null,3.7496502908184781,null,null,null,null,null,3.75,-3.4970918152188446E-4]
["CA - Comercial Coletivo 2 - 1 - Variavel",2.6242940500762337,null,null,2.588771655453705,null,2.2890307007903501,null,null,null,null,null,2.29,-9.6929920964994309E-4]
["CA - Comercial Coletivo 2 - 2 - Variavel",3.7239982234415123,null,null,3.6735902539295426,null,3.248243565883449,null,null,null,null,null,3.25,-1.75643411655102E-3]
["CA - Comercial Coletivo 2 - 3 - Variavel",3.2241326900936587,null,null,3.1804908909859804,null,2.8122377181138587,null,null,null,null,null,2.81,2.2377181138586444E-3]
["CA - Comercial Coletivo 2 - 4 - Variavel",3.8739578834458683,null,null,3.8215200628126116,null,3.3790453202143262,null,null,null,null,null,3.38,-9.5467978567365108E-4]
["CA - Comercial Coletivo 2 - 5 - Variavel",3.9114477984469573,null,null,3.8585025150333787,null,3.4117457587970454,null,null,null,null,null,3.41,1.7457587970453048E-3]
["CA - Comercial Coletivo 2 - 6 - Variavel",4.2988435867915449,null,null,4.2406545213146405,null,3.7496502908184781,null,null,null,null,null,3.75,-3.4970918152188446E-4]
["CA - Comercial Coletivo 3 - 1 - Variavel",2.6242940500762337,null,null,2.588771655453705,null,2.2890307007903501,null,null,null,null,null,2.29,-9.6929920964994309E-4]
["CA - Comercial Coletivo 3 - 2 - Variavel",3.7239982234415123,null,null,3.6735902539295426,null,3.248243565883449,null,null,null,null,null,3.25,-1.75643411655102E-3]
["CA - Comercial Coletivo 3 - 3 - Variavel",3.2241326900936587,null,null,3.1804908909859804,null,2.8122377181138587,null,null,null,null,null,2.81,2.2377181138586444E-3]
["CA - Comercial Coletivo 3 - 4 - Variavel",3.8739578834458683,null,null,3.8215200628126116,null,3.3790453202143262,null,null,null,null,null,3.38,-9.5467978567365108E-4]
["CA - Comercial Coletivo 3 - 5 - Variavel",3.9114477984469573,null,null,3.8585025150333787,null,3.4117457587970454,null,null,null,null,null,3.41,1.7457587970453048E-3]
["CA - Comercial Coletivo 3 - 6 - Variavel",4.2988435867915449,null,null,4.2406545213146405,null,3.7496502908184781,null,null,null,null,null,3.75,-3.4970918152188446E-4]
["CA - Comercial Coletivo 4 - 1 - Variavel",2.6242940500762337,null,null,2.588771655453705,null,2.2890307007903501,null,null,null,null,null,2.29,-9.6929920964994309E-4]
["CA - Comercial Coletivo 4 - 2 - Variavel",3.7239982234415123,null,null,3.6735902539295426,null,3.248243565883449,null,null,null,null,null,3.25,-1.75643411655102E-3]
["CA - Comercial Coletivo 4 - 3 - Variavel",3.2241326900936587,null,null,3.1804908909859804,null,2.8122377181138587,null,null,null,null,null,2.81,2.2377181138586444E-3]
["CA - Comercial Coletivo 4 - 4 - Variavel",3.8739578834458683,null,null,3.8215200628126116,null,3.3790453202143262,null,null,null,null,null,3.38,-9.5467978567365108E-4]
["CA - Comercial Coletivo 4 - 5 - Variavel",3.9114477984469573,null,null,3.8585025150333787,null,3.4117457587970454,null,null,null,null,null,3.41,1.7457587970453048E-3]
["CA - Comercial Coletivo 4 - 6 - Variavel",4.2988435867915449,null,null,4.2406545213146405,null,3.7496502908184781,null,null,null,null,null,3.75,-3.4970918152188446E-4]
["CA - Industrial - 1 - Variavel",3.474065456767585,null,null,3.4270405724577611,null,3.0302406419986534,null,null,null,null,null,3.03,2.4064199865359015E-4]
["CA - Industrial - 2 - Variavel",{"$f":"E579*$D$2","v":5.2235948234850742},null,null,{"$f":"G579*$H$1","v":5.1528883427602308},null,4.5562611091922198,null,null,null,null,null,4.5599999999999996,{"$f":"G579-M579","v":-3.7388908077797822E-3}]
["CA - Industrial - 3 - Variavel",6.2608158051818705,null,null,6.1760695208681229,null,5.46097324331412,null,null,null,null,null,5.46,9.7324331412007581E-4]
["CA - Industrial - 4 - Variavel",6.8856477218666887,null,null,6.7924437245475771,null,6.0059805530261086,null,null,null,null,null,6.01,-4.0194469738912275E-3]
["CA - Industrial - 5 - Variavel",7.5729628302199883,null,null,7.4704553485949763,null,6.6054885937092953,null,null,null,null,null,6.61,-4.5114062907050112E-3]
["CA - Industrial - 6 - Variavel",8.1478081935700182,null,null,8.0375196159800719,null,7.106895318644324,null,null,null,null,null,7.11,-3.1046813556763198E-3]
["CA - Poder Público - 1 - Variavel",2.8242402634153749,null,null,2.7860114006311294,null,2.4634330398981859,null,null,null,null,null,2.46,3.4330398981858856E-3]
["CA - Poder Público - 2 - Variavel",3.9489377134480463,null,null,3.8954849672541458,null,3.4444461973797647,null,null,null,null,null,3.44,4.4461973797647047E-3]
["CA - Poder Público - 3 - Variavel",5.1361183551491996,null,null,5.0665959542451073,null,4.4799600858325421,null,null,null,null,null,4.4800000000000004,-3.9914167458299232E-5]
["CA - Poder Público - 4 - Variavel",6.1608426985123002,null,null,6.0774496482794111,null,5.3737720737602022,null,null,null,null,null,5.37,3.7720737602020549E-3]
["CA - Poder Público - 5 - Variavel",6.7731779768634208,null,null,6.6814963678852752,null,5.9078792372779505,null,null,null,null,null,5.91,-2.1207627220496406E-3]
["CA - Poder Público - 6 - Variavel",7.1105872118732236,null,null,7.0143384378721807,null,6.2021831845224247,null,null,null,null,null,6.2,2.1831845224244972E-3]
["Disp - Residencial - 1 - Variavel",0.46237561834676494,null,null,0.45611691072279559,null,0.40330540918687119,null,null,null,null,null,0.4,3.3054091868711666E-3]
["Disp - Residencial - 2 - Variavel",0.92475123669352988,null,null,0.91223382144559118,null,0.80661081837374238,null,null,null,null,null,0.81,-3.3891816262576757E-3]
["Disp - Residencial - 3 - Variavel",1.6745495367153109,null,null,1.6518828658609352,null,1.460619590028128,null,null,null,null,null,1.46,6.1959002812805863E-4]
["Disp - Residencial - 4 - Variavel",1.9994621333914162,null,null,1.9723974517742513,null,1.744023391078362,null,null,null,null,null,1.74,4.0233910783620264E-3]
["Disp - Residencial - 5 - Variavel",2.2993814534001284,null,null,2.2682570695403887,null,2.0056268997401161,null,null,null,null,null,2.0099999999999998,-4.3731002598836888E-3]
["Disp - Residencial - 6 - Variavel",2.5368175817403591,null,null,2.5024792669385811,null,2.2127296774306715,null,null,null,null,null,2.21,2.7296774306715399E-3]
["Disp - Residencial Coletivo 1 - 1 - Variavel",0.43738234167937218,null,null,0.43146194257561737,null,0.38150511679839161,null,null,null,null,null,0.38,1.5051167983916036E-3]
["Disp - Residencial Coletivo 1 - 2 - Variavel",0.83727476835765546,null,null,0.82594143293046762,null,0.73030979501406401,null,null,null,null,null,0.73,3.0979501406402932E-4]
["Disp - Residencial Coletivo 1 - 3 - Variavel",0.9997310666957081,null,null,0.98619872588712565,null,0.87201169553918101,null,null,null,null,null,0.87,2.0116955391810132E-3]
["Disp - Residencial Coletivo 1 - 4 - Variavel",1.1996772800348494,null,null,1.1834384710645505,null,1.046414034647017,null,null,null,null,null,1.05,-3.585965352983056E-3]
["Disp - Residencial Coletivo 1 - 5 - Variavel",1.2621604717033312,null,null,1.245075891432496,null,1.1009147656182159,null,null,null,null,null,1.1000000000000001,9.1476561821579594E-4]
["Disp - Residencial Coletivo 1 - 6 - Variavel",1.3871268550402951,null,null,1.368350732168387,null,1.2099162275606137,null,null,null,null,null,1.21,-8.377243938628709E-5]
["Disp - Residencial Coletivo 2 - 1 - Variavel",0.43738234167937218,null,null,0.43146194257561737,null,0.38150511679839161,null,null,null,null,null,0.38,1.5051167983916036E-3]
["Disp - Residencial Coletivo 2 - 2 - Variavel",0.83727476835765546,null,null,0.82594143293046762,null,0.73030979501406401,null,null,null,null,null,0.73,3.0979501406402932E-4]
["Disp - Residencial Coletivo 2 - 3 - Variavel",0.9997310666957081,null,null,0.98619872588712565,null,0.87201169553918101,null,null,null,null,null,0.87,2.0116955391810132E-3]
["Disp - Residencial Coletivo 2 - 4 - Variavel",1.1996772800348494,null,null,1.1834384710645505,null,1.046414034647017,null,null,null,null,null,1.05,-3.585965352983056E-3]
["Disp - Residencial Coletivo 2 - 5 - Variavel",1.2621604717033312,null,null,1.245075891432496,null,1.1009147656182159,null,null,null,null,null,1.1000000000000001,9.1476561821579594E-4]
["Disp - Residencial Coletivo 2 - 6 - Variavel",1.3871268550402951,null,null,1.368350732168387,null,1.2099162275606137,null,null,null,null,null,1.21,-8.377243938628709E-5]
["Disp - Residencial Coletivo 3 - 1 - Variavel",0.43738234167937218,null,null,0.43146194257561737,null,0.38150511679839161,null,null,null,null,null,0.38,1.5051167983916036E-3]
["Disp - Residencial Coletivo 3 - 2 - Variavel",0.83727476835765546,null,null,0.82594143293046762,null,0.73030979501406401,null,null,null,null,null,0.73,3.0979501406402932E-4]
["Disp - Residencial Coletivo 3 - 3 - Variavel",0.9997310666957081,null,null,0.98619872588712565,null,0.87201169553918101,null,null,null,null,null,0.87,2.0116955391810132E-3]
["Disp - Residencial Coletivo 3 - 4 - Variavel",1.1996772800348494,null,null,1.1834384710645505,null,1.046414034647017,null,null,null,null,null,1.05,-3.585965352983056E-3]
["Disp - Residencial Coletivo 3 - 5 - Variavel",1.2621604717033312,null,null,1.245075891432496,null,1.1009147656182159,null,null,null,null,null,1.1000000000000001,9.1476561821579594E-4]
["Disp - Residencial Coletivo 3 - 6 - Variavel",1.3871268550402951,null,null,1.368350732168387,null,1.2099162275606137,null,null,null,null,null,1.21,-8.377243938628709E-5]
["Disp - Residencial Coletivo 4 - 1 - Variavel",0.43738234167937218,null,null,0.43146194257561737,null,0.38150511679839161,null,null,null,null,null,0.38,1.5051167983916036E-3]
["Disp - Residencial Coletivo 4 - 2 - Variavel",0.83727476835765546,null,null,0.82594143293046762,null,0.73030979501406401,null,null,null,null,null,0.73,3.0979501406402932E-4]
["Disp - Residencial Coletivo 4 - 3 - Variavel",0.9997310666957081,null,null,0.98619872588712565,null,0.87201169553918101,null,null,null,null,null,0.87,2.0116955391810132E-3]
["Disp - Residencial Coletivo 4 - 4 - Variavel",1.1996772800348494,null,null,1.1834384710645505,null,1.046414034647017,null,null,null,null,null,1.05,-3.585965352983056E-3]
["Disp - Residencial Coletivo 4 - 5 - Variavel",1.2621604717033312,null,null,1.245075891432496,null,1.1009147656182159,null,null,null,null,null,1.1000000000000001,9.1476561821579594E-4]
["Disp - Residencial Coletivo 4 - 6 - Variavel",1.3871268550402951,null,null,1.368350732168387,null,1.2099162275606137,null,null,null,null,null,1.21,-8.377243938628709E-5]
["Disp - Social II - 1 - Variavel",0.18744957500544523,null,null,0.18491226110383602,null,0.16350219291359641,null,null,null,null,null,0.16,3.5021929135964081E-3]
["Disp - Social II - 2 - Variavel",0.37489915001089047,null,null,0.36982452220767204,null,0.32700438582719282,null,null,null,null,null,0.33,-2.9956141728071928E-3]
["Disp - Social II - 3 - Variavel",1.1746840033674568,null,null,1.1587835029173725,null,1.0246137422585375,null,null,null,null,null,1.02,4.613742258537501E-3]
["Disp - Social II - 4 - Variavel",1.9994621333914162,null,null,1.9723974517742513,null,1.744023391078362,null,null,null,null,null,1.74,4.0233910783620264E-3]
["Disp - Social II - 5 - Variavel",2.2993814534001284,null,null,2.2682570695403887,null,2.0056268997401161,null,null,null,null,null,2.0099999999999998,-4.3731002598836888E-3]
["Disp - Social II - 6 - Variavel",2.5368175817403591,null,null,2.5024792669385811,null,2.2127296774306715,null,null,null,null,null,2.21,2.7296774306715399E-3]
["Disp - Social I - 1 - Variavel",0.11246974500326715,null,null,0.11094735666230163,null,9.810131574815785E-2,null,null,null,null,null,0.1,-1.8986842518421559E-3]
["Disp - Social I - 2 - Variavel",0.22493949000653429,null,null,0.22189471332460325,null,0.1962026314963157,null,null,null,null,null,0.2,-3.7973685036843119E-3]
["Disp - Social I - 3 - Variavel",0.83727476835765546,null,null,0.82594143293046762,null,0.73030979501406401,null,null,null,null,null,0.73,3.0979501406402932E-4]
["Disp - Social I - 4 - Variavel",1.9994621333914162,null,null,1.9723974517742513,null,1.744023391078362,null,null,null,null,null,1.74,4.0233910783620264E-3]
["Disp - Social I - 5 - Variavel",2.2993814534001284,null,null,2.2682570695403887,null,2.0056268997401161,null,null,null,null,null,2.0099999999999998,-4.3731002598836888E-3]
["Disp - Social I - 6 - Variavel",2.5368175817403591,null,null,2.5024792669385811,null,2.2127296774306715,null,null,null,null,null,2.21,2.7296774306715399E-3]
["Disp - Comercial e Serviços - 1 - Variavel",1.2621604717033312,null,null,1.245075891432496,null,1.1009147656182159,null,null,null,null,null,1.1000000000000001,9.1476561821579594E-4]
["Disp - Comercial e Serviços - 2 - Variavel",1.8994890267218452,null,null,1.8737775791855384,null,1.6568222215244437,null,null,null,null,null,1.66,-3.1777784755562255E-3]
["Disp - Comercial e Serviços - 3 - Variavel",2.4743343900718773,null,null,2.4408418465706356,null,2.1582289464594728,null,null,null,null,null,2.16,-1.771053540527312E-3]
["Disp - Comercial e Serviços - 4 - Variavel",2.9617032850860352,null,null,2.9216137254406096,null,2.5833346480348234,null,null,null,null,null,2.58,3.3346480348233065E-3]
["Disp - Comercial e Serviços - 5 - Variavel",3.2616226050947468,null,null,3.2174733432067466,null,2.8449381566965775,null,null,null,null,null,2.84,4.9381566965776003E-3]
["Disp - Comercial e Serviços - 6 - Variavel",3.5865352017708525,null,null,3.5379879291200629,null,3.1283419577468115,null,null,null,null,null,3.13,-1.6580422531884409E-3]
["Disp - Comercial Coletivo 1 - 1 - Variavel",1.1996772800348494,null,null,1.1834384710645505,null,1.046414034647017,null,null,null,null,null,1.05,-3.585965352983056E-3]
["Disp - Comercial Coletivo 1 - 2 - Variavel",1.7120394517163999,null,null,1.6888653180817026,null,1.4933200286108474,null,null,null,null,null,1.49,3.3200286108474586E-3]
["Disp - Comercial Coletivo 1 - 3 - Variavel",1.4870999617098655,null,null,1.4669706047570992,null,1.2971173971145316,null,null,null,null,null,1.3,-2.8826028854684882E-3]
["Disp - Comercial Coletivo 1 - 4 - Variavel",1.7745226433848817,null,null,1.7505027384496479,null,1.5478207595820461,null,null,null,null,null,1.55,-2.1792404179539204E-3]
["Disp - Comercial Coletivo 1 - 5 - Variavel",1.7870192817185779,null,null,1.7628302225232368,null,1.5587209057762859,null,null,null,null,null,1.56,-1.2790942237141945E-3]
["Disp - Comercial Coletivo 1 - 6 - Variavel",{"$f":"E643*$D$2","v":1.9744688567240232},null,null,{"$f":"G643*$H$1","v":1.9477424836270729},null,1.7222230986898823,null,null,null,null,null,1.72,{"$f":"G643-M643","v":2.2230986898823524E-3}]
["Disp - Comercial Coletivo 2 - 1 - Variavel",1.1996772800348494,null,null,1.1834384710645505,null,1.046414034647017,null,null,null,null,null,1.05,-3.585965352983056E-3]
["Disp - Comercial Coletivo 2 - 2 - Variavel",1.7120394517163999,null,null,1.6888653180817026,null,1.4933200286108474,null,null,null,null,null,1.49,3.3200286108474586E-3]
["Disp - Comercial Coletivo 2 - 3 - Variavel",1.4870999617098655,null,null,1.4669706047570992,null,1.2971173971145316,null,null,null,null,null,1.3,-2.8826028854684882E-3]
["Disp - Comercial Coletivo 2 - 4 - Variavel",1.7745226433848817,null,null,1.7505027384496479,null,1.5478207595820461,null,null,null,null,null,1.55,-2.1792404179539204E-3]
["Disp - Comercial Coletivo 2 - 5 - Variavel",1.7870192817185779,null,null,1.7628302225232368,null,1.5587209057762859,null,null,null,null,null,1.56,-1.2790942237141945E-3]
["Disp - Comercial Coletivo 2 - 6 - Variavel",1.9744688567240232,null,null,1.9477424836270729,null,1.7222230986898823,null,null,null,null,null,1.72,2.2230986898823524E-3]
["Disp - Comercial Coletivo 3 - 1 - Variavel",1.1996772800348494,null,null,1.1834384710645505,null,1.046414034647017,null,null,null,null,null,1.05,-3.585965352983056E-3]
["Disp - Comercial Coletivo 3 - 2 - Variavel",1.7120394517163999,null,null,1.6888653180817026,null,1.4933200286108474,null,null,null,null,null,1.49,3.3200286108474586E-3]
["Disp - Comercial Coletivo 3 - 3 - Variavel",1.4870999617098655,null,null,1.4669706047570992,null,1.2971173971145316,null,null,null,null,null,1.3,-2.8826028854684882E-3]
["Disp - Comercial Coletivo 3 - 4 - Variavel",1.7745226433848817,null,null,1.7505027384496479,null,1.5478207595820461,null,null,null,null,null,1.55,-2.1792404179539204E-3]
["Disp - Comercial Coletivo 3 - 5 - Variavel",1.7870192817185779,null,null,1.7628302225232368,null,1.5587209057762859,null,null,null,null,null,1.56,-1.2790942237141945E-3]
["Disp - Comercial Coletivo 3 - 6 - Variavel",1.9744688567240232,null,null,1.9477424836270729,null,1.7222230986898823,null,null,null,null,null,1.72,2.2230986898823524E-3]
["Disp - Comercial Coletivo 4 - 1 - Variavel",1.1996772800348494,null,null,1.1834384710645505,null,1.046414034647017,null,null,null,null,null,1.05,-3.585965352983056E-3]
["Disp - Comercial Coletivo 4 - 2 - Variavel",1.7120394517163999,null,null,1.6888653180817026,null,1.4933200286108474,null,null,null,null,null,1.49,3.3200286108474586E-3]
["Disp - Comercial Coletivo 4 - 3 - Variavel",1.4870999617098655,null,null,1.4669706047570992,null,1.2971173971145316,null,null,null,null,null,1.3,-2.8826028854684882E-3]
["Disp - Comercial Coletivo 4 - 4 - Variavel",1.7745226433848817,null,null,1.7505027384496479,null,1.5478207595820461,null,null,null,null,null,1.55,-2.1792404179539204E-3]
["Disp - Comercial Coletivo 4 - 5 - Variavel",1.7870192817185779,null,null,1.7628302225232368,null,1.5587209057762859,null,null,null,null,null,1.56,-1.2790942237141945E-3]
["Disp - Comercial Coletivo 4 - 6 - Variavel",1.9744688567240232,null,null,1.9477424836270729,null,1.7222230986898823,null,null,null,null,null,1.72,2.2230986898823524E-3]
["Disp - Industrial - 1 - Variavel",1.5995697067131327,null,null,1.5779179614194008,null,1.3952187128626894,null,null,null,null,null,1.4,-4.7812871373105192E-3]
["Disp - Industrial - 2 - Variavel",2.3993545600696988,null,null,2.3668769421291009,null,2.092828069294034,null,null,null,null,null,2.09,2.828069294034119E-3]
["Disp - Industrial - 3 - Variavel",2.8742268167501601,null,null,2.8353213369254857,null,2.5070336246751448,null,null,null,null,null,2.5099999999999998,-2.9663753248549973E-3]
["Disp - Industrial - 4 - Variavel",3.1616494984251764,null,null,3.1188534706180344,null,2.7577369871426596,null,null,null,null,null,2.76,-2.2630128573402075E-3]
["Disp - Industrial - 5 - Variavel",3.474065456767585,null,null,3.4270405724577611,null,3.0302406419986534,null,null,null,null,null,3.03,2.4064199865359015E-4]
["Disp - Industrial - 6 - Variavel",3.7364948617752085,null,null,3.6859177380031318,null,3.2591437120776887,null,null,null,null,null,3.26,-8.5628792231107198E-4]
["Disp - Poder Público - 1 - Variavel",1.2996503867044205,null,null,1.2820583436532633,null,1.1336152042009353,null,null,null,null,null,1.1299999999999999,3.6152042009354179E-3]
["Disp - Poder Público - 2 - Variavel",1.8120125583859708,null,null,1.787485190670415,null,1.5805211981647653,null,null,null,null,null,1.58,5.2119816476525749E-4]
["Disp - Poder Público - 3 - Variavel",2.3493680067349136,null,null,2.3175670058347451,null,2.049227484517075,null,null,null,null,null,2.0499999999999998,-7.7251548292478489E-4]
["Disp - Poder Público - 4 - Variavel",2.8242402634153749,null,null,2.7860114006311294,null,2.4634330398981859,null,null,null,null,null,2.46,3.4330398981858856E-3]
["Disp - Poder Público - 5 - Variavel",3.1116629450903912,null,null,3.0695435343236785,null,2.7141364023657006,null,null,null,null,null,2.71,4.1364023657006754E-3]
["Disp - Poder Público - 6 - Variavel",3.2616226050947468,null,null,3.2174733432067466,null,2.8449381566965775,null,null,null,null,null,2.84,4.9381566965776003E-3]

{"sheet":"Faixas","index":2,"n_rows":85,"n_cols":2,"rows_kept":85,"cut":false,"hidden":true,"merged":[]}
["Descrip.","Faixa"]
["Residencial - 1",10]
["Residencial - 2",15]
["Residencial - 3",20]
["Residencial - 4",30]
["Residencial - 5",50]
["Residencial - 6",999999]
["Residencial Coletivo 1 - 1",20]
["Residencial Coletivo 1 - 2",30]
["Residencial Coletivo 1 - 3",40]
["Residencial Coletivo 1 - 4",60]
["Residencial Coletivo 1 - 5",100]
["Residencial Coletivo 1 - 6",999999]
["Residencial Coletivo 2 - 1",300]
["Residencial Coletivo 2 - 2",450]
["Residencial Coletivo 2 - 3",600]
["Residencial Coletivo 2 - 4",900]
["Residencial Coletivo 2 - 5",1500]
["Residencial Coletivo 2 - 6",999999]
["Residencial Coletivo 3 - 1",790]
["Residencial Coletivo 3 - 2",1185]
["Residencial Coletivo 3 - 3",1580]
["Residencial Coletivo 3 - 4",2370]
["Residencial Coletivo 3 - 5",3950]
["Residencial Coletivo 3 - 6",999999]
["Residencial Coletivo 4 - 1",3570]
["Residencial Coletivo 4 - 2",5355]
["Residencial Coletivo 4 - 3",7140]
["Residencial Coletivo 4 - 4",10710]
["Residencial Coletivo 4 - 5",17850]
["Residencial Coletivo 4 - 6",999999]
["Social II - 1",10]
["Social II - 2",15]
["Social II - 3",20]
["Social II - 4",30]
["Social II - 5",50]
["Social II - 6",999999]
["Social I - 1",10]
["Social I - 2",15]
["Social I - 3",20]
["Social I - 4",30]
["Social I - 5",50]
["Social I - 6",999999]
["Comercial e Serviços - 1",10]
["Comercial e Serviços - 2",15]
["Comercial e Serviços - 3",20]
["Comercial e Serviços - 4",30]
["Comercial e Serviços - 5",50]
["Comercial e Serviços - 6",999999]
["Comercial Coletivo 1 - 1",20]
["Comercial Coletivo 1 - 2",30]
["Comercial Coletivo 1 - 3",40]
["Comercial Coletivo 1 - 4",60]
["Comercial Coletivo 1 - 5",100]
["Comercial Coletivo 1 - 6",999999]
["Comercial Coletivo 2 - 1",110]
["Comercial Coletivo 2 - 2",165]
["Comercial Coletivo 2 - 3",220]
["Comercial Coletivo 2 - 4",330]
["Comercial Coletivo 2 - 5",550]
["Comercial Coletivo 2 - 6",999999]
["Comercial Coletivo 3 - 1",1200]
["Comercial Coletivo 3 - 2",1800]
["Comercial Coletivo 3 - 3",2400]
["Comercial Coletivo 3 - 4",3600]
["Comercial Coletivo 3 - 5",6000]
["Comercial Coletivo 3 - 6",999999]
["Comercial Coletivo 4 - 1",2840]
["Comercial Coletivo 4 - 2",4260]
["Comercial Coletivo 4 - 3",5680]
["Comercial Coletivo 4 - 4",8520]
["Comercial Coletivo 4 - 5",14200]
["Comercial Coletivo 4 - 6",999999]
["Industrial - 1",10]
["Industrial - 2",15]
["Industrial - 3",20]
["Industrial - 4",30]
["Industrial - 5",50]
["Industrial - 6",999999]
["Poder Público - 1",10]
["Poder Público - 2",15]
["Poder Público - 3",20]
["Poder Público - 4",30]
["Poder Público - 5",50]
["Poder Público - 6",999999]

{"sheet":"TarifasVelhas","index":3,"n_rows":673,"n_cols":2,"rows_kept":673,"cut":false,"hidden":true,"merged":[]}
["Descrip.","Tarifa"]
["Agua - Residencial - 1 - Fixo",{"$f":"Tarifas!E2","v":21.707176764009173}]
["Agua - Residencial - 2 - Fixo",{"$f":"Tarifas!E3","v":25.831540349170915}]
["Agua - Residencial - 3 - Fixo",{"$f":"Tarifas!E4","v":30.739533015513388}]
["Agua - Residencial - 4 - Fixo",{"$f":"Tarifas!E5","v":36.580044288460932}]
["Agua - Residencial - 5 - Fixo",{"$f":"Tarifas!E6","v":43.530252703268509}]
["Agua - Residencial - 6 - Fixo",{"$f":"Tarifas!E7","v":51.801000716889526}]
["Agua - Residencial Coletivo 1 - 1 - Fixo",{"$f":"Tarifas!E8","v":43.414353528018346}]
["Agua - Residencial Coletivo 1 - 2 - Fixo",{"$f":"Tarifas!E9","v":51.66308069834183}]
["Agua - Residencial Coletivo 1 - 3 - Fixo",{"$f":"Tarifas!E10","v":61.479066031026775}]
["Agua - Residencial Coletivo 1 - 4 - Fixo",{"$f":"Tarifas!E11","v":73.160088576921865}]
["Agua - Residencial Coletivo 1 - 5 - Fixo",{"$f":"Tarifas!E12","v":87.060505406537018}]
["Agua - Residencial Coletivo 1 - 6 - Fixo",{"$f":"Tarifas!E13","v":103.60200143377905}]
["Agua - Residencial Coletivo 2 - 1 - Fixo",{"$f":"Tarifas!E14","v":651.21530292027524}]
["Agua - Residencial Coletivo 2 - 2 - Fixo",{"$f":"Tarifas!E15","v":774.94621047512737}]
["Agua - Residencial Coletivo 2 - 3 - Fixo",{"$f":"Tarifas!E16","v":922.18599046540146}]
["Agua - Residencial Coletivo 2 - 4 - Fixo",{"$f":"Tarifas!E17","v":1097.4013286538277}]
["Agua - Residencial Coletivo 2 - 5 - Fixo",{"$f":"Tarifas!E18","v":1305.9075810980548}]
["Agua - Residencial Coletivo 2 - 6 - Fixo",{"$f":"Tarifas!E19","v":1554.0300215066852}]
["Agua - Residencial Coletivo 3 - 1 - Fixo",{"$f":"Tarifas!E20","v":1714.866964356725}]
["Agua - Residencial Coletivo 3 - 2 - Fixo",{"$f":"Tarifas!E21","v":2040.6916875845022}]
["Agua - Residencial Coletivo 3 - 3 - Fixo",{"$f":"Tarifas!E22","v":2428.4231082255574}]
["Agua - Residencial Coletivo 3 - 4 - Fixo",{"$f":"Tarifas!E23","v":2889.8234987884139}]
["Agua - Residencial Coletivo 3 - 5 - Fixo",{"$f":"Tarifas!E24","v":3438.8899635582129}]
["Agua - Residencial Coletivo 3 - 6 - Fixo",{"$f":"Tarifas!E25","v":4092.2790566342719}]
["Agua - Residencial Coletivo 4 - 1 - Fixo",{"$f":"Tarifas!E26","v":7749.4621047512746}]
["Agua - Residencial Coletivo 4 - 2 - Fixo",{"$f":"Tarifas!E27","v":9221.8599046540166}]
["Agua - Residencial Coletivo 4 - 3 - Fixo",{"$f":"Tarifas!E28","v":10974.01328653828}]
["Agua - Residencial Coletivo 4 - 4 - Fixo",{"$f":"Tarifas!E29","v":13059.07581098055}]
["Agua - Residencial Coletivo 4 - 5 - Fixo",{"$f":"Tarifas!E30","v":15540.300215066854}]
["Agua - Residencial Coletivo 4 - 6 - Fixo",{"$f":"Tarifas!E31","v":18492.957255929556}]
["Agua - Social II - 1 - Fixo",{"$f":"Tarifas!E32","v":8.6828707056036709}]
["Agua - Social II - 2 - Fixo",{"$f":"Tarifas!E33","v":10.332616139668367}]
["Agua - Social II - 3 - Fixo",{"$f":"Tarifas!E34","v":12.295813206205356}]
["Agua - Social II - 4 - Fixo",{"$f":"Tarifas!E35","v":14.632017715384373}]
["Agua - Social II - 5 - Fixo",{"$f":"Tarifas!E36","v":17.412101081307405}]
["Agua - Social II - 6 - Fixo",{"$f":"Tarifas!E37","v":20.720400286755815}]
["Agua - Social I - 1 - Fixo",{"$f":"Tarifas!E38","v":5.4267941910022932}]
["Agua - Social I - 2 - Fixo",{"$f":"Tarifas!E39","v":6.4578850872927287}]
["Agua - Social I - 3 - Fixo",{"$f":"Tarifas!E40","v":7.6848832538783469}]
["Agua - Social I - 4 - Fixo",{"$f":"Tarifas!E41","v":9.1450110721152331}]
["Agua - Social I - 5 - Fixo",{"$f":"Tarifas!E42","v":10.882563175817127}]
["Agua - Social I - 6 - Fixo",{"$f":"Tarifas!E43","v":12.950250179222381}]
["Agua - Comercial e Serviços - 1 - Fixo",{"$f":"Tarifas!E44","v":21.707176764009173}]
["Agua - Comercial e Serviços - 2 - Fixo",{"$f":"Tarifas!E45","v":26.048612116811007}]
["Agua - Comercial e Serviços - 3 - Fixo",{"$f":"Tarifas!E46","v":32.560765146013765}]
["Agua - Comercial e Serviços - 4 - Fixo",{"$f":"Tarifas!E47","v":39.072918175216515}]
["Agua - Comercial e Serviços - 5 - Fixo",{"$f":"Tarifas!E48","v":46.887501810259813}]
["Agua - Comercial e Serviços - 6 - Fixo",{"$f":"Tarifas!E49","v":56.265002172311767}]
["Agua - Comercial Coletivo 1 - 1 - Fixo",{"$f":"Tarifas!E50","v":43.414353528018346}]
["Agua - Comercial Coletivo 1 - 2 - Fixo",{"$f":"Tarifas!E51","v":52.097224233622015}]
["Agua - Comercial Coletivo 1 - 3 - Fixo",{"$f":"Tarifas!E52","v":65.121530292027529}]
["Agua - Comercial Coletivo 1 - 4 - Fixo",{"$f":"Tarifas!E53","v":78.145836350433029}]
["Agua - Comercial Coletivo 1 - 5 - Fixo",{"$f":"Tarifas!E54","v":93.775003620519627}]
["Agua - Comercial Coletivo 1 - 6 - Fixo",{"$f":"Tarifas!E55","v":112.53000434462353}]
["Agua - Comercial Coletivo 2 - 1 - Fixo",{"$f":"Tarifas!E56","v":238.77894440410094}]
["Agua - Comercial Coletivo 2 - 2 - Fixo",{"$f":"Tarifas!E57","v":286.53473328492112}]
["Agua - Comercial Coletivo 2 - 3 - Fixo",{"$f":"Tarifas!E58","v":358.16841660615137}]
["Agua - Comercial Coletivo 2 - 4 - Fixo",{"$f":"Tarifas!E59","v":429.80209992738173}]
["Agua - Comercial Coletivo 2 - 5 - Fixo",{"$f":"Tarifas!E60","v":515.76251991285801}]
["Agua - Comercial Coletivo 2 - 6 - Fixo",{"$f":"Tarifas!E61","v":618.91502389542961}]
["Agua - Comercial Coletivo 3 - 1 - Fixo",{"$f":"Tarifas!E62","v":2604.8612116811009}]
["Agua - Comercial Coletivo 3 - 2 - Fixo",{"$f":"Tarifas!E63","v":3125.8334540173214}]
["Agua - Comercial Coletivo 3 - 3 - Fixo",{"$f":"Tarifas!E64","v":3907.2918175216514}]
["Agua - Comercial Coletivo 3 - 4 - Fixo",{"$f":"Tarifas!E65","v":4688.7501810259819}]
["Agua - Comercial Coletivo 3 - 5 - Fixo",{"$f":"Tarifas!E66","v":5626.5002172311788}]
["Agua - Comercial Coletivo 3 - 6 - Fixo",{"$f":"Tarifas!E67","v":6751.8002606774135}]
["Agua - Comercial Coletivo 4 - 1 - Fixo",{"$f":"Tarifas!E68","v":6164.8382009786046}]
["Agua - Comercial Coletivo 4 - 2 - Fixo",{"$f":"Tarifas!E69","v":7397.8058411743268}]
["Agua - Comercial Coletivo 4 - 3 - Fixo",{"$f":"Tarifas!E70","v":9247.2573014679092}]
["Agua - Comercial Coletivo 4 - 4 - Fixo",{"$f":"Tarifas!E71","v":11096.708761761489}]
["Agua - Comercial Coletivo 4 - 5 - Fixo",{"$f":"Tarifas!E72","v":13316.050514113786}]
["Agua - Comercial Coletivo 4 - 6 - Fixo",{"$f":"Tarifas!E73","v":15979.260616936544}]
["Agua - Industrial - 1 - Fixo",{"$f":"Tarifas!E74","v":47.755788880820184}]
["Agua - Industrial - 2 - Fixo",{"$f":"Tarifas!E75","v":57.306946656984216}]
["Agua - Industrial - 3 - Fixo",{"$f":"Tarifas!E76","v":68.768335988381068}]
["Agua - Industrial - 4 - Fixo",{"$f":"Tarifas!E77","v":82.522003186057276}]
["Agua - Industrial - 5 - Fixo",{"$f":"Tarifas!E78","v":94.900303663965872}]
["Agua - Industrial - 6 - Fixo",{"$f":"Tarifas!E79","v":109.13534921356074}]
["Agua - Poder Público - 1 - Fixo",{"$f":"Tarifas!E80","v":23.877894440410092}]
["Agua - Poder Público - 2 - Fixo",{"$f":"Tarifas!E81","v":28.653473328492108}]
["Agua - Poder Público - 3 - Fixo",{"$f":"Tarifas!E82","v":35.816841660615147}]
["Agua - Poder Público - 4 - Fixo",{"$f":"Tarifas!E83","v":42.980209992738168}]
["Agua - Poder Público - 5 - Fixo",{"$f":"Tarifas!E84","v":49.427241491648886}]
["Agua - Poder Público - 6 - Fixo",{"$f":"Tarifas!E85","v":56.841327715396218}]
["CAT - Residencial - 1 - Fixo",{"$f":"Tarifas!E86","v":17.369425059687}]
["CAT - Residencial - 2 - Fixo",{"$f":"Tarifas!E87","v":20.660863307335283}]
["CAT - Residencial - 3 - Fixo",{"$f":"Tarifas!E88","v":24.593330726810194}]
["CAT - Residencial - 4 - Fixo",{"$f":"Tarifas!E89","v":29.265447190700449}]
["CAT - Residencial - 5 - Fixo",{"$f":"Tarifas!E90","v":34.825142507889126}]
["CAT - Residencial - 6 - Fixo",{"$f":"Tarifas!E91","v":41.445001455406455}]
["CAT - Residencial Coletivo 1 - 1 - Fixo",{"$f":"Tarifas!E92","v":34.726522635300412}]
["CAT - Residencial Coletivo 1 - 2 - Fixo",{"$f":"Tarifas!E93","v":41.334054098744147}]
["CAT - Residencial Coletivo 1 - 3 - Fixo",{"$f":"Tarifas!E94","v":49.186661453620388}]
["CAT - Residencial Coletivo 1 - 4 - Fixo",{"$f":"Tarifas!E95","v":58.530894381400898}]
["CAT - Residencial Coletivo 1 - 5 - Fixo",{"$f":"Tarifas!E96","v":69.650285015778252}]
["CAT - Residencial Coletivo 1 - 6 - Fixo",{"$f":"Tarifas!E97","v":82.87767542673933}]
["CAT - Residencial Coletivo 2 - 1 - Fixo",{"$f":"Tarifas!E98","v":520.97180443394768}]
["CAT - Residencial Coletivo 2 - 2 - Fixo",{"$f":"Tarifas!E99","v":619.96150154486793}]
["CAT - Residencial Coletivo 2 - 3 - Fixo",{"$f":"Tarifas!E100","v":737.75061186801156}]
["CAT - Residencial Coletivo 2 - 4 - Fixo",{"$f":"Tarifas!E101","v":877.92643326879272}]
["CAT - Residencial Coletivo 2 - 5 - Fixo",{"$f":"Tarifas!E102","v":1044.7296202685263}]
["CAT - Residencial Coletivo 2 - 6 - Fixo",{"$f":"Tarifas!E103","v":1243.2267688214577}]
["CAT - Residencial Coletivo 3 - 1 - Fixo",{"$f":"Tarifas!E104","v":1371.8887200975066}]
["CAT - Residencial Coletivo 3 - 2 - Fixo",{"$f":"Tarifas!E105","v":1632.5533708335477}]
["CAT - Residencial Coletivo 3 - 3 - Fixo",{"$f":"Tarifas!E106","v":1942.7375250931959}]
["CAT - Residencial Coletivo 3 - 4 - Fixo",{"$f":"Tarifas!E107","v":2311.8593807086731}]
["CAT - Residencial Coletivo 3 - 5 - Fixo",{"$f":"Tarifas!E108","v":2751.1122932187991}]
["CAT - Residencial Coletivo 3 - 6 - Fixo",{"$f":"Tarifas!E109","v":3273.8222729071226}]
["CAT - Residencial Coletivo 4 - 1 - Fixo",{"$f":"Tarifas!E110","v":6199.5657055123856}]
["CAT - Residencial Coletivo 4 - 2 - Fixo",{"$f":"Tarifas!E111","v":7377.4937911960415}]
["CAT - Residencial Coletivo 4 - 3 - Fixo",{"$f":"Tarifas!E112","v":8779.2150227516322}]
["CAT - Residencial Coletivo 4 - 4 - Fixo",{"$f":"Tarifas!E113","v":10447.259220233043}]
["CAT - Residencial Coletivo 4 - 5 - Fixo",{"$f":"Tarifas!E114","v":12432.243033246428}]
["CAT - Residencial Coletivo 4 - 6 - Fixo",{"$f":"Tarifas!E115","v":14794.361566523126}]
["CAT - Social II - 1 - Fixo",{"$f":"Tarifas!E116","v":6.9403735334306456}]
["CAT - Social II - 2 - Fixo",{"$f":"Tarifas!E117","v":8.2717418133782665}]
["CAT - Social II - 3 - Fixo",{"$f":"Tarifas!E118","v":9.8373322907240794}]
["CAT - Social II - 4 - Fixo",{"$f":"Tarifas!E119","v":11.711109869909617}]
["CAT - Social II - 5 - Fixo",{"$f":"Tarifas!E120","v":13.93005700315565}]
["CAT - Social II - 6 - Fixo",{"$f":"Tarifas!E121","v":16.580466078977295}]
["CAT - Social I - 1 - Fixo",{"$f":"Tarifas!E122","v":4.3392743939033522}]
["CAT - Social I - 2 - Fixo",{"$f":"Tarifas!E123","v":5.1652158268338209}]
["CAT - Social I - 3 - Fixo",{"$f":"Tarifas!E124","v":6.1514145527209463}]
["CAT - Social I - 4 - Fixo",{"$f":"Tarifas!E125","v":7.3101980556383177}]
["CAT - Social I - 5 - Fixo",{"$f":"Tarifas!E126","v":8.7032037559538828}]
["CAT - Social I - 6 - Fixo",{"$f":"Tarifas!E127","v":10.35508662181482}]
["CAT - Comercial e Serviços - 1 - Fixo",{"$f":"Tarifas!E128","v":21.707176764009173}]
["CAT - Comercial e Serviços - 2 - Fixo",{"$f":"Tarifas!E129","v":26.048612116811007}]
["CAT - Comercial e Serviços - 3 - Fixo",{"$f":"Tarifas!E130","v":32.560765146013765}]
["CAT - Comercial e Serviços - 4 - Fixo",{"$f":"Tarifas!E131","v":39.072918175216515}]
["CAT - Comercial e Serviços - 5 - Fixo",{"$f":"Tarifas!E132","v":46.887501810259813}]
["CAT - Comercial e Serviços - 6 - Fixo",{"$f":"Tarifas!E133","v":56.265002172311767}]
["CAT - Comercial Coletivo 1 - 1 - Fixo",{"$f":"Tarifas!E134","v":43.414353528018346}]
["CAT - Comercial Coletivo 1 - 2 - Fixo",{"$f":"Tarifas!E135","v":52.097224233622015}]
["CAT - Comercial Coletivo 1 - 3 - Fixo",{"$f":"Tarifas!E136","v":65.121530292027529}]
["CAT - Comercial Coletivo 1 - 4 - Fixo",{"$f":"Tarifas!E137","v":78.145836350433029}]
["CAT - Comercial Coletivo 1 - 5 - Fixo",{"$f":"Tarifas!E138","v":93.775003620519627}]
["CAT - Comercial Coletivo 1 - 6 - Fixo",{"$f":"Tarifas!E139","v":112.53000434462353}]
["CAT - Comercial Coletivo 2 - 1 - Fixo",{"$f":"Tarifas!E140","v":238.77894440410094}]
["CAT - Comercial Coletivo 2 - 2 - Fixo",{"$f":"Tarifas!E141","v":286.53473328492112}]
["CAT - Comercial Coletivo 2 - 3 - Fixo",{"$f":"Tarifas!E142","v":358.16841660615137}]
["CAT - Comercial Coletivo 2 - 4 - Fixo",{"$f":"Tarifas!E143","v":429.80209992738173}]
["CAT - Comercial Coletivo 2 - 5 - Fixo",{"$f":"Tarifas!E144","v":515.76251991285801}]
["CAT - Comercial Coletivo 2 - 6 - Fixo",{"$f":"Tarifas!E145","v":618.91502389542961}]
["CAT - Comercial Coletivo 3 - 1 - Fixo",{"$f":"Tarifas!E146","v":2604.8612116811009}]
["CAT - Comercial Coletivo 3 - 2 - Fixo",{"$f":"Tarifas!E147","v":3125.8334540173214}]
["CAT - Comercial Coletivo 3 - 3 - Fixo",{"$f":"Tarifas!E148","v":3907.2918175216514}]
["CAT - Comercial Coletivo 3 - 4 - Fixo",{"$f":"Tarifas!E149","v":4688.7501810259819}]
["CAT - Comercial Coletivo 3 - 5 - Fixo",{"$f":"Tarifas!E150","v":5626.5002172311788}]
["CAT - Comercial Coletivo 3 - 6 - Fixo",{"$f":"Tarifas!E151","v":6751.8002606774135}]
["CAT - Comercial Coletivo 4 - 1 - Fixo",{"$f":"Tarifas!E152","v":6164.8382009786046}]
["CAT - Comercial Coletivo 4 - 2 - Fixo",{"$f":"Tarifas!E153","v":7397.8058411743268}]
["CAT - Comercial Coletivo 4 - 3 - Fixo",{"$f":"Tarifas!E154","v":9247.2573014679092}]
["CAT - Comercial Coletivo 4 - 4 - Fixo",{"$f":"Tarifas!E155","v":11096.708761761489}]
["CAT - Comercial Coletivo 4 - 5 - Fixo",{"$f":"Tarifas!E156","v":13316.050514113786}]
["CAT - Comercial Coletivo 4 - 6 - Fixo",{"$f":"Tarifas!E157","v":15979.260616936544}]
["CAT - Industrial - 1 - Fixo",{"$f":"Tarifas!E158","v":47.755788880820184}]
["CAT - Industrial - 2 - Fixo",{"$f":"Tarifas!E159","v":57.306946656984216}]
["CAT - Industrial - 3 - Fixo",{"$f":"Tarifas!E160","v":68.768335988381068}]
["CAT - Industrial - 4 - Fixo",{"$f":"Tarifas!E161","v":82.522003186057276}]
["CAT - Industrial - 5 - Fixo",{"$f":"Tarifas!E162","v":94.900303663965872}]
["CAT - Industrial - 6 - Fixo",{"$f":"Tarifas!E163","v":109.13534921356074}]
["CAT - Poder Público - 1 - Fixo",{"$f":"Tarifas!E164","v":23.877894440410092}]
["CAT - Poder Público - 2 - Fixo",{"$f":"Tarifas!E165","v":28.653473328492108}]
["CAT - Poder Público - 3 - Fixo",{"$f":"Tarifas!E166","v":35.816841660615147}]
["CAT - Poder Público - 4 - Fixo",{"$f":"Tarifas!E167","v":42.980209992738168}]
["CAT - Poder Público - 5 - Fixo",{"$f":"Tarifas!E168","v":49.427241491648886}]
["CAT - Poder Público - 6 - Fixo",{"$f":"Tarifas!E169","v":56.841327715396218}]
["CA - Residencial - 1 - Fixo",{"$f":"Tarifas!E170","v":13.239717895034662}]
["CA - Residencial - 2 - Fixo",{"$f":"Tarifas!E171","v":15.75452464604683}]
["CA - Residencial - 3 - Fixo",{"$f":"Tarifas!E172","v":18.750103275928975}]
["CA - Residencial - 4 - Fixo",{"$f":"Tarifas!E173","v":22.312746173196217}]
["CA - Residencial - 5 - Fixo",{"$f":"Tarifas!E174","v":26.553400694510856}]
["CA - Residencial - 6 - Fixo",{"$f":"Tarifas!E175","v":31.595341680608783}]
["CA - Residencial Coletivo 1 - 1 - Fixo",{"$f":"Tarifas!E176","v":26.479435790069324}]
["CA - Residencial Coletivo 1 - 2 - Fixo",{"$f":"Tarifas!E177","v":31.50904929209366}]
["CA - Residencial Coletivo 1 - 3 - Fixo",{"$f":"Tarifas!E178","v":37.50020655185795}]
["CA - Residencial Coletivo 1 - 4 - Fixo",{"$f":"Tarifas!E179","v":44.625492346392434}]
["CA - Residencial Coletivo 1 - 5 - Fixo",{"$f":"Tarifas!E180","v":53.106801389021712}]
["CA - Residencial Coletivo 1 - 6 - Fixo",{"$f":"Tarifas!E181","v":63.203010845291161}]
["CA - Residencial Coletivo 2 - 1 - Fixo",{"$f":"Tarifas!E182","v":397.24084678733419}]
["CA - Residencial Coletivo 2 - 2 - Fixo",{"$f":"Tarifas!E183","v":472.72203176992008}]
["CA - Residencial Coletivo 2 - 3 - Fixo",{"$f":"Tarifas!E184","v":562.52775324601646}]
["CA - Residencial Coletivo 2 - 4 - Fixo",{"$f":"Tarifas!E185","v":669.41936764810725}]
["CA - Residencial Coletivo 2 - 5 - Fixo",{"$f":"Tarifas!E186","v":796.60202083532567}]
["CA - Residencial Coletivo 2 - 6 - Fixo",{"$f":"Tarifas!E187","v":947.95887029085236}]
["CA - Residencial Coletivo 3 - 1 - Fixo",{"$f":"Tarifas!E188","v":1046.0733160325476}]
["CA - Residencial Coletivo 3 - 2 - Fixo",{"$f":"Tarifas!E189","v":1244.8170142669505}]
["CA - Residencial Coletivo 3 - 3 - Fixo",{"$f":"Tarifas!E190","v":1481.3321237028306}]
["CA - Residencial Coletivo 3 - 4 - Fixo",{"$f":"Tarifas!E191","v":1762.7932400710163}]
["CA - Residencial Coletivo 3 - 5 - Fixo",{"$f":"Tarifas!E192","v":2097.7186548663576}]
["CA - Residencial Coletivo 3 - 6 - Fixo",{"$f":"Tarifas!E193","v":2496.2908699336394}]
["CA - Residencial Coletivo 4 - 1 - Fixo",{"$f":"Tarifas!E194","v":4727.1710077629059}]
["CA - Residencial Coletivo 4 - 2 - Fixo",{"$f":"Tarifas!E195","v":5625.3391698805326}]
["CA - Residencial Coletivo 4 - 3 - Fixo",{"$f":"Tarifas!E196","v":6694.1443665447787}]
["CA - Residencial Coletivo 4 - 4 - Fixo",{"$f":"Tarifas!E197","v":7966.0325358373302}]
["CA - Residencial Coletivo 4 - 5 - Fixo",{"$f":"Tarifas!E198","v":9479.5887029085225}]
["CA - Residencial Coletivo 4 - 6 - Fixo",{"$f":"Tarifas!E199","v":11280.708090964328}]
["CA - Social II - 1 - Fixo",{"$f":"Tarifas!E200","v":5.3008181516433002}]
["CA - Social II - 2 - Fixo",{"$f":"Tarifas!E201","v":6.2993443616040148}]
["CA - Social II - 3 - Fixo",{"$f":"Tarifas!E202","v":7.4951103167421538}]
["CA - Social II - 4 - Fixo",{"$f":"Tarifas!E203","v":8.9250984692784865}]
["CA - Social II - 5 - Fixo",{"$f":"Tarifas!E204","v":10.626291271433777}]
["CA - Social II - 6 - Fixo",{"$f":"Tarifas!E205","v":12.635671175428795}]
["CA - Social I - 1 - Fixo",{"$f":"Tarifas!E206","v":3.3160932157954597}]
["CA - Social I - 2 - Fixo",{"$f":"Tarifas!E207","v":3.9447949035485026}]
["CA - Social I - 3 - Fixo",{"$f":"Tarifas!E208","v":4.684443947963846}]
["CA - Social I - 4 - Fixo",{"$f":"Tarifas!E209","v":5.584350285335848}]
["CA - Social I - 5 - Fixo",{"$f":"Tarifas!E210","v":6.6445139156645077}]
["CA - Social I - 6 - Fixo",{"$f":"Tarifas!E211","v":7.9019172911705935}]
["CA - Comercial e Serviços - 1 - Fixo",{"$f":"Tarifas!E212","v":13.239717895034662}]
["CA - Comercial e Serviços - 2 - Fixo",{"$f":"Tarifas!E213","v":15.890126970856311}]
["CA - Comercial e Serviços - 3 - Fixo",{"$f":"Tarifas!E214","v":19.859576842551991}]
["CA - Comercial e Serviços - 4 - Fixo",{"$f":"Tarifas!E215","v":23.829026714247671}]
["CA - Comercial e Serviços - 5 - Fixo",{"$f":"Tarifas!E216","v":28.59976305072664}]
["CA - Comercial e Serviços - 6 - Fixo",{"$f":"Tarifas!E217","v":34.319715660871971}]
["CA - Comercial Coletivo 1 - 1 - Fixo",{"$f":"Tarifas!E218","v":26.479435790069324}]
["CA - Comercial Coletivo 1 - 2 - Fixo",{"$f":"Tarifas!E219","v":31.780253941712623}]
["CA - Comercial Coletivo 1 - 3 - Fixo",{"$f":"Tarifas!E220","v":39.719153685103983}]
["CA - Comercial Coletivo 1 - 4 - Fixo",{"$f":"Tarifas!E221","v":47.670380912568938}]
["CA - Comercial Coletivo 1 - 5 - Fixo",{"$f":"Tarifas!E222","v":57.19952610145328}]
["CA - Comercial Coletivo 1 - 6 - Fixo",{"$f":"Tarifas!E223","v":68.639431321743942}]
["CA - Comercial Coletivo 2 - 1 - Fixo",{"$f":"Tarifas!E224","v":145.64922432945485}]
["CA - Comercial Coletivo 2 - 2 - Fixo",{"$f":"Tarifas!E225","v":174.79139667941942}]
["CA - Comercial Coletivo 2 - 3 - Fixo",{"$f":"Tarifas!E226","v":218.48000023621907}]
["CA - Comercial Coletivo 2 - 4 - Fixo",{"$f":"Tarifas!E227","v":262.18093127709233}]
["CA - Comercial Coletivo 2 - 5 - Fixo",{"$f":"Tarifas!E228","v":314.60972104206667}]
["CA - Comercial Coletivo 2 - 6 - Fixo",{"$f":"Tarifas!E229","v":377.54152723773888}]
["CA - Comercial Coletivo 3 - 1 - Fixo",{"$f":"Tarifas!E230","v":1588.9633871493368}]
["CA - Comercial Coletivo 3 - 2 - Fixo",{"$f":"Tarifas!E231","v":1906.7535990823892}]
["CA - Comercial Coletivo 3 - 3 - Fixo",{"$f":"Tarifas!E232","v":2383.445080724005}]
["CA - Comercial Coletivo 3 - 4 - Fixo",{"$f":"Tarifas!E233","v":2860.1365623656206}]
["CA - Comercial Coletivo 3 - 5 - Fixo",{"$f":"Tarifas!E234","v":3432.1688058323739}]
["CA - Comercial Coletivo 3 - 6 - Fixo",{"$f":"Tarifas!E235","v":4118.6001015020347}]
["CA - Comercial Coletivo 4 - 1 - Fixo",{"$f":"Tarifas!E236","v":3760.5483265846401}]
["CA - Comercial Coletivo 4 - 2 - Fixo",{"$f":"Tarifas!E237","v":4512.6604573983823}]
["CA - Comercial Coletivo 4 - 3 - Fixo",{"$f":"Tarifas!E238","v":5640.8224898769604}]
["CA - Comercial Coletivo 4 - 4 - Fixo",{"$f":"Tarifas!E239","v":6768.9968498396101}]
["CA - Comercial Coletivo 4 - 5 - Fixo",{"$f":"Tarifas!E240","v":8122.7888233170888}]
["CA - Comercial Coletivo 4 - 6 - Fixo",{"$f":"Tarifas!E241","v":9747.3539844709503}]
["CA - Industrial - 1 - Fixo",{"$f":"Tarifas!E242","v":29.129844865890973}]
["CA - Industrial - 2 - Fixo",{"$f":"Tarifas!E243","v":34.960744832698602}]
["CA - Industrial - 3 - Fixo",{"$f":"Tarifas!E244","v":41.950428302423603}]
["CA - Industrial - 4 - Fixo",{"$f":"Tarifas!E245","v":50.333117472464174}]
["CA - Industrial - 5 - Fixo",{"$f":"Tarifas!E246","v":57.889865209574268}]
["CA - Industrial - 6 - Fixo",{"$f":"Tarifas!E247","v":66.568413997380972}]
["CA - Poder Público - 1 - Fixo",{"$f":"Tarifas!E248","v":14.57108617498228}]
["CA - Poder Público - 2 - Fixo",{"$f":"Tarifas!E249","v":17.480372416349301}]
["CA - Poder Público - 3 - Fixo",{"$f":"Tarifas!E250","v":21.844301778399828}]
["CA - Poder Público - 4 - Fixo",{"$f":"Tarifas!E251","v":26.220558624523949}]
["CA - Poder Público - 5 - Fixo",{"$f":"Tarifas!E252","v":30.153026043998867}]
["CA - Poder Público - 6 - Fixo",{"$f":"Tarifas!E253","v":34.677212699006056}]
["Disp - Residencial - 1 - Fixo",{"$f":"Tarifas!E254","v":17.369425059687}]
["Disp - Residencial - 2 - Fixo",{"$f":"Tarifas!E255","v":20.660863307335283}]
["Disp - Residencial - 3 - Fixo",{"$f":"Tarifas!E256","v":24.593330726810194}]
["Disp - Residencial - 4 - Fixo",{"$f":"Tarifas!E257","v":29.265447190700449}]
["Disp - Residencial - 5 - Fixo",{"$f":"Tarifas!E258","v":34.825142507889126}]
["Disp - Residencial - 6 - Fixo",{"$f":"Tarifas!E259","v":41.445001455406455}]
["Disp - Residencial Coletivo 1 - 1 - Fixo",{"$f":"Tarifas!E260","v":34.726522635300412}]
["Disp - Residencial Coletivo 1 - 2 - Fixo",{"$f":"Tarifas!E261","v":41.334054098744147}]
["Disp - Residencial Coletivo 1 - 3 - Fixo",{"$f":"Tarifas!E262","v":49.186661453620388}]
["Disp - Residencial Coletivo 1 - 4 - Fixo",{"$f":"Tarifas!E263","v":58.530894381400898}]
["Disp - Residencial Coletivo 1 - 5 - Fixo",{"$f":"Tarifas!E264","v":69.650285015778252}]
["Disp - Residencial Coletivo 1 - 6 - Fixo",{"$f":"Tarifas!E265","v":82.87767542673933}]
["Disp - Residencial Coletivo 2 - 1 - Fixo",{"$f":"Tarifas!E266","v":520.97180443394768}]
["Disp - Residencial Coletivo 2 - 2 - Fixo",{"$f":"Tarifas!E267","v":619.96150154486793}]
["Disp - Residencial Coletivo 2 - 3 - Fixo",{"$f":"Tarifas!E268","v":737.75061186801156}]
["Disp - Residencial Coletivo 2 - 4 - Fixo",{"$f":"Tarifas!E269","v":877.92643326879272}]
["Disp - Residencial Coletivo 2 - 5 - Fixo",{"$f":"Tarifas!E270","v":1044.7296202685263}]
["Disp - Residencial Coletivo 2 - 6 - Fixo",{"$f":"Tarifas!E271","v":1243.2267688214577}]
["Disp - Residencial Coletivo 3 - 1 - Fixo",{"$f":"Tarifas!E272","v":1371.8887200975066}]
["Disp - Residencial Coletivo 3 - 2 - Fixo",{"$f":"Tarifas!E273","v":1632.5533708335477}]
["Disp - Residencial Coletivo 3 - 3 - Fixo",{"$f":"Tarifas!E274","v":1942.7375250931959}]
["Disp - Residencial Coletivo 3 - 4 - Fixo",{"$f":"Tarifas!E275","v":2311.8593807086731}]
["Disp - Residencial Coletivo 3 - 5 - Fixo",{"$f":"Tarifas!E276","v":2751.1122932187991}]
["Disp - Residencial Coletivo 3 - 6 - Fixo",{"$f":"Tarifas!E277","v":3273.8222729071226}]
["Disp - Residencial Coletivo 4 - 1 - Fixo",{"$f":"Tarifas!E278","v":6199.5657055123856}]
["Disp - Residencial Coletivo 4 - 2 - Fixo",{"$f":"Tarifas!E279","v":7377.4937911960415}]
["Disp - Residencial Coletivo 4 - 3 - Fixo",{"$f":"Tarifas!E280","v":8779.2150227516322}]
["Disp - Residencial Coletivo 4 - 4 - Fixo",{"$f":"Tarifas!E281","v":10447.259220233043}]
["Disp - Residencial Coletivo 4 - 5 - Fixo",{"$f":"Tarifas!E282","v":12432.243033246428}]
["Disp - Residencial Coletivo 4 - 6 - Fixo",{"$f":"Tarifas!E283","v":14794.361566523126}]
["Disp - Social II - 1 - Fixo",{"$f":"Tarifas!E284","v":6.9403735334306456}]
["Disp - Social II - 2 - Fixo",{"$f":"Tarifas!E285","v":8.2717418133782665}]
["Disp - Social II - 3 - Fixo",{"$f":"Tarifas!E286","v":9.8373322907240794}]
["Disp - Social II - 4 - Fixo",{"$f":"Tarifas!E287","v":11.711109869909617}]
["Disp - Social II - 5 - Fixo",{"$f":"Tarifas!E288","v":13.93005700315565}]
["Disp - Social II - 6 - Fixo",{"$f":"Tarifas!E289","v":16.580466078977295}]
["Disp - Social I - 1 - Fixo",{"$f":"Tarifas!E290","v":4.3392743939033522}]
["Disp - Social I - 2 - Fixo",{"$f":"Tarifas!E291","v":5.1652158268338209}]
["Disp - Social I - 3 - Fixo",{"$f":"Tarifas!E292","v":6.1514145527209463}]
["Disp - Social I - 4 - Fixo",{"$f":"Tarifas!E293","v":7.3101980556383177}]
["Disp - Social I - 5 - Fixo",{"$f":"Tarifas!E294","v":8.7032037559538828}]
["Disp - Social I - 6 - Fixo",{"$f":"Tarifas!E295","v":10.35508662181482}]
["Disp - Comercial e Serviços - 1 - Fixo",{"$f":"Tarifas!E296","v":21.707176764009173}]
["Disp - Comercial e Serviços - 2 - Fixo",{"$f":"Tarifas!E297","v":26.048612116811007}]
["Disp - Comercial e Serviços - 3 - Fixo",{"$f":"Tarifas!E298","v":32.560765146013765}]
["Disp - Comercial e Serviços - 4 - Fixo",{"$f":"Tarifas!E299","v":39.072918175216515}]
["Disp - Comercial e Serviços - 5 - Fixo",{"$f":"Tarifas!E300","v":46.887501810259813}]
["Disp - Comercial e Serviços - 6 - Fixo",{"$f":"Tarifas!E301","v":56.265002172311767}]
["Disp - Comercial Coletivo 1 - 1 - Fixo",{"$f":"Tarifas!E302","v":43.414353528018346}]
["Disp - Comercial Coletivo 1 - 2 - Fixo",{"$f":"Tarifas!E303","v":52.097224233622015}]
["Disp - Comercial Coletivo 1 - 3 - Fixo",{"$f":"Tarifas!E304","v":65.121530292027529}]
["Disp - Comercial Coletivo 1 - 4 - Fixo",{"$f":"Tarifas!E305","v":78.145836350433029}]
["Disp - Comercial Coletivo 1 - 5 - Fixo",{"$f":"Tarifas!E306","v":93.775003620519627}]
["Disp - Comercial Coletivo 1 - 6 - Fixo",{"$f":"Tarifas!E307","v":112.53000434462353}]
["Disp - Comercial Coletivo 2 - 1 - Fixo",{"$f":"Tarifas!E308","v":238.77894440410094}]
["Disp - Comercial Coletivo 2 - 2 - Fixo",{"$f":"Tarifas!E309","v":286.53473328492112}]
["Disp - Comercial Coletivo 2 - 3 - Fixo",{"$f":"Tarifas!E310","v":358.16841660615137}]
["Disp - Comercial Coletivo 2 - 4 - Fixo",{"$f":"Tarifas!E311","v":429.80209992738173}]
["Disp - Comercial Coletivo 2 - 5 - Fixo",{"$f":"Tarifas!E312","v":515.76251991285801}]
["Disp - Comercial Coletivo 2 - 6 - Fixo",{"$f":"Tarifas!E313","v":618.91502389542961}]
["Disp - Comercial Coletivo 3 - 1 - Fixo",{"$f":"Tarifas!E314","v":2604.8612116811009}]
["Disp - Comercial Coletivo 3 - 2 - Fixo",{"$f":"Tarifas!E315","v":3125.8334540173214}]
["Disp - Comercial Coletivo 3 - 3 - Fixo",{"$f":"Tarifas!E316","v":3907.2918175216514}]
["Disp - Comercial Coletivo 3 - 4 - Fixo",{"$f":"Tarifas!E317","v":4688.7501810259819}]
["Disp - Comercial Coletivo 3 - 5 - Fixo",{"$f":"Tarifas!E318","v":5626.5002172311788}]
["Disp - Comercial Coletivo 3 - 6 - Fixo",{"$f":"Tarifas!E319","v":6751.8002606774135}]
["Disp - Comercial Coletivo 4 - 1 - Fixo",{"$f":"Tarifas!E320","v":6164.8382009786046}]
["Disp - Comercial Coletivo 4 - 2 - Fixo",{"$f":"Tarifas!E321","v":7397.8058411743268}]
["Disp - Comercial Coletivo 4 - 3 - Fixo",{"$f":"Tarifas!E322","v":9247.2573014679092}]
["Disp - Comercial Coletivo 4 - 4 - Fixo",{"$f":"Tarifas!E323","v":11096.708761761489}]
["Disp - Comercial Coletivo 4 - 5 - Fixo",{"$f":"Tarifas!E324","v":13316.050514113786}]
["Disp - Comercial Coletivo 4 - 6 - Fixo",{"$f":"Tarifas!E325","v":15979.260616936544}]
["Disp - Industrial - 1 - Fixo",{"$f":"Tarifas!E326","v":47.755788880820184}]
["Disp - Industrial - 2 - Fixo",{"$f":"Tarifas!E327","v":57.306946656984216}]
["Disp - Industrial - 3 - Fixo",{"$f":"Tarifas!E328","v":68.768335988381068}]
["Disp - Industrial - 4 - Fixo",{"$f":"Tarifas!E329","v":82.522003186057276}]
["Disp - Industrial - 5 - Fixo",{"$f":"Tarifas!E330","v":94.900303663965872}]
["Disp - Industrial - 6 - Fixo",{"$f":"Tarifas!E331","v":109.13534921356074}]
["Disp - Poder Público - 1 - Fixo",{"$f":"Tarifas!E332","v":23.877894440410092}]
["Disp - Poder Público - 2 - Fixo",{"$f":"Tarifas!E333","v":28.653473328492108}]
["Disp - Poder Público - 3 - Fixo",{"$f":"Tarifas!E334","v":35.816841660615147}]
["Disp - Poder Público - 4 - Fixo",{"$f":"Tarifas!E335","v":42.980209992738168}]
["Disp - Poder Público - 5 - Fixo",{"$f":"Tarifas!E336","v":49.427241491648886}]
["Disp - Poder Público - 6 - Fixo",{"$f":"Tarifas!E337","v":56.841327715396218}]
["Agua - Residencial - 1 - Variavel",{"$f":"Tarifas!E338","v":2.0417395496881823}]
["Agua - Residencial - 2 - Variavel",{"$f":"Tarifas!E339","v":4.0834790993763646}]
["Agua - Residencial - 3 - Variavel",{"$f":"Tarifas!E340","v":7.3502623788774573}]
["Agua - Residencial - 4 - Variavel",{"$f":"Tarifas!E341","v":8.8203148546529491}]
["Agua - Residencial - 5 - Variavel",{"$f":"Tarifas!E342","v":10.143362082850889}]
["Agua - Residencial - 6 - Variavel",{"$f":"Tarifas!E343","v":11.157698291135981}]
["Agua - Residencial Coletivo 1 - 1 - Variavel",{"$f":"Tarifas!E344","v":1.9396525722037734}]
["Agua - Residencial Coletivo 1 - 2 - Variavel",{"$f":"Tarifas!E345","v":3.6751311894387286}]
["Agua - Residencial Coletivo 1 - 3 - Variavel",{"$f":"Tarifas!E346","v":4.4101574273264745}]
["Agua - Residencial Coletivo 1 - 4 - Variavel",{"$f":"Tarifas!E347","v":5.2921889127917696}]
["Agua - Residencial Coletivo 1 - 5 - Variavel",{"$f":"Tarifas!E348","v":5.5788491455679905}]
["Agua - Residencial Coletivo 1 - 6 - Variavel",{"$f":"Tarifas!E349","v":6.1367340601247902}]
["Agua - Residencial Coletivo 2 - 1 - Variavel",{"$f":"Tarifas!E350","v":1.9396525722037734}]
["Agua - Residencial Coletivo 2 - 2 - Variavel",{"$f":"Tarifas!E351","v":3.6751311894387286}]
["Agua - Residencial Coletivo 2 - 3 - Variavel",{"$f":"Tarifas!E352","v":4.4101574273264745}]
["Agua - Residencial Coletivo 2 - 4 - Variavel",{"$f":"Tarifas!E353","v":5.2921889127917696}]
["Agua - Residencial Coletivo 2 - 5 - Variavel",{"$f":"Tarifas!E354","v":5.5788491455679905}]
["Agua - Residencial Coletivo 2 - 6 - Variavel",{"$f":"Tarifas!E355","v":6.1367340601247902}]
["Agua - Residencial Coletivo 3 - 1 - Variavel",{"$f":"Tarifas!E356","v":1.9396525722037734}]
["Agua - Residencial Coletivo 3 - 2 - Variavel",{"$f":"Tarifas!E357","v":3.6751311894387286}]
["Agua - Residencial Coletivo 3 - 3 - Variavel",{"$f":"Tarifas!E358","v":4.4101574273264745}]
["Agua - Residencial Coletivo 3 - 4 - Variavel",{"$f":"Tarifas!E359","v":5.2921889127917696}]
["Agua - Residencial Coletivo 3 - 5 - Variavel",{"$f":"Tarifas!E360","v":5.5788491455679905}]
["Agua - Residencial Coletivo 3 - 6 - Variavel",{"$f":"Tarifas!E361","v":6.1367340601247902}]
["Agua - Residencial Coletivo 4 - 1 - Variavel",{"$f":"Tarifas!E362","v":1.9396525722037734}]
["Agua - Residencial Coletivo 4 - 2 - Variavel",{"$f":"Tarifas!E363","v":3.6751311894387286}]
["Agua - Residencial Coletivo 4 - 3 - Variavel",{"$f":"Tarifas!E364","v":4.4101574273264745}]
["Agua - Residencial Coletivo 4 - 4 - Variavel",{"$f":"Tarifas!E365","v":5.2921889127917696}]
["Agua - Residencial Coletivo 4 - 5 - Variavel",{"$f":"Tarifas!E366","v":5.5788491455679905}]
["Agua - Residencial Coletivo 4 - 6 - Variavel",{"$f":"Tarifas!E367","v":6.1367340601247902}]
["Agua - Social II - 1 - Variavel",{"$f":"Tarifas!E368","v":0.81669581987527307}]
["Agua - Social II - 2 - Variavel",{"$f":"Tarifas!E369","v":1.6333916397505461}]
["Agua - Social II - 3 - Variavel",{"$f":"Tarifas!E370","v":5.14518366521422}]
["Agua - Social II - 4 - Variavel",{"$f":"Tarifas!E371","v":8.8203148546529491}]
["Agua - Social II - 5 - Variavel",{"$f":"Tarifas!E372","v":10.143362082850889}]
["Agua - Social II - 6 - Variavel",{"$f":"Tarifas!E373","v":11.157698291135981}]
["Agua - Social I - 1 - Variavel",{"$f":"Tarifas!E374","v":0.51043488742204557}]
["Agua - Social I - 2 - Variavel",{"$f":"Tarifas!E375","v":1.0208697748440911}]
["Agua - Social I - 3 - Variavel",{"$f":"Tarifas!E376","v":3.6751311894387286}]
["Agua - Social I - 4 - Variavel",{"$f":"Tarifas!E377","v":8.8203148546529491}]
["Agua - Social I - 5 - Variavel",{"$f":"Tarifas!E378","v":10.143362082850889}]
["Agua - Social I - 6 - Variavel",{"$f":"Tarifas!E379","v":11.157698291135981}]
["Agua - Comercial e Serviços - 1 - Variavel",{"$f":"Tarifas!E380","v":4.4612009160686785}]
["Agua - Comercial e Serviços - 2 - Variavel",{"$f":"Tarifas!E381","v":6.6918013741030169}]
["Agua - Comercial e Serviços - 3 - Variavel",{"$f":"Tarifas!E382","v":8.6993417863339229}]
["Agua - Comercial e Serviços - 4 - Variavel",{"$f":"Tarifas!E383","v":10.439210143600707}]
["Agua - Comercial e Serviços - 5 - Variavel",{"$f":"Tarifas!E384","v":11.483131157960779}]
["Agua - Comercial e Serviços - 6 - Variavel",{"$f":"Tarifas!E385","v":12.631444273756859}]
["Agua - Comercial Coletivo 1 - 1 - Variavel",{"$f":"Tarifas!E386","v":4.2381408702652434}]
["Agua - Comercial Coletivo 1 - 2 - Variavel",{"$f":"Tarifas!E387","v":6.0226212366927152}]
["Agua - Comercial Coletivo 1 - 3 - Variavel",{"$f":"Tarifas!E388","v":5.2196050718003537}]
["Agua - Comercial Coletivo 1 - 4 - Variavel",{"$f":"Tarifas!E389","v":6.2635260861604243}]
["Agua - Comercial Coletivo 1 - 5 - Variavel",{"$f":"Tarifas!E390","v":6.3157221368784295}]
["Agua - Comercial Coletivo 1 - 6 - Variavel",{"$f":"Tarifas!E391","v":6.9472943505662732}]
["Agua - Comercial Coletivo 2 - 1 - Variavel",{"$f":"Tarifas!E392","v":4.2381408702652434}]
["Agua - Comercial Coletivo 2 - 2 - Variavel",{"$f":"Tarifas!E393","v":6.0226212366927152}]
["Agua - Comercial Coletivo 2 - 3 - Variavel",{"$f":"Tarifas!E394","v":5.2196050718003537}]
["Agua - Comercial Coletivo 2 - 4 - Variavel",{"$f":"Tarifas!E395","v":6.2635260861604243}]
["Agua - Comercial Coletivo 2 - 5 - Variavel",{"$f":"Tarifas!E396","v":6.3157221368784295}]
["Agua - Comercial Coletivo 2 - 6 - Variavel",{"$f":"Tarifas!E397","v":6.9472943505662732}]
["Agua - Comercial Coletivo 3 - 1 - Variavel",{"$f":"Tarifas!E398","v":4.2381408702652434}]
["Agua - Comercial Coletivo 3 - 2 - Variavel",{"$f":"Tarifas!E399","v":6.0226212366927152}]
["Agua - Comercial Coletivo 3 - 3 - Variavel",{"$f":"Tarifas!E400","v":5.2196050718003537}]
["Agua - Comercial Coletivo 3 - 4 - Variavel",{"$f":"Tarifas!E401","v":6.2635260861604243}]
["Agua - Comercial Coletivo 3 - 5 - Variavel",{"$f":"Tarifas!E402","v":6.3157221368784295}]
["Agua - Comercial Coletivo 3 - 6 - Variavel",{"$f":"Tarifas!E403","v":6.9472943505662732}]
["Agua - Comercial Coletivo 4 - 1 - Variavel",{"$f":"Tarifas!E404","v":4.2381408702652434}]
["Agua - Comercial Coletivo 4 - 2 - Variavel",{"$f":"Tarifas!E405","v":6.0226212366927152}]
["Agua - Comercial Coletivo 4 - 3 - Variavel",{"$f":"Tarifas!E406","v":5.2196050718003537}]
["Agua - Comercial Coletivo 4 - 4 - Variavel",{"$f":"Tarifas!E407","v":6.2635260861604243}]
["Agua - Comercial Coletivo 4 - 5 - Variavel",{"$f":"Tarifas!E408","v":6.3157221368784295}]
["Agua - Comercial Coletivo 4 - 6 - Variavel",{"$f":"Tarifas!E409","v":6.9472943505662732}]
["Agua - Industrial - 1 - Variavel",{"$f":"Tarifas!E410","v":5.6249924593909419}]
["Agua - Industrial - 2 - Variavel",{"$f":"Tarifas!E411","v":8.4374886890864147}]
["Agua - Industrial - 3 - Variavel",{"$f":"Tarifas!E412","v":10.124986426903698}]
["Agua - Industrial - 4 - Variavel",{"$f":"Tarifas!E413","v":11.137485069594069}]
["Agua - Industrial - 5 - Variavel",{"$f":"Tarifas!E414","v":12.251233576553478}]
["Agua - Industrial - 6 - Variavel",{"$f":"Tarifas!E415","v":13.170076094794988}]
["Agua - Poder Público - 1 - Variavel",{"$f":"Tarifas!E416","v":4.558183544678867}]
["Agua - Poder Público - 2 - Variavel",{"$f":"Tarifas!E417","v":6.3814569625504136}]
["Agua - Poder Público - 3 - Variavel",{"$f":"Tarifas!E418","v":8.2958940513155373}]
["Agua - Poder Público - 4 - Variavel",{"$f":"Tarifas!E419","v":9.9550728615786443}]
["Agua - Poder Público - 5 - Variavel",{"$f":"Tarifas!E420","v":10.95058014773651}]
["Agua - Poder Público - 6 - Variavel",{"$f":"Tarifas!E421","v":11.498109155123334}]
["CAT - Residencial - 1 - Variavel",{"$f":"Tarifas!E422","v":1.6395553817873463}]
["CAT - Residencial - 2 - Variavel",{"$f":"Tarifas!E423","v":3.2667832795011034}]
["CAT - Residencial - 3 - Variavel",{"$f":"Tarifas!E424","v":5.880209903101985}]
["CAT - Residencial - 4 - Variavel",{"$f":"Tarifas!E425","v":7.0513208900929474}]
["CAT - Residencial - 5 - Variavel",{"$f":"Tarifas!E426","v":8.1114845204216088}]
["CAT - Residencial - 6 - Variavel",{"$f":"Tarifas!E427","v":8.9250984692784865}]
["CAT - Residencial Coletivo 1 - 1 - Variavel",{"$f":"Tarifas!E428","v":1.5532629932722228}]
["CAT - Residencial Coletivo 1 - 2 - Variavel",{"$f":"Tarifas!E429","v":2.9339412095141983}]
["CAT - Residencial Coletivo 1 - 3 - Variavel",{"$f":"Tarifas!E430","v":3.5256604450464737}]
["CAT - Residencial Coletivo 1 - 4 - Variavel",{"$f":"Tarifas!E431","v":4.2283270372410513}]
["CAT - Residencial Coletivo 1 - 5 - Variavel",{"$f":"Tarifas!E432","v":4.4625492346392432}]
["CAT - Residencial Coletivo 1 - 6 - Variavel",{"$f":"Tarifas!E433","v":4.9063386612884496}]
["CAT - Residencial Coletivo 2 - 1 - Variavel",{"$f":"Tarifas!E434","v":1.5532629932722228}]
["CAT - Residencial Coletivo 2 - 2 - Variavel",{"$f":"Tarifas!E435","v":2.9339412095141983}]
["CAT - Residencial Coletivo 2 - 3 - Variavel",{"$f":"Tarifas!E436","v":3.5256604450464737}]
["CAT - Residencial Coletivo 2 - 4 - Variavel",{"$f":"Tarifas!E437","v":4.2283270372410513}]
["CAT - Residencial Coletivo 2 - 5 - Variavel",{"$f":"Tarifas!E438","v":4.4625492346392432}]
["CAT - Residencial Coletivo 2 - 6 - Variavel",{"$f":"Tarifas!E439","v":4.9063386612884496}]
["CAT - Residencial Coletivo 3 - 1 - Variavel",{"$f":"Tarifas!E440","v":1.5532629932722228}]
["CAT - Residencial Coletivo 3 - 2 - Variavel",{"$f":"Tarifas!E441","v":2.9339412095141983}]
["CAT - Residencial Coletivo 3 - 3 - Variavel",{"$f":"Tarifas!E442","v":3.5256604450464737}]
["CAT - Residencial Coletivo 3 - 4 - Variavel",{"$f":"Tarifas!E443","v":4.2283270372410513}]
["CAT - Residencial Coletivo 3 - 5 - Variavel",{"$f":"Tarifas!E444","v":4.4625492346392432}]
["CAT - Residencial Coletivo 3 - 6 - Variavel",{"$f":"Tarifas!E445","v":4.9063386612884496}]
["CAT - Residencial Coletivo 4 - 1 - Variavel",{"$f":"Tarifas!E446","v":1.5532629932722228}]
["CAT - Residencial Coletivo 4 - 2 - Variavel",{"$f":"Tarifas!E447","v":2.9339412095141983}]
["CAT - Residencial Coletivo 4 - 3 - Variavel",{"$f":"Tarifas!E448","v":3.5256604450464737}]
["CAT - Residencial Coletivo 4 - 4 - Variavel",{"$f":"Tarifas!E449","v":4.2283270372410513}]
["CAT - Residencial Coletivo 4 - 5 - Variavel",{"$f":"Tarifas!E450","v":4.4625492346392432}]
["CAT - Residencial Coletivo 4 - 6 - Variavel",{"$f":"Tarifas!E451","v":4.9063386612884496}]
["CAT - Social II - 1 - Variavel",{"$f":"Tarifas!E452","v":0.65335665590022074}]
["CAT - Social II - 2 - Variavel",{"$f":"Tarifas!E453","v":1.3067133118004415}]
["CAT - Social II - 3 - Variavel",{"$f":"Tarifas!E454","v":4.1173796805787495}]
["CAT - Social II - 4 - Variavel",{"$f":"Tarifas!E455","v":7.0513208900929474}]
["CAT - Social II - 5 - Variavel",{"$f":"Tarifas!E456","v":8.1114845204216088}]
["CAT - Social II - 6 - Variavel",{"$f":"Tarifas!E457","v":8.9250984692784865}]
["CAT - Social I - 1 - Variavel",{"$f":"Tarifas!E458","v":0.40680697442843933}]
["CAT - Social I - 2 - Variavel",{"$f":"Tarifas!E459","v":0.81361394885687865}]
["CAT - Social I - 3 - Variavel",{"$f":"Tarifas!E460","v":2.9339412095141983}]
["CAT - Social I - 4 - Variavel",{"$f":"Tarifas!E461","v":7.0513208900929474}]
["CAT - Social I - 5 - Variavel",{"$f":"Tarifas!E462","v":8.1114845204216088}]
["CAT - Social I - 6 - Variavel",{"$f":"Tarifas!E463","v":8.9250984692784865}]
["CAT - Comercial e Serviços - 1 - Variavel",{"$f":"Tarifas!E464","v":4.4612009160686785}]
["CAT - Comercial e Serviços - 2 - Variavel",{"$f":"Tarifas!E465","v":6.6918013741030169}]
["CAT - Comercial e Serviços - 3 - Variavel",{"$f":"Tarifas!E466","v":8.6993417863339229}]
["CAT - Comercial e Serviços - 4 - Variavel",{"$f":"Tarifas!E467","v":10.439210143600707}]
["CAT - Comercial e Serviços - 5 - Variavel",{"$f":"Tarifas!E468","v":11.483131157960779}]
["CAT - Comercial e Serviços - 6 - Variavel",{"$f":"Tarifas!E469","v":12.631444273756859}]
["CAT - Comercial Coletivo 1 - 1 - Variavel",{"$f":"Tarifas!E470","v":4.2381408702652434}]
["CAT - Comercial Coletivo 1 - 2 - Variavel",{"$f":"Tarifas!E471","v":6.0226212366927152}]
["CAT - Comercial Coletivo 1 - 3 - Variavel",{"$f":"Tarifas!E472","v":5.2196050718003537}]
["CAT - Comercial Coletivo 1 - 4 - Variavel",{"$f":"Tarifas!E473","v":6.2635260861604243}]
["CAT - Comercial Coletivo 1 - 5 - Variavel",{"$f":"Tarifas!E474","v":6.3157221368784295}]
["CAT - Comercial Coletivo 1 - 6 - Variavel",{"$f":"Tarifas!E475","v":6.9472943505662732}]
["CAT - Comercial Coletivo 2 - 1 - Variavel",{"$f":"Tarifas!E476","v":4.2381408702652434}]
["CAT - Comercial Coletivo 2 - 2 - Variavel",{"$f":"Tarifas!E477","v":6.0226212366927152}]
["CAT - Comercial Coletivo 2 - 3 - Variavel",{"$f":"Tarifas!E478","v":5.2196050718003537}]
["CAT - Comercial Coletivo 2 - 4 - Variavel",{"$f":"Tarifas!E479","v":6.2635260861604243}]
["CAT - Comercial Coletivo 2 - 5 - Variavel",{"$f":"Tarifas!E480","v":6.3157221368784295}]
["CAT - Comercial Coletivo 2 - 6 - Variavel",{"$f":"Tarifas!E481","v":6.9472943505662732}]
["CAT - Comercial Coletivo 3 - 1 - Variavel",{"$f":"Tarifas!E482","v":4.2381408702652434}]
["CAT - Comercial Coletivo 3 - 2 - Variavel",{"$f":"Tarifas!E483","v":6.0226212366927152}]
["CAT - Comercial Coletivo 3 - 3 - Variavel",{"$f":"Tarifas!E484","v":5.2196050718003537}]
["CAT - Comercial Coletivo 3 - 4 - Variavel",{"$f":"Tarifas!E485","v":6.2635260861604243}]
["CAT - Comercial Coletivo 3 - 5 - Variavel",{"$f":"Tarifas!E486","v":6.3157221368784295}]
["CAT - Comercial Coletivo 3 - 6 - Variavel",{"$f":"Tarifas!E487","v":6.9472943505662732}]
["CAT - Comercial Coletivo 4 - 1 - Variavel",{"$f":"Tarifas!E488","v":4.2381408702652434}]
["CAT - Comercial Coletivo 4 - 2 - Variavel",{"$f":"Tarifas!E489","v":6.0226212366927152}]
["CAT - Comercial Coletivo 4 - 3 - Variavel",{"$f":"Tarifas!E490","v":5.2196050718003537}]
["CAT - Comercial Coletivo 4 - 4 - Variavel",{"$f":"Tarifas!E491","v":6.2635260861604243}]
["CAT - Comercial Coletivo 4 - 5 - Variavel",{"$f":"Tarifas!E492","v":6.3157221368784295}]
["CAT - Comercial Coletivo 4 - 6 - Variavel",{"$f":"Tarifas!E493","v":6.9472943505662732}]
["CAT - Industrial - 1 - Variavel",{"$f":"Tarifas!E494","v":5.6249924593909419}]
["CAT - Industrial - 2 - Variavel",{"$f":"Tarifas!E495","v":8.4374886890864147}]
["CAT - Industrial - 3 - Variavel",{"$f":"Tarifas!E496","v":10.124986426903698}]
["CAT - Industrial - 4 - Variavel",{"$f":"Tarifas!E497","v":11.137485069594069}]
["CAT - Industrial - 5 - Variavel",{"$f":"Tarifas!E498","v":12.251233576553478}]
["CAT - Industrial - 6 - Variavel",{"$f":"Tarifas!E499","v":13.170076094794988}]
["CAT - Poder Público - 1 - Variavel",{"$f":"Tarifas!E500","v":4.558183544678867}]
["CAT - Poder Público - 2 - Variavel",{"$f":"Tarifas!E501","v":6.3814569625504136}]
["CAT - Poder Público - 3 - Variavel",{"$f":"Tarifas!E502","v":8.2958940513155373}]
["CAT - Poder Público - 4 - Variavel",{"$f":"Tarifas!E503","v":9.9550728615786443}]
["CAT - Poder Público - 5 - Variavel",{"$f":"Tarifas!E504","v":10.95058014773651}]
["CAT - Poder Público - 6 - Variavel",{"$f":"Tarifas!E505","v":11.498109155123334}]
["CA - Residencial - 1 - Variavel",{"$f":"Tarifas!E506","v":1.245075891432496}]
["CA - Residencial - 2 - Variavel",{"$f":"Tarifas!E507","v":2.4901517828649919}]
["CA - Residencial - 3 - Variavel",{"$f":"Tarifas!E508","v":4.4872042027864216}]
["CA - Residencial - 4 - Variavel",{"$f":"Tarifas!E509","v":5.3747830560848344}]
["CA - Residencial - 5 - Variavel",{"$f":"Tarifas!E510","v":6.188397004941713}]
["CA - Residencial - 6 - Variavel",{"$f":"Tarifas!E511","v":6.8047712086211662}]
["CA - Residencial Coletivo 1 - 1 - Variavel",{"$f":"Tarifas!E512","v":1.1834384710645505}]
["CA - Residencial Coletivo 1 - 2 - Variavel",{"$f":"Tarifas!E513","v":2.2436021013932108}]
["CA - Residencial Coletivo 1 - 3 - Variavel",{"$f":"Tarifas!E514","v":2.6873915280424172}]
["CA - Residencial Coletivo 1 - 4 - Variavel",{"$f":"Tarifas!E515","v":3.2298008272803362}]
["CA - Residencial Coletivo 1 - 5 - Variavel",{"$f":"Tarifas!E516","v":3.4023856043105831}]
["CA - Residencial Coletivo 1 - 6 - Variavel",{"$f":"Tarifas!E517","v":3.7475551583710769}]
["CA - Residencial Coletivo 2 - 1 - Variavel",{"$f":"Tarifas!E518","v":1.1834384710645505}]
["CA - Residencial Coletivo 2 - 2 - Variavel",{"$f":"Tarifas!E519","v":2.2436021013932108}]
["CA - Residencial Coletivo 2 - 3 - Variavel",{"$f":"Tarifas!E520","v":2.6873915280424172}]
["CA - Residencial Coletivo 2 - 4 - Variavel",{"$f":"Tarifas!E521","v":3.2298008272803362}]
["CA - Residencial Coletivo 2 - 5 - Variavel",{"$f":"Tarifas!E522","v":3.4023856043105831}]
["CA - Residencial Coletivo 2 - 6 - Variavel",{"$f":"Tarifas!E523","v":3.7475551583710769}]
["CA - Residencial Coletivo 3 - 1 - Variavel",{"$f":"Tarifas!E524","v":1.1834384710645505}]
["CA - Residencial Coletivo 3 - 2 - Variavel",{"$f":"Tarifas!E525","v":2.2436021013932108}]
["CA - Residencial Coletivo 3 - 3 - Variavel",{"$f":"Tarifas!E526","v":2.6873915280424172}]
["CA - Residencial Coletivo 3 - 4 - Variavel",{"$f":"Tarifas!E527","v":3.2298008272803362}]
["CA - Residencial Coletivo 3 - 5 - Variavel",{"$f":"Tarifas!E528","v":3.4023856043105831}]
["CA - Residencial Coletivo 3 - 6 - Variavel",{"$f":"Tarifas!E529","v":3.7475551583710769}]
["CA - Residencial Coletivo 4 - 1 - Variavel",{"$f":"Tarifas!E530","v":1.1834384710645505}]
["CA - Residencial Coletivo 4 - 2 - Variavel",{"$f":"Tarifas!E531","v":2.2436021013932108}]
["CA - Residencial Coletivo 4 - 3 - Variavel",{"$f":"Tarifas!E532","v":2.6873915280424172}]
["CA - Residencial Coletivo 4 - 4 - Variavel",{"$f":"Tarifas!E533","v":3.2298008272803362}]
["CA - Residencial Coletivo 4 - 5 - Variavel",{"$f":"Tarifas!E534","v":3.4023856043105831}]
["CA - Residencial Coletivo 4 - 6 - Variavel",{"$f":"Tarifas!E535","v":3.7475551583710769}]
["CA - Social II - 1 - Variavel",{"$f":"Tarifas!E536","v":0.49309936294356282}]
["CA - Social II - 2 - Variavel",{"$f":"Tarifas!E537","v":0.99852620996071473}]
["CA - Social II - 3 - Variavel",{"$f":"Tarifas!E538","v":3.1435084387652128}]
["CA - Social II - 4 - Variavel",{"$f":"Tarifas!E539","v":5.3747830560848344}]
["CA - Social II - 5 - Variavel",{"$f":"Tarifas!E540","v":6.188397004941713}]
["CA - Social II - 6 - Variavel",{"$f":"Tarifas!E541","v":6.8047712086211662}]
["CA - Social I - 1 - Variavel",{"$f":"Tarifas!E542","v":0.30818710183972675}]
["CA - Social I - 2 - Variavel",{"$f":"Tarifas!E543","v":0.62870168775304247}]
["CA - Social I - 3 - Variavel",{"$f":"Tarifas!E544","v":2.2436021013932108}]
["CA - Social I - 4 - Variavel",{"$f":"Tarifas!E545","v":5.3747830560848344}]
["CA - Social I - 5 - Variavel",{"$f":"Tarifas!E546","v":6.188397004941713}]
["CA - Social I - 6 - Variavel",{"$f":"Tarifas!E547","v":6.8047712086211662}]
["CA - Comercial e Serviços - 1 - Variavel",{"$f":"Tarifas!E548","v":2.7243739802631843}]
["CA - Comercial e Serviços - 2 - Variavel",{"$f":"Tarifas!E549","v":4.0803972283579819}]
["CA - Comercial e Serviços - 3 - Variavel",{"$f":"Tarifas!E550","v":5.3008181516433002}]
["CA - Comercial e Serviços - 4 - Variavel",{"$f":"Tarifas!E551","v":6.373309266045549}]
["CA - Comercial e Serviços - 5 - Variavel",{"$f":"Tarifas!E552","v":7.0020109537985915}]
["CA - Comercial e Serviços - 6 - Variavel",{"$f":"Tarifas!E553","v":7.7046775459931682}]
["CA - Comercial Coletivo 1 - 1 - Variavel",{"$f":"Tarifas!E554","v":2.588771655453705}]
["CA - Comercial Coletivo 1 - 2 - Variavel",{"$f":"Tarifas!E555","v":3.6735902539295426}]
["CA - Comercial Coletivo 1 - 3 - Variavel",{"$f":"Tarifas!E556","v":3.1804908909859804}]
["CA - Comercial Coletivo 1 - 4 - Variavel",{"$f":"Tarifas!E557","v":3.8215200628126116}]
["CA - Comercial Coletivo 1 - 5 - Variavel",{"$f":"Tarifas!E558","v":3.8585025150333787}]
["CA - Comercial Coletivo 1 - 6 - Variavel",{"$f":"Tarifas!E559","v":4.2406545213146405}]
["CA - Comercial Coletivo 2 - 1 - Variavel",{"$f":"Tarifas!E560","v":2.588771655453705}]
["CA - Comercial Coletivo 2 - 2 - Variavel",{"$f":"Tarifas!E561","v":3.6735902539295426}]
["CA - Comercial Coletivo 2 - 3 - Variavel",{"$f":"Tarifas!E562","v":3.1804908909859804}]
["CA - Comercial Coletivo 2 - 4 - Variavel",{"$f":"Tarifas!E563","v":3.8215200628126116}]
["CA - Comercial Coletivo 2 - 5 - Variavel",{"$f":"Tarifas!E564","v":3.8585025150333787}]
["CA - Comercial Coletivo 2 - 6 - Variavel",{"$f":"Tarifas!E565","v":4.2406545213146405}]
["CA - Comercial Coletivo 3 - 1 - Variavel",{"$f":"Tarifas!E566","v":2.588771655453705}]
["CA - Comercial Coletivo 3 - 2 - Variavel",{"$f":"Tarifas!E567","v":3.6735902539295426}]
["CA - Comercial Coletivo 3 - 3 - Variavel",{"$f":"Tarifas!E568","v":3.1804908909859804}]
["CA - Comercial Coletivo 3 - 4 - Variavel",{"$f":"Tarifas!E569","v":3.8215200628126116}]
["CA - Comercial Coletivo 3 - 5 - Variavel",{"$f":"Tarifas!E570","v":3.8585025150333787}]
["CA - Comercial Coletivo 3 - 6 - Variavel",{"$f":"Tarifas!E571","v":4.2406545213146405}]
["CA - Comercial Coletivo 4 - 1 - Variavel",{"$f":"Tarifas!E572","v":2.588771655453705}]
["CA - Comercial Coletivo 4 - 2 - Variavel",{"$f":"Tarifas!E573","v":3.6735902539295426}]
["CA - Comercial Coletivo 4 - 3 - Variavel",{"$f":"Tarifas!E574","v":3.1804908909859804}]
["CA - Comercial Coletivo 4 - 4 - Variavel",{"$f":"Tarifas!E575","v":3.8215200628126116}]
["CA - Comercial Coletivo 4 - 5 - Variavel",{"$f":"Tarifas!E576","v":3.8585025150333787}]
["CA - Comercial Coletivo 4 - 6 - Variavel",{"$f":"Tarifas!E577","v":4.2406545213146405}]
["CA - Industrial - 1 - Variavel",{"$f":"Tarifas!E578","v":3.4270405724577611}]
["CA - Industrial - 2 - Variavel",{"$f":"Tarifas!E579","v":5.1528883427602308}]
["CA - Industrial - 3 - Variavel",{"$f":"Tarifas!E580","v":6.1760695208681229}]
["CA - Industrial - 4 - Variavel",{"$f":"Tarifas!E581","v":6.7924437245475771}]
["CA - Industrial - 5 - Variavel",{"$f":"Tarifas!E582","v":7.4704553485949763}]
["CA - Industrial - 6 - Variavel",{"$f":"Tarifas!E583","v":8.0375196159800719}]
["CA - Poder Público - 1 - Variavel",{"$f":"Tarifas!E584","v":2.7860114006311294}]
["CA - Poder Público - 2 - Variavel",{"$f":"Tarifas!E585","v":3.8954849672541458}]
["CA - Poder Público - 3 - Variavel",{"$f":"Tarifas!E586","v":5.0665959542451073}]
["CA - Poder Público - 4 - Variavel",{"$f":"Tarifas!E587","v":6.0774496482794111}]
["CA - Poder Público - 5 - Variavel",{"$f":"Tarifas!E588","v":6.6814963678852752}]
["CA - Poder Público - 6 - Variavel",{"$f":"Tarifas!E589","v":7.0143384378721807}]
["Disp - Residencial - 1 - Variavel",{"$f":"Tarifas!E590","v":0.45611691072279559}]
["Disp - Residencial - 2 - Variavel",{"$f":"Tarifas!E591","v":0.91223382144559118}]
["Disp - Residencial - 3 - Variavel",{"$f":"Tarifas!E592","v":1.6518828658609352}]
["Disp - Residencial - 4 - Variavel",{"$f":"Tarifas!E593","v":1.9723974517742513}]
["Disp - Residencial - 5 - Variavel",{"$f":"Tarifas!E594","v":2.2682570695403887}]
["Disp - Residencial - 6 - Variavel",{"$f":"Tarifas!E595","v":2.5024792669385811}]
["Disp - Residencial Coletivo 1 - 1 - Variavel",{"$f":"Tarifas!E596","v":0.43146194257561737}]
["Disp - Residencial Coletivo 1 - 2 - Variavel",{"$f":"Tarifas!E597","v":0.82594143293046762}]
["Disp - Residencial Coletivo 1 - 3 - Variavel",{"$f":"Tarifas!E598","v":0.98619872588712565}]
["Disp - Residencial Coletivo 1 - 4 - Variavel",{"$f":"Tarifas!E599","v":1.1834384710645505}]
["Disp - Residencial Coletivo 1 - 5 - Variavel",{"$f":"Tarifas!E600","v":1.245075891432496}]
["Disp - Residencial Coletivo 1 - 6 - Variavel",{"$f":"Tarifas!E601","v":1.368350732168387}]
["Disp - Residencial Coletivo 2 - 1 - Variavel",{"$f":"Tarifas!E602","v":0.43146194257561737}]
["Disp - Residencial Coletivo 2 - 2 - Variavel",{"$f":"Tarifas!E603","v":0.82594143293046762}]
["Disp - Residencial Coletivo 2 - 3 - Variavel",{"$f":"Tarifas!E604","v":0.98619872588712565}]
["Disp - Residencial Coletivo 2 - 4 - Variavel",{"$f":"Tarifas!E605","v":1.1834384710645505}]
["Disp - Residencial Coletivo 2 - 5 - Variavel",{"$f":"Tarifas!E606","v":1.245075891432496}]
["Disp - Residencial Coletivo 2 - 6 - Variavel",{"$f":"Tarifas!E607","v":1.368350732168387}]
["Disp - Residencial Coletivo 3 - 1 - Variavel",{"$f":"Tarifas!E608","v":0.43146194257561737}]
["Disp - Residencial Coletivo 3 - 2 - Variavel",{"$f":"Tarifas!E609","v":0.82594143293046762}]
["Disp - Residencial Coletivo 3 - 3 - Variavel",{"$f":"Tarifas!E610","v":0.98619872588712565}]
["Disp - Residencial Coletivo 3 - 4 - Variavel",{"$f":"Tarifas!E611","v":1.1834384710645505}]
["Disp - Residencial Coletivo 3 - 5 - Variavel",{"$f":"Tarifas!E612","v":1.245075891432496}]
["Disp - Residencial Coletivo 3 - 6 - Variavel",{"$f":"Tarifas!E613","v":1.368350732168387}]
["Disp - Residencial Coletivo 4 - 1 - Variavel",{"$f":"Tarifas!E614","v":0.43146194257561737}]
["Disp - Residencial Coletivo 4 - 2 - Variavel",{"$f":"Tarifas!E615","v":0.82594143293046762}]
["Disp - Residencial Coletivo 4 - 3 - Variavel",{"$f":"Tarifas!E616","v":0.98619872588712565}]
["Disp - Residencial Coletivo 4 - 4 - Variavel",{"$f":"Tarifas!E617","v":1.1834384710645505}]
["Disp - Residencial Coletivo 4 - 5 - Variavel",{"$f":"Tarifas!E618","v":1.245075891432496}]
["Disp - Residencial Coletivo 4 - 6 - Variavel",{"$f":"Tarifas!E619","v":1.368350732168387}]
["Disp - Social II - 1 - Variavel",{"$f":"Tarifas!E620","v":0.18491226110383602}]
["Disp - Social II - 2 - Variavel",{"$f":"Tarifas!E621","v":0.36982452220767204}]
["Disp - Social II - 3 - Variavel",{"$f":"Tarifas!E622","v":1.1587835029173725}]
["Disp - Social II - 4 - Variavel",{"$f":"Tarifas!E623","v":1.9723974517742513}]
["Disp - Social II - 5 - Variavel",{"$f":"Tarifas!E624","v":2.2682570695403887}]
["Disp - Social II - 6 - Variavel",{"$f":"Tarifas!E625","v":2.5024792669385811}]
["Disp - Social I - 1 - Variavel",{"$f":"Tarifas!E626","v":0.11094735666230163}]
["Disp - Social I - 2 - Variavel",{"$f":"Tarifas!E627","v":0.22189471332460325}]
["Disp - Social I - 3 - Variavel",{"$f":"Tarifas!E628","v":0.82594143293046762}]
["Disp - Social I - 4 - Variavel",{"$f":"Tarifas!E629","v":1.9723974517742513}]
["Disp - Social I - 5 - Variavel",{"$f":"Tarifas!E630","v":2.2682570695403887}]
["Disp - Social I - 6 - Variavel",{"$f":"Tarifas!E631","v":2.5024792669385811}]
["Disp - Comercial e Serviços - 1 - Variavel",{"$f":"Tarifas!E632","v":1.245075891432496}]
["Disp - Comercial e Serviços - 2 - Variavel",{"$f":"Tarifas!E633","v":1.8737775791855384}]
["Disp - Comercial e Serviços - 3 - Variavel",{"$f":"Tarifas!E634","v":2.4408418465706356}]
["Disp - Comercial e Serviços - 4 - Variavel",{"$f":"Tarifas!E635","v":2.9216137254406096}]
["Disp - Comercial e Serviços - 5 - Variavel",{"$f":"Tarifas!E636","v":3.2174733432067466}]
["Disp - Comercial e Serviços - 6 - Variavel",{"$f":"Tarifas!E637","v":3.5379879291200629}]
["Disp - Comercial Coletivo 1 - 1 - Variavel",{"$f":"Tarifas!E638","v":1.1834384710645505}]
["Disp - Comercial Coletivo 1 - 2 - Variavel",{"$f":"Tarifas!E639","v":1.6888653180817026}]
["Disp - Comercial Coletivo 1 - 3 - Variavel",{"$f":"Tarifas!E640","v":1.4669706047570992}]
["Disp - Comercial Coletivo 1 - 4 - Variavel",{"$f":"Tarifas!E641","v":1.7505027384496479}]
["Disp - Comercial Coletivo 1 - 5 - Variavel",{"$f":"Tarifas!E642","v":1.7628302225232368}]
["Disp - Comercial Coletivo 1 - 6 - Variavel",{"$f":"Tarifas!E643","v":1.9477424836270729}]
["Disp - Comercial Coletivo 2 - 1 - Variavel",{"$f":"Tarifas!E644","v":1.1834384710645505}]
["Disp - Comercial Coletivo 2 - 2 - Variavel",{"$f":"Tarifas!E645","v":1.6888653180817026}]
["Disp - Comercial Coletivo 2 - 3 - Variavel",{"$f":"Tarifas!E646","v":1.4669706047570992}]
["Disp - Comercial Coletivo 2 - 4 - Variavel",{"$f":"Tarifas!E647","v":1.7505027384496479}]
["Disp - Comercial Coletivo 2 - 5 - Variavel",{"$f":"Tarifas!E648","v":1.7628302225232368}]
["Disp - Comercial Coletivo 2 - 6 - Variavel",{"$f":"Tarifas!E649","v":1.9477424836270729}]
["Disp - Comercial Coletivo 3 - 1 - Variavel",{"$f":"Tarifas!E650","v":1.1834384710645505}]
["Disp - Comercial Coletivo 3 - 2 - Variavel",{"$f":"Tarifas!E651","v":1.6888653180817026}]
["Disp - Comercial Coletivo 3 - 3 - Variavel",{"$f":"Tarifas!E652","v":1.4669706047570992}]
["Disp - Comercial Coletivo 3 - 4 - Variavel",{"$f":"Tarifas!E653","v":1.7505027384496479}]
["Disp - Comercial Coletivo 3 - 5 - Variavel",{"$f":"Tarifas!E654","v":1.7628302225232368}]
["Disp - Comercial Coletivo 3 - 6 - Variavel",{"$f":"Tarifas!E655","v":1.9477424836270729}]
["Disp - Comercial Coletivo 4 - 1 - Variavel",{"$f":"Tarifas!E656","v":1.1834384710645505}]
["Disp - Comercial Coletivo 4 - 2 - Variavel",{"$f":"Tarifas!E657","v":1.6888653180817026}]
["Disp - Comercial Coletivo 4 - 3 - Variavel",{"$f":"Tarifas!E658","v":1.4669706047570992}]
["Disp - Comercial Coletivo 4 - 4 - Variavel",{"$f":"Tarifas!E659","v":1.7505027384496479}]
["Disp - Comercial Coletivo 4 - 5 - Variavel",{"$f":"Tarifas!E660","v":1.7628302225232368}]
["Disp - Comercial Coletivo 4 - 6 - Variavel",{"$f":"Tarifas!E661","v":1.9477424836270729}]
["Disp - Industrial - 1 - Variavel",{"$f":"Tarifas!E662","v":1.5779179614194008}]
["Disp - Industrial - 2 - Variavel",{"$f":"Tarifas!E663","v":2.3668769421291009}]
["Disp - Industrial - 3 - Variavel",{"$f":"Tarifas!E664","v":2.8353213369254857}]
["Disp - Industrial - 4 - Variavel",{"$f":"Tarifas!E665","v":3.1188534706180344}]
["Disp - Industrial - 5 - Variavel",{"$f":"Tarifas!E666","v":3.4270405724577611}]
["Disp - Industrial - 6 - Variavel",{"$f":"Tarifas!E667","v":3.6859177380031318}]
["Disp - Poder Público - 1 - Variavel",{"$f":"Tarifas!E668","v":1.2820583436532633}]
["Disp - Poder Público - 2 - Variavel",{"$f":"Tarifas!E669","v":1.787485190670415}]
["Disp - Poder Público - 3 - Variavel",{"$f":"Tarifas!E670","v":2.3175670058347451}]
["Disp - Poder Público - 4 - Variavel",{"$f":"Tarifas!E671","v":2.7860114006311294}]
["Disp - Poder Público - 5 - Variavel",{"$f":"Tarifas!E672","v":3.0695435343236785}]
["Disp - Poder Público - 6 - Variavel",{"$f":"Tarifas!E673","v":3.2174733432067466}]

{"sheet":"DBresultados","index":4,"n_rows":31,"n_cols":12,"rows_kept":31,"cut":false,"hidden":true,"merged":[]}
["N°","Categoria","Sit. Esgoto","Economias","Consumo","Faixa","Fat. Atual Agua","Fat. Atual Esgoto","Fat. Velha Agua","Fat. Velha Esgoto","Fat Total Atual","Fat. Total Velha"]
[1,"Residencial","Coleta, Afastamento e Tratamento",1,10,1]
[2,"Residencial","Coleta, Afastamento e Tratamento",1,10,1]
[3,"Residencial","Coleta, Afastamento e Tratamento",1,10,1,37.29,29.86,34.799999999999997,27.84,67.150000000000006,62.64]
[4,"Residencial","Coleta, Afastamento e Tratamento",1,10,1]
[5,"Residencial","Coleta, Afastamento e Tratamento",1,10,1]
[6,"Residencial","Coleta, Afastamento e Tratamento",1,10,1]
[7,"Residencial","Coleta, Afastamento e Tratamento",1,10,1,37.29,29.86,37.29,18.100000000000001,67.150000000000006,55.39]
[8,"Residencial","Coleta, Afastamento e Tratamento",1,10,1,37.29,29.86,37.29,14.5,67.150000000000006,51.79]
[9,"Residencial","Coleta, Afastamento e Tratamento",1,10,1,37.29,29.86,37.29,1.45,67.150000000000006,38.74]
[10,"Residencial","Coleta, Afastamento e Tratamento",1,10,1,37.29,29.86,37.29,16.809999999999999,67.150000000000006,54.1]
[11,"Residencial","Coleta, Afastamento e Tratamento",1,10,1,37.29,29.86,37.29,29.86,67.150000000000006,67.150000000000006]
[12,"Residencial","Coleta, Afastamento e Tratamento",1,10,1,42.17,33.770000000000003,37.29,29.86,75.94,67.150000000000006]
[13,"Residencial","Coleta, Afastamento e Tratamento",1,10,1,42.17,33.770000000000003,37.29,29.86,75.94,67.150000000000006]
[14,"Residencial Coletivo 1 - Hidrometros Y, A, B","Coleta, Afastamento e Tratamento",10,100,5,535.67999999999995,428.49,473.68,378.89,964.17,852.57]
[15,"Residencial Coletivo 2 - Hidrometros C, D","Coleta, Afastamento e Tratamento",10,100,1,845.7,675.88,593.01,597.65,1521.58,1190.6600000000001]
[16,"Residencial Coletivo 2 - Hidrometros C, D","Coleta, Afastamento e Tratamento",10,100,1,845.7,675.88,593.01,597.65,1521.58,1190.6600000000001]
[17,"Social I","Coleta, Afastamento e Tratamento",1,10,1,10.52,8.41,9.3000000000000007,7.44,18.93,16.739999999999998]
[18,"Social II","Coleta, Afastamento e Tratamento",1,10,1,16.829999999999998,13.5,14.88,11.94,30.33,26.82]
[19,"Comercial e Serviços","Coleta, Afastamento e Tratamento",1,10,1,66.260000000000005,66.260000000000005,58.59,58.59,132.52000000000001,117.18]
[20,"Comercial Coletivo 1 - Hidrometros Y, A, B","Coleta, Afastamento e Tratamento",10,100,5,668.84,668.84,591.41999999999996,591.41999999999996,1337.67,1182.8399999999999]
[21,"Comercial Coletivo 1 - Hidrometros Y, A, B","Coleta, Afastamento e Tratamento",10,100,5,668.84,668.84,591.41999999999996,591.41999999999996,1337.67,1182.8399999999999]
[22,"Industrial","Coleta, Afastamento e Tratamento",1,10,1,103.96,103.96,91.93,91.93,207.93,183.86]
[23,"Poder Público","Coleta, Afastamento e Tratamento",1,10,1,69.45,69.45,61.41,61.41,138.9,122.82]
[24,"Residencial","Coleta, Afastamento e Tratamento",1,10,1,42.76,34.229999999999997,42.18,33.770000000000003,76.989999999999995,75.95]
[25,"Residencial","Coleta, Afastamento e Tratamento",1,10,1,42.76,34.229999999999997,42.18,33.770000000000003,76.989999999999995,75.95]
[26,"Residencial","Coleta, Afastamento e Tratamento",1,10,1,42.75,34.229999999999997,42.17,33.770000000000003,76.98,75.94]
[27,"Residencial","Coleta e Afastamento",1,10,1,42.7,26.04,42.12,25.69,68.75,67.819999999999993]
[28,"Residencial","Coleta, Afastamento e Tratamento",1,10,1,42.7,34.229999999999997,42.12,33.76,76.930000000000007,75.89]
[29,"Residencial","Coleta, Afastamento e Tratamento",1,10,1,42.7,34.229999999999997,42.12,33.76,76.930000000000007,75.89]
[30,"Residencial","Coleta, Afastamento e Tratamento",1,10,1,42.7,34.229999999999997,42.12,33.76,76.930000000000007,75.89]